BEGIN:VCALENDAR
VERSION:2.0
PRODID:-//Dancing Pono (ダンシングポノ) - ECPv6.15.12//NONSGML v1.0//EN
CALSCALE:GREGORIAN
METHOD:PUBLISH
X-WR-CALNAME:Dancing Pono (ダンシングポノ)
X-ORIGINAL-URL:https://dance.gdp22.com
X-WR-CALDESC:Dancing Pono (ダンシングポノ) のイベント
REFRESH-INTERVAL;VALUE=DURATION:PT1H
X-Robots-Tag:noindex
X-PUBLISHED-TTL:PT1H
BEGIN:VTIMEZONE
TZID:Asia/Tokyo
BEGIN:STANDARD
TZOFFSETFROM:+0900
TZOFFSETTO:+0900
TZNAME:JST
DTSTART:20240101T000000
END:STANDARD
END:VTIMEZONE
BEGIN:VEVENT
DTSTART;TZID=Asia/Tokyo:20250505T180000
DTEND;TZID=Asia/Tokyo:20250505T210000
DTSTAMP:20260423T071731
CREATED:20220525T025024Z
LAST-MODIFIED:20220525T025024Z
UID:10213719-1746468000-1746478800@dance.gdp22.com
SUMMARY:Swing & Hustle by Kyouju
DESCRIPTION:Swing & Hustle by kyouju\n　18:30-19:00 ①B-jackSwng Basicソロ（入門～初級）                  　\n    19:00-20:00 ②B-jackSwng & Hustleレッスン（初心～初級）\n　20:00-21:00 ③B-jack & EG-Husrle\n　　　　　　　 (Eligant Hustle…新しいHustle)（初心～初級）\n①¥1500(1ドリンク付）\n②or③¥2500(1ドリンク付） \n複数レッスン受講の場合\n①②¥2500(1ドリンク付）②③¥3000(1ドリンク付）\n①②③¥3500(1ドリンク付）
URL:https://dance.gdp22.com/event/swing-hustle-by-kyouju/2025-05-05/
LOCATION:日暮里サルー\, 東京都東日暮里6-60-9日暮里駅前ビル3F\, 日暮里\, 116-0014\, 日本
CATEGORIES:Swing,Hustle
END:VEVENT
BEGIN:VEVENT
DTSTART;TZID=Asia/Tokyo:20250512T180000
DTEND;TZID=Asia/Tokyo:20250512T210000
DTSTAMP:20260423T071731
CREATED:20220525T025024Z
LAST-MODIFIED:20220525T025024Z
UID:10213720-1747072800-1747083600@dance.gdp22.com
SUMMARY:Swing & Hustle by Kyouju
DESCRIPTION:Swing & Hustle by kyouju\n　18:30-19:00 ①B-jackSwng Basicソロ（入門～初級）                  　\n    19:00-20:00 ②B-jackSwng & Hustleレッスン（初心～初級）\n　20:00-21:00 ③B-jack & EG-Husrle\n　　　　　　　 (Eligant Hustle…新しいHustle)（初心～初級）\n①¥1500(1ドリンク付）\n②or③¥2500(1ドリンク付） \n複数レッスン受講の場合\n①②¥2500(1ドリンク付）②③¥3000(1ドリンク付）\n①②③¥3500(1ドリンク付）
URL:https://dance.gdp22.com/event/swing-hustle-by-kyouju/2025-05-12/
LOCATION:日暮里サルー\, 東京都東日暮里6-60-9日暮里駅前ビル3F\, 日暮里\, 116-0014\, 日本
CATEGORIES:Swing,Hustle
END:VEVENT
BEGIN:VEVENT
DTSTART;TZID=Asia/Tokyo:20250519T180000
DTEND;TZID=Asia/Tokyo:20250519T210000
DTSTAMP:20260423T071731
CREATED:20220525T025024Z
LAST-MODIFIED:20220525T025024Z
UID:10213721-1747677600-1747688400@dance.gdp22.com
SUMMARY:Swing & Hustle by Kyouju
DESCRIPTION:Swing & Hustle by kyouju\n　18:30-19:00 ①B-jackSwng Basicソロ（入門～初級）                  　\n    19:00-20:00 ②B-jackSwng & Hustleレッスン（初心～初級）\n　20:00-21:00 ③B-jack & EG-Husrle\n　　　　　　　 (Eligant Hustle…新しいHustle)（初心～初級）\n①¥1500(1ドリンク付）\n②or③¥2500(1ドリンク付） \n複数レッスン受講の場合\n①②¥2500(1ドリンク付）②③¥3000(1ドリンク付）\n①②③¥3500(1ドリンク付）
URL:https://dance.gdp22.com/event/swing-hustle-by-kyouju/2025-05-19/
LOCATION:日暮里サルー\, 東京都東日暮里6-60-9日暮里駅前ビル3F\, 日暮里\, 116-0014\, 日本
CATEGORIES:Swing,Hustle
END:VEVENT
BEGIN:VEVENT
DTSTART;TZID=Asia/Tokyo:20250526T180000
DTEND;TZID=Asia/Tokyo:20250526T210000
DTSTAMP:20260423T071731
CREATED:20220525T025024Z
LAST-MODIFIED:20220525T025024Z
UID:10213722-1748282400-1748293200@dance.gdp22.com
SUMMARY:Swing & Hustle by Kyouju
DESCRIPTION:Swing & Hustle by kyouju\n　18:30-19:00 ①B-jackSwng Basicソロ（入門～初級）                  　\n    19:00-20:00 ②B-jackSwng & Hustleレッスン（初心～初級）\n　20:00-21:00 ③B-jack & EG-Husrle\n　　　　　　　 (Eligant Hustle…新しいHustle)（初心～初級）\n①¥1500(1ドリンク付）\n②or③¥2500(1ドリンク付） \n複数レッスン受講の場合\n①②¥2500(1ドリンク付）②③¥3000(1ドリンク付）\n①②③¥3500(1ドリンク付）
URL:https://dance.gdp22.com/event/swing-hustle-by-kyouju/2025-05-26/
LOCATION:日暮里サルー\, 東京都東日暮里6-60-9日暮里駅前ビル3F\, 日暮里\, 116-0014\, 日本
CATEGORIES:Swing,Hustle
END:VEVENT
END:VCALENDAR