BEGIN:VCALENDAR
VERSION:2.0
PRODID:-//Dancing Pono (ダンシングポノ) - ECPv6.15.12//NONSGML v1.0//EN
CALSCALE:GREGORIAN
METHOD:PUBLISH
X-WR-CALNAME:Dancing Pono (ダンシングポノ)
X-ORIGINAL-URL:https://dance.gdp22.com
X-WR-CALDESC:Dancing Pono (ダンシングポノ) のイベント
REFRESH-INTERVAL;VALUE=DURATION:PT1H
X-Robots-Tag:noindex
X-PUBLISHED-TTL:PT1H
BEGIN:VTIMEZONE
TZID:Asia/Tokyo
BEGIN:STANDARD
TZOFFSETFROM:+0900
TZOFFSETTO:+0900
TZNAME:JST
DTSTART:20250101T000000
END:STANDARD
END:VTIMEZONE
BEGIN:VEVENT
DTSTART;TZID=Asia/Tokyo:20260415T200000
DTEND;TZID=Asia/Tokyo:20260415T213000
DTSTAMP:20260421T093614
CREATED:20220801T075450Z
LAST-MODIFIED:20220801T075450Z
UID:10249922-1776283200-1776288600@dance.gdp22.com
SUMMARY:HIDE's Men's Shine Team​@BUZZ
DESCRIPTION:​2年越しにHIDEのメンズシャインチームが復活！！\nサルサの魅力の一つである、男らしい、スピード感とパワフルさ、そしてリズム感溢れる\nかっこいいメンズシャインを一緒に踊りませんか？？\n半年で振付をして、その後様々なイベントや動画撮影などでパフォーマンスをしていきます。\n​メンズのサルサの踊り方を一緒にトレーニングしましょう！！👊20:00 – 21:30 (90min) \n​@BUZZ 渋谷東口SQUARE\nオンラインでの受講も可能です。​\n（オンラインはリアルタイムでなくても1週間ご覧いただけます。お仕事などで見られなかった場合は、ご相談ください。）\n月謝 ¥12\,500- / 4回\n​✴︎ 1ヶ月4回のレッスンではない月は1レッスン3125円で計算します。\n​✴︎ 別途　振り付け料 ¥5\,000-​と衣装代がかかります。\n​✴︎ オンライン受講者の料金は10\,000円 / 月４回です。\n​✴︎ 今回の企画は、申し訳ありませんが男性のみの募集となりますので、ご注意ください。
URL:https://dance.gdp22.com/event/hides-mens-shine-teambuzz/2026-04-15/
LOCATION:BUZZ  渋谷東口SQUARE\, 東京都渋谷区渋谷2-22-8 名取ビル1階\, 渋谷\, 150-0002\, 日本
CATEGORIES:振り付け・パフォーマンスクラス シャイン
END:VEVENT
BEGIN:VEVENT
DTSTART;TZID=Asia/Tokyo:20260415T193000
DTEND;TZID=Asia/Tokyo:20260415T203000
DTSTAMP:20260421T093614
CREATED:20220520T020435Z
LAST-MODIFIED:20220725T034639Z
UID:10210791-1776281400-1776285000@dance.gdp22.com
SUMMARY:Art Dance振り付けクラス (​Beginner Art Dance Closed Class)
DESCRIPTION:水曜日 Wednesday\n​19:30~20:30\nArt Dance振り付けクラス\n​Beginner Art Dance\nClosed Class
URL:https://dance.gdp22.com/event/dance-4755/2026-04-15/
LOCATION:神戸 Dance&Art Space　SORA to UMI\, 神戸市中央区中山手通3-10-5 2F\, 神戸\, 650-0004\, 日本
CATEGORIES:振り付け・パフォーマンスクラス シャイン
ORGANIZER;CN="Pedro":MAILTO:​pedrolosvalientes@gmail.com
END:VEVENT
END:VCALENDAR