BEGIN:VCALENDAR
VERSION:2.0
PRODID:-//Dancing Pono (ダンシングポノ) - ECPv6.15.12//NONSGML v1.0//EN
CALSCALE:GREGORIAN
METHOD:PUBLISH
X-WR-CALNAME:Dancing Pono (ダンシングポノ)
X-ORIGINAL-URL:https://dance.gdp22.com
X-WR-CALDESC:Dancing Pono (ダンシングポノ) のイベント
REFRESH-INTERVAL;VALUE=DURATION:PT1H
X-Robots-Tag:noindex
X-PUBLISHED-TTL:PT1H
BEGIN:VTIMEZONE
TZID:Asia/Tokyo
BEGIN:STANDARD
TZOFFSETFROM:+0900
TZOFFSETTO:+0900
TZNAME:JST
DTSTART:20240101T000000
END:STANDARD
END:VTIMEZONE
BEGIN:VEVENT
DTSTART;TZID=Asia/Tokyo:20250316T123000
DTEND;TZID=Asia/Tokyo:20250316T143000
DTSTAMP:20260421T073449
CREATED:20220801T083529Z
LAST-MODIFIED:20241216T125849Z
UID:10175411-1742128200-1742135400@dance.gdp22.com
SUMMARY:HIDE & PEKO Salsa Pair Team (毎週日曜)
DESCRIPTION:SALSA PERFORMANCE TEAM\n\n＊今回の募集ジャンルは、Salsa On2 (NYスタイル)です。\n\n＊ 活動日は \n   毎週日曜日 12:00 -14:00 \n   毎週木曜日 20:00 -21:00 \n  ​＊ チームの活動周期は1年間を予定しております。（場合によっては、短くなったり長くなったりする可能性もございます。何かご都合がある方はご相談ください。）\n＊​ 料金形態は月謝制になります。\n１レッスン1.5h × 4回で12500円になります。（場合によってはレッスン時間の変更により料金が変わる可能性もあります。その際はアナウンスさせて頂きます。）\n​＊1作品に一度5000円の振り付け料がかかります。\n​＊５週ある月は一週間お休みとし、月４回のレッスンとなります。\n＊月謝は月初めのレッスンお支払いお願いいたします。​\n＊生徒さんのご都合でお休みされた場合、返金は致しかねますのでご了承ください。​​\n＊衣装代に関しましては、デザインにもよりますが、35000円前後を予定しております。\n​＊活動場所は渋谷のスタジオの予定です。 \n\n\n\n　HIDE & PEKOからのお願い　 \n\n\n​＊ レッスンをなるべくお休みしない様にしてください。\n​＊ 他のチームメンバーに迷惑がかからない様に、振り付けを覚えてくる努力をお願いします。 \n\n　チーム参加資格\n\n​＊ やる気のある方。\n​＊ 集団行動のできる方。\n​＊ 他のメンバーに迷惑がかからない様、最低限の努力ができる方。何か問題がある場合、辞めていただくこともございます。\n＊​ サルサのフリースタイルを一曲こなすことができる方。あるいは、他ジャンルでもダンス経験が１年以上ある方。 \n  \n\nHIDE & PEKOが振り付け、指導をするパフォーマンスチームの新規メンバーを募集します！！ \nヒデペコのチームでパフォーマンスをしたい方、スキルを身につけたい方、国内・海外でのステージに立ちたい方にオススメです✨ \n​今回は、新しくチームを作り、振付と共にHIDE & PEKOのパフォーマンスに必要なスキルやベースを身に着けつつ、今後より大きくステップアップした振付にチャレンジできるための経験と下地を作っていきます。 \nレベルに関しては、ビギナー、中級、上級と簡単なステップやペアワークをこなせる方であれば、パフォーマンス未経験者からプロレベルの方まで募集いたします。 \n​大体の活動期間ですが、全部で１年間を予定しております。振り入れを開始して約半年間でパフォーマンスが出来る状態に持っていき、残りの半年間でパフォーマンスを行います。国内でのイベントや希望者は海外のイベントに出演出来る様指導していきます。 \n​現在はコロナウイルスの影響でなかなかパフォーマンスを披露する場は少ないですが、カンパニー内でのお披露目や動画撮影会なども行っていきます。メンバーと一緒に、充実したパフォーマンスチームで過ごしていきましょう！！ \n​皆様のご応募をお待ちしております！ \n​​ペアチームは現在も随時メンバーを募集しております。チーム所属ご希望の方は、他のクラス「マスタークラス 」や「ワークショップ」などに一度お越しいただき、講師にご相談ください。
URL:https://dance.gdp22.com/event/hide-pekothursday-sunday-salsa-pair-team/2025-03-16/
CATEGORIES:サルサon2,振り付け・パフォーマンスクラス ペア,クローズドクラス（完全予約・期間限定）
END:VEVENT
END:VCALENDAR