BEGIN:VCALENDAR
VERSION:2.0
PRODID:-//Dancing Pono (ダンシングポノ) - ECPv6.15.12//NONSGML v1.0//EN
CALSCALE:GREGORIAN
METHOD:PUBLISH
X-WR-CALNAME:Dancing Pono (ダンシングポノ)
X-ORIGINAL-URL:https://dance.gdp22.com
X-WR-CALDESC:Dancing Pono (ダンシングポノ) のイベント
REFRESH-INTERVAL;VALUE=DURATION:PT1H
X-Robots-Tag:noindex
X-PUBLISHED-TTL:PT1H
BEGIN:VTIMEZONE
TZID:Asia/Tokyo
BEGIN:STANDARD
TZOFFSETFROM:+0900
TZOFFSETTO:+0900
TZNAME:JST
DTSTART:20250101T000000
END:STANDARD
END:VTIMEZONE
BEGIN:VEVENT
DTSTART;TZID=Asia/Tokyo:20260426T140000
DTEND;TZID=Asia/Tokyo:20260426T150000
DTSTAMP:20260421T073204
CREATED:20220603T010334Z
LAST-MODIFIED:20220729T014121Z
UID:10216068-1777212000-1777215600@dance.gdp22.com
SUMMARY:スタジオレオンBオープンクラス ダンス基礎 (ベーシック・ムーヴメント) by SHINJI
DESCRIPTION:“日曜日”週末にまとめてサルサ&バチャータを\nカリキュラム方式で集中的にマスターしましょう!\nオープンクラス　ルームB\nダンス基礎　SHINJI\n(ベーシック・ムーヴメント)\n1 Lesson ¥2\,000-\n2 Lesson ¥3\,500-\n3 Lesson ¥4\,000- \n  \nSHINJI\nShinji\nシンジ
URL:https://dance.gdp22.com/event/dance-6578/2026-04-26/
LOCATION:新宿スタジオレオン(2F)\, 東京都新宿区新宿 5-17-6　2F\, 新宿\, 160-0022\, 日本
CATEGORIES:オープンクラス
END:VEVENT
BEGIN:VEVENT
DTSTART;TZID=Asia/Tokyo:20260427T193000
DTEND;TZID=Asia/Tokyo:20260427T213000
DTSTAMP:20260421T073204
CREATED:20250409T082904Z
LAST-MODIFIED:20250409T083255Z
UID:10280934-1777318200-1777325400@dance.gdp22.com
SUMMARY:センシュアルバチャータ クローズドレッスン
DESCRIPTION:新しい振付につきパチャータ好きのメンバーを大募集！ 曲は Grupo Frontera ft Romeo Santosで踊ります。 ロマンティックな曲に合わせて、リード＆フォローで2時間みっちり踊り込みます。 Studio Worcle新宿で毎週月曜開催中。 期間中いつから始めてもOK！ 体験レッスンもやってるので、1人でも気軽に参加してね。 予約はメールかLineQRコードから Mail☆>dhkspyder@gmail.com バチャータ初中級者 月2回以上通える方 体験有り1500円/ 1H 途中から参加もOK !! 期間4/7~6/30 週１回３ヶ月 1レッスン3\,200円 １曲踊れるようになる!
URL:https://dance.gdp22.com/event/dance-92514/2026-04-27/
LOCATION:新宿ワークル\, 東京都新宿区西新宿７丁目１６−７ 第２１フジビル\, 新宿\, 〒160-0023\, 日本
CATEGORIES:センシュアルバチャータ,オープンクラス,ダンスレッスン全般
ATTACH;FMTTYPE=image/jpeg:https://dance.gdp22.com/wp-content/uploads/danny-closed_490216166_9181485865307123_7127082582288414860_n.jpg
ORGANIZER;CN="Danny%EF%BC%88%E3%83%80%E3%83%8B%E3%83%BC%EF%BC%89":MAILTO:DHKSPYDER@gmail.com
END:VEVENT
BEGIN:VEVENT
DTSTART;TZID=Asia/Tokyo:20260515T190000
DTEND;TZID=Asia/Tokyo:20260515T200000
DTSTAMP:20260421T073204
CREATED:20220525T022121Z
LAST-MODIFIED:20220727T023118Z
UID:10222270-1778871600-1778875200@dance.gdp22.com
SUMMARY:Bacata By Kaori（Asistant Victor)
DESCRIPTION:💚KAORI💚\n✨レッスンスケジュール✨ \n⭕オープンクラス\n毎月第3金曜日\n六本木El Cafe Latino\nVictor&Kaori\n19:00〜Bachata\n20:00〜Salsa\n21:00〜Dj Time \nEntrance Fee ¥1000（1d🍹）\n2Lesson ¥3000\n1Lesson ¥2000 \n🙌毎月、楽しいメンバーが集まっています🤩✨\n是非お待ちしています🥰 \nいつも踊っているルーティーンが更にスムースに気持ちよく繋がるリード、それに答えるフォロワー！\nソーシャルで最も重要となる部分をレッスンいたします。\nこれまでに無いようなスタイリッシュなBachataとSalsaのレッスンです☆\nこんなレッスンをしたかった!!!\nペアのコネクションから繋がるムーブメント!!!\nリーダーからも、フォロワーからも\n仕掛けるソーシャル力を皆さんにインプットします✨✨✨\nそのあとはソーシャルタイムです♫\n美味しいカクテル、ドリンクで\n素敵な夜をお過ごしくださいませ♡
URL:https://dance.gdp22.com/event/dance-4938/2026-05-15/
LOCATION:六本木エルカフェラティーノ （El Cafe Latino）\, 東京都港区六本木3-15-24 ＷＩＮ六本木\, 六本木\, 106-0032\, 日本
CATEGORIES:オープンクラス
ATTACH;FMTTYPE=image/jpeg:https://dance.gdp22.com/wp-content/uploads/279897595_5336633169728605_9147912664080644101_n.jpg
END:VEVENT
END:VCALENDAR