BEGIN:VCALENDAR
VERSION:2.0
PRODID:-//Dancing Pono (ダンシングポノ) - ECPv6.15.12//NONSGML v1.0//EN
CALSCALE:GREGORIAN
METHOD:PUBLISH
X-WR-CALNAME:Dancing Pono (ダンシングポノ)
X-ORIGINAL-URL:https://dance.gdp22.com
X-WR-CALDESC:Dancing Pono (ダンシングポノ) のイベント
REFRESH-INTERVAL;VALUE=DURATION:PT1H
X-Robots-Tag:noindex
X-PUBLISHED-TTL:PT1H
BEGIN:VTIMEZONE
TZID:Asia/Tokyo
BEGIN:STANDARD
TZOFFSETFROM:+0900
TZOFFSETTO:+0900
TZNAME:JST
DTSTART:20220101T000000
END:STANDARD
END:VTIMEZONE
BEGIN:VEVENT
DTSTART;TZID=Asia/Tokyo:20260416T194500
DTEND;TZID=Asia/Tokyo:20260416T210000
DTSTAMP:20260421T121835
CREATED:20250426T084811Z
LAST-MODIFIED:20250426T084811Z
UID:10283197-1776368700-1776373200@dance.gdp22.com
SUMMARY:SON CUBANO
DESCRIPTION:19:45～21:00\n￥1\,100\n今月から久しぶりのSONです。\n古きよき美しいキューバ音楽ソンをエレガントに\n躍れるようにレッスンしましょう
URL:https://dance.gdp22.com/event/dance-31372-2/2026-04-16/
LOCATION:Dance&Dining桜井通り（熊本）\, 熊本県熊本市中央区上通町5-10桜井ビル4F\, 熊本\, 860-0845
CATEGORIES:ソンギター・トレス,ソーシャル,カシーノスタイル,サルサ全般
END:VEVENT
BEGIN:VEVENT
DTSTART;TZID=Asia/Tokyo:20260412T170000
DTEND;TZID=Asia/Tokyo:20260412T183000
DTSTAMP:20260421T121835
CREATED:20220718T032426Z
LAST-MODIFIED:20220718T032426Z
UID:10234371-1776013200-1776018600@dance.gdp22.com
SUMMARY:ソンギター・トレス入門講座 By 末永雄三
DESCRIPTION:ブエナビスタソシアルクラブなどでおなじみ、\n今でも愛され続けているキューバの伝統的音楽、ソン\nあなたもソンの名曲をギターやトレスで弾いてみませんか？ \n＜＜　ソンギター・トレス入門講座　＞＞\n【日付】 毎月第2日曜日\n【時刻】 17:00-18:30\n【講師】 末永　雄三\n【会場】 銀座ラス・リサス\n【住所】 東京都中央区銀座8-12-6　小野商ビルB1F\n【Tel】   03-3541-3303\n【料金】 ￥2\,500 １ドリンク付\n【楽器について】\n　原則として、ギター、トレスとも持ち込みお願い致します。\n　トレス購入希望の方は別途ご相談をさせていただきます。 \n※要予約　
URL:https://dance.gdp22.com/event/dance-14830/2026-04-12/
LOCATION:銀座ラス・リサス\, 東京都中央区銀座8-12-6 小野商ビルB1F\, 銀座\, 104-0061\, 日本
CATEGORIES:ソンギター・トレス
END:VEVENT
BEGIN:VEVENT
DTSTART;TZID=Asia/Tokyo:20260405T170000
DTEND;TZID=Asia/Tokyo:20260405T183000
DTSTAMP:20260421T121835
CREATED:20220718T033019Z
LAST-MODIFIED:20220718T033019Z
UID:10231976-1775408400-1775413800@dance.gdp22.com
SUMMARY:ラテンパーカッション実践講座
DESCRIPTION:当店、銀座ラス・リサスでは、皆様に気軽にラテン音楽を体験できるように、\n各種パーカッションが置かれております。 \n　曲に合わせて踊るだけではなく、楽器を演奏して楽しまれている方も\n多数いらっしゃいます。 \n　これらのパーカッションについて、もっと詳しく知りたい、\n上手に演奏できるようになりたいという方のために、パーカッション体験講座を\n開催することとなりました。 \n＜＜　ラテンパーカッション体験講座&実践講座　＞＞\n【日付】\n・毎月第4日曜日　ラテンパーカッション体験講座　　\n　コンガやボンゴなどのパーカッションの基本的な内容を行います。 \n・毎月第１日曜日　ラテンパーカッション実践講座\n　曲に合わせた演奏やアンサンブルなど実践的名内容を行います。
URL:https://dance.gdp22.com/event/dance-14858/2026-04-05/
LOCATION:銀座ラス・リサス\, 東京都中央区銀座8-12-6 小野商ビルB1F\, 銀座\, 104-0061\, 日本
CATEGORIES:パーカッション
END:VEVENT
BEGIN:VEVENT
DTSTART;TZID=Asia/Tokyo:20260322T170000
DTEND;TZID=Asia/Tokyo:20260322T183000
DTSTAMP:20260421T121835
CREATED:20220718T032854Z
LAST-MODIFIED:20220718T032854Z
UID:10245997-1774198800-1774204200@dance.gdp22.com
SUMMARY:ラテンパーカッション体験講座
DESCRIPTION:当店、銀座ラス・リサスでは、皆様に気軽にラテン音楽を体験できるように、\n各種パーカッションが置かれております。 \n　曲に合わせて踊るだけではなく、楽器を演奏して楽しまれている方も\n多数いらっしゃいます。 \n　これらのパーカッションについて、もっと詳しく知りたい、\n上手に演奏できるようになりたいという方のために、パーカッション体験講座を\n開催することとなりました。 \n＜＜　ラテンパーカッション体験講座&実践講座　＞＞\n【日付】\n・毎月第4日曜日　ラテンパーカッション体験講座　　\n　コンガやボンゴなどのパーカッションの基本的な内容を行います。 \n・毎月第１日曜日　ラテンパーカッション実践講座\n　曲に合わせた演奏やアンサンブルなど実践的名内容を行います。
URL:https://dance.gdp22.com/event/dance-14845/2026-03-22/
LOCATION:銀座ラス・リサス\, 東京都中央区銀座8-12-6 小野商ビルB1F\, 銀座\, 104-0061\, 日本
CATEGORIES:パーカッション
END:VEVENT
BEGIN:VEVENT
DTSTART;TZID=Asia/Tokyo:20240108T133000
DTEND;TZID=Asia/Tokyo:20240108T160000
DTSTAMP:20260421T121835
CREATED:20240105T020002Z
LAST-MODIFIED:20240105T020002Z
UID:10205821-1704720600-1704729600@dance.gdp22.com
SUMMARY:成人の日（月） 【Latin Salsa　お昼のSession “Mi familia Latina”】
DESCRIPTION:2024年1月8日、成人の日（月）\n【Latin Salsa　お昼のSession “Mi familia Latina”】\nPiano まきかずひこ\nBass 城戸英行\nPercussion YOLITA\nCharge 2000円 +1 drink Order\n13時オープン　13時半スタート\n16時終了\n16回目となる、本格的なLatin sessionです。 ラテンマスターのホスト達がしっかりサポートするので、モントゥーノ初心者も気軽に参加してください。 ボレロ、チャチャチャ、ボサノバなどもOKです。\n楽器は、\nピアノ、ギターアンプ、ベースアンプ、ドラム、コンガ、 ボンゴ、ミニティンバレス、 ギロ、マラカス、クラベスあります。\n管楽器やギターなどは各自お持ちください。\n譜面は４部ご用意ください。\n以前演奏した 曲は\nOye cómo va Am https://www.youtube.com/watch?v=J7ATTjg7tpE\n私はピアノ Am　https://youtu.be/NpU0pbdfeag\nMango Mangue https://youtu.be/7N0bw8tBFtY\nBilongo Gm https://youtu.be/ZlUYuwUiQTY\nLágrimas Negras Dm　https://www.youtube.com/watch?v=ROvrIiASqJU　YouTube は Dmではありません\nSon de la loma　G　https://www.youtube.com/watch?v=ncA1tMV98A4\nQuimbara　Em https://www.youtube.com/watch?v=TxRWQHCSmUg\nMidnight Mambo https://www.youtube.com/watch?v=tAuLRElkZUo…\nMi corazon baila mambo D　https://music.youtube.com/watch?v=8IydYoqocJ4\nMoliendo Cafe　コーヒールンバ　　Maria Cervantes　mambo inn　sabor　night in tunisia　mambo influenciado Nica’s dream work song \n※会場等は主催者に要問合せにて
URL:https://dance.gdp22.com/event/dance-59201/
CATEGORIES:クリスマスイベント・忘年会・カウントダウン・初踊り,楽器練習
ATTACH;FMTTYPE=image/jpeg:https://dance.gdp22.com/wp-content/uploads/410757984_7283218035073306_6387324331358439466_n.jpg
END:VEVENT
BEGIN:VEVENT
DTSTART;TZID=Asia/Tokyo:20231231T173000
DTEND;TZID=Asia/Tokyo:20240101T000000
DTSTAMP:20260421T121835
CREATED:20231213T025146Z
LAST-MODIFIED:20231213T025146Z
UID:10205796-1704043800-1704067200@dance.gdp22.com
SUMMARY:大晦日 年越 Special Latin Live &Con Ton Ton
DESCRIPTION:今年で3回目になります、大晦日 年越 Special Latin Live !!＠Con Ton Ton 今年もやります！！\n今回は初顔合わせで、新曲多めに、とにかく楽しんでいただけるよう、盛り上がるラテンの曲を放出したいと思っております。\nなんと、Con Ton Tonの癒しのママ、カッサー（笠井裕美子）の年越し料理に年越し蕎麦もプレゼント！\nセッションTimeもありますので、とにかく、楽しく今年を見送りましょう\n先着でWellcome 酒もご用意しますので、是非、Get してくださいね～～\n17：30　Open\n18：30　1st. Stage\n19：20　年越そばTime\n19：45　2nd Stage\n20：45　セッションタイム\nFree Time ～　カウントダウン（ご参加自由）\nMC　￥4\,500 (カッサーの年越し料理＆年越しそば付）\nSpecial Latin Live Member\nSax\, Flt.　加塩人嗣\nBass　　石井 圭\nPf.　　　山田メイ\nPerc.　　津島周平\nPerc.　　笠野裕美子\nVo.＆Perc.　Yokorin\nCafe ＆Bar 「Lovey」\nhttps://www.loveytokyo.com/lovey-cafe-and-bar\n\n※会場等は主催者に要お問い合わせ下さい。
URL:https://dance.gdp22.com/event/dance-57953/
CATEGORIES:クリスマスイベント・忘年会・カウントダウン・初踊り,楽器練習
ATTACH;FMTTYPE=image/jpeg:https://dance.gdp22.com/wp-content/uploads/404567659_7481409765222428_1700002727596037556_n.jpg
END:VEVENT
BEGIN:VEVENT
DTSTART;TZID=Asia/Tokyo:20231230T180000
DTEND;TZID=Asia/Tokyo:20231230T213000
DTSTAMP:20260421T121835
CREATED:20231221T042844Z
LAST-MODIFIED:20231221T043003Z
UID:10195061-1703959200-1703971800@dance.gdp22.com
SUMMARY:Latin Dance Night& El Combo Creacion Live 12/30
DESCRIPTION:English version below\n日本を代表するサルサバンドが広尾にやってきます！！\n日本の名だたるサルサクラブで大活躍中の老舗サルサバンドEl Combo Creaciónが、おしゃれな大人の街広尾をラテンの色に染めていきます！落ち着いた大人の雰囲気でダンスやお食事をお楽しみください！\nOrquesta Salsera EL COMBO CREACION\nサルサバンド　”エル・コンボ・クレアシオン”\nペルーの人気サルサバンドCombo Espectaculo Creacionのメンバーとして活躍した在日トランペッター、モイセス・アウリスによって１９９６年１月に結成。同年２月、群馬県のディスコにてデビュー。１９９８年１０月、川崎クラブチッタにてオルケスタ・デル・ソルとのイベントにて２０００人の観客を動員。その後も全国各地でライブを展開し、日本や海外の様々なアーティストとも共演。現在まで日本の老舗オルケスタとして活動を続け、２０１６年に結成２０周年を迎えた。\nバンドの編成は、ピアノ、ベース、ティンバレス、コンガ、ボンゴ、トランペット、トロンボーン、ヴォーカル２−４名\nレパートリーはサルサだけでなくティンバ、バチャータ、メレンゲ、クンビア、レゲトンなど多岐にわたる。\nご予約は、お名前と参加人数をこちらにメッセージを頂くか、お店に直接お電話(03-3444-2525)いただくか、cafelavida@blueglobe.jpにメールをお願いします。\n日時：１２月３０日（土）\nopen 18:00 Live start 19:30\n場所：CAFE LA VIDA\nミュージックチャージ：２８００円\nLooking for something different during the night in Tokyo? Every month\, last Saturday\, salsa band\, EL COMBO CREACION at the Cuban spot\, CAFE LA VIDA. In a relax and friendly atmosphere live music and dance can be enjoyed while trying out some of the cuban food dishes suggested in the menu.\nFor reservation send us a message via Facebook messenger\, cafelavida@blueglobe.jp or just call the restaurant to 0334442525. We speak\, Japanese\, English\, French and Spanish.\nDate: December 30th \,Saturday\nPlace: Cuban Food Live Restaurant\, CAFE LA VIDA.\nOpen: 18:00\nStart : 19:30\nMC : ￥2800\nHow to get there: Get on HIbiya line and get off at HIroo’s Station\, get out of the station by exit 2 and turn to you right\, then turn right again at the corner. Walk alone the street towards the end ( about 200 m away) CAFE LA VIDA is almost at the en of the street on your right.\n\n※会場などは要主催者問い合わせにて
URL:https://dance.gdp22.com/event/el-combo-creacion-live/
CATEGORIES:クリスマスイベント・忘年会・カウントダウン・初踊り,サルサ,メレンゲ,バチャータ,楽器練習,レゲトン
ATTACH;FMTTYPE=image/jpeg:https://dance.gdp22.com/wp-content/uploads/406733901_845099087621214_6867984477002238525_n.jpg
END:VEVENT
END:VCALENDAR