BEGIN:VCALENDAR
VERSION:2.0
PRODID:-//Dancing Pono (ダンシングポノ) - ECPv6.15.12//NONSGML v1.0//EN
CALSCALE:GREGORIAN
METHOD:PUBLISH
X-WR-CALNAME:Dancing Pono (ダンシングポノ)
X-ORIGINAL-URL:https://dance.gdp22.com
X-WR-CALDESC:Dancing Pono (ダンシングポノ) のイベント
REFRESH-INTERVAL;VALUE=DURATION:PT1H
X-Robots-Tag:noindex
X-PUBLISHED-TTL:PT1H
BEGIN:VTIMEZONE
TZID:Asia/Tokyo
BEGIN:STANDARD
TZOFFSETFROM:+0900
TZOFFSETTO:+0900
TZNAME:JST
DTSTART:20230101T000000
END:STANDARD
END:VTIMEZONE
BEGIN:VEVENT
DTSTART;TZID=Asia/Tokyo:20241201T130000
DTEND;TZID=Asia/Tokyo:20241201T170000
DTSTAMP:20260426T012147
CREATED:20220916T031717Z
LAST-MODIFIED:20220916T031717Z
UID:10198495-1733058000-1733072400@dance.gdp22.com
SUMMARY:13:00-　イベント　MARISOL Salsa@平塚SadCafe
DESCRIPTION:湘南地区最大のサルサ発信地、藤沢のDance Studio MARISOL平塚での出張レッスン＆DJイベント\nサンデーアフタヌーンサルサ！！ \n偶数月第1日曜日開催\n13:00-17:00 \n10/2(日）　\nOpen13:00\n13:00-13:30基礎レッスン\n13:40-14:20ペアワーク\n講師：Naomi\n料金：1500円(1ドリンク付)　+1レッスン500円　+2レッスン1000円\nサルサなど初めての方を紹介頂いた方、及び紹介された方➡基礎レッスン無料\nDJ　T-Rod.\n会場：平塚SadCafe(平塚駅南口徒歩1分)\nhttps:sadcafe.owst.jp\n0463671672　 \n湘南地区最大のサルサ、ラテン発信地 \nサルサ・バチャータ（レッスン、イベント）
URL:https://dance.gdp22.com/event/dance-34546/2024-12-01/
LOCATION:ダンススタジオマリソル（藤沢）\, 神奈川県藤沢市鵠沼東４−６ 3F\, 藤沢\, 日本
CATEGORIES:ソーシャル,サルサ全般
END:VEVENT
BEGIN:VEVENT
DTSTART;TZID=Asia/Tokyo:20241201T153000
DTEND;TZID=Asia/Tokyo:20241201T233000
DTSTAMP:20260426T012147
CREATED:20230512T035051Z
LAST-MODIFIED:20230512T035512Z
UID:10205616-1733067000-1733095800@dance.gdp22.com
SUMMARY:仙台　サルサレッスン＆パーティー
DESCRIPTION:○レッスン\n15:30~17:00 初心〜初中級\nレッスン1000円（party参加者は500円）\nKAORI キューバンSalsa\n○PARTY\n17:00〜19:30　DJTIME DJ Chef\n料金：フリードリンク +エントランスチャージ\n飲み放題\nSOFT　　2000円(税込)\n＋Wine　 2500円(税込)\n＋Beer他 3000円(税込)\n※18：30以降のご入場は各プラン全て500円引き \n場所:ビストロ・バンディード\n宮城県仙台市若林区新寺３丁目１ー５７弁慶仙台東口ビル1.2階 \n【注意事項】\n・37.5℃以上の発熱、倦怠感、咳などの風邪の症状がある方の入場はご遠慮ください。\n・中学生以上高校生未満のお子様は、保護者同伴であれば入場可能です。\n・場内では、常時マスクを着用し、ペアダンス中の会話は極力お控えください。(不織布マスク推奨)\n・感染予防、近隣住人への配慮のため、大声で騒ぐ等の行為はお控えください。\n・床保護のためダンスシューズ、ダンススニーカーを着用ください。（ヒールカバーを着用ください。ピンヒールは禁止です）\n・許可のない撮影、またSNS等への投稿は、プライバシーの問題もあるためお控えください。\n・感染予防のため、途中休憩、換気を行なう場合がございます。
URL:https://dance.gdp22.com/event/dance-45569/2024-12-01/
LOCATION:Bistro Bandido(仙台)\, 宮城県仙台市若林区新寺３丁目１ー５７弁慶仙台東口ビル1.2階\, 984-0051\, 日本
CATEGORIES:サルサon1,サルサon2,サルサ,メレンゲ,キューバン,バチャータ,ソーシャル,カシーノスタイル
END:VEVENT
BEGIN:VEVENT
DTSTART;TZID=Asia/Tokyo:20241201T173000
DTEND;TZID=Asia/Tokyo:20241201T233000
DTSTAMP:20260426T012147
CREATED:20220921T032244Z
LAST-MODIFIED:20221002T160711Z
UID:10178225-1733074200-1733095800@dance.gdp22.com
SUMMARY:Freshman 初級/Sophomore 初中級 @ shallwedancecafe
DESCRIPTION:​Sunday – Practice Day \n​\nFreshman 初級 \n17:30 Bachata Lesson \n18:20 Salsa Lesson \n19:00 Social Party \n​ \nSophomore level　初中級 \n17:30 Bachata Lesson \n18:20 Salsa Lesson \n19:00 Social Party \n料金は公式を要参照 \nShall We Dance Cafe(大阪)
URL:https://dance.gdp22.com/event/dance-35093/2024-12-01/
LOCATION:Shall We Dance Cafe(大阪)\, 大阪府大阪市北区兎我野町４−９\, 大阪\, 530-0056\, 日本
CATEGORIES:ソーシャル,バチャータ全般,サルサ全般
END:VEVENT
BEGIN:VEVENT
DTSTART;TZID=Asia/Tokyo:20241201T180000
DTEND;TZID=Asia/Tokyo:20241201T190000
DTSTAMP:20260426T012147
CREATED:20220722T015511Z
LAST-MODIFIED:20220729T060652Z
UID:10193307-1733076000-1733079600@dance.gdp22.com
SUMMARY:GABANAサルサフリータイム 1 By HIROSHI
DESCRIPTION:【毎週日曜日】サルサ　Every Sunday　初心者歓迎 \nメロウな日曜湘南サルサは、毎週日曜日に開催しています。 \n特に、日曜日レッスンは初心者大歓迎。初心者にやさしいサルサ(on1)レッスンを開講しています。 \n◆16:00～17:00◆lesson(on1・入門) \n◇17:00～18:00◇lesson(on1・初心者) \n◆18:00～19:00◆フリータイム1◆￥1600/1d \n◇19:00～20:00◇lesson(on1・中級) \n◆20:00～◆フリータイム2◆￥1600/1d \n  \n1レッスン￥2500/1d(チャージ込)\n※2レッスン受講の場合通常￥5000のところ￥4000/1dとなります。
URL:https://dance.gdp22.com/event/dance-16781/2024-12-01/
LOCATION:藤沢LATIN GABANA\, 神奈川県藤沢市南藤沢23-10 光会館ビル4F\, 藤沢\, 251-0055\, 日本
CATEGORIES:ソーシャル
ATTACH;FMTTYPE=image/jpeg:https://dance.gdp22.com/wp-content/uploads/aaa.jpg
END:VEVENT
BEGIN:VEVENT
DTSTART;TZID=Asia/Tokyo:20241201T180000
DTEND;TZID=Asia/Tokyo:20241201T230000
DTSTAMP:20260426T012147
CREATED:20220914T040342Z
LAST-MODIFIED:20220922T161043Z
UID:10198072-1733076000-1733094000@dance.gdp22.com
SUMMARY:日曜日 Cuban salsa @ La Rumba
DESCRIPTION:日曜日 Cuban salsa \nCuban salsa 18:00-19:30 2300円\n19:30～23:00 Freeタイム　1500円 \n（日本語　スペイン語　英語）Cuba人インストラクター\,フランク　アベル\n在日20年の日本になじんだCuba人です\nマスコミの露出も多数、\n嵐にしやがれ\nNHKさかな君と共演\nオーストラリア　アメリカ　キューバ　各大使館にてダンスレッスン講師 \n子供好きがこうじてキッズクラスも開催。 cubaからやって来た\,ひたすら明るいスーパーホジティブインストラクター salsa界の盛り上げ番長フランク!!\n色々難しい技を覚えてたって　曲に合っていなければ台無しデスネ。さらに、サルサクラブでは様々な人々がフロアに集いますから、お互いに気持ち良く踊れるように　思いやりあるマナーとそれを実現するテクニックも必要です。\n私達は、サルサの楽しさを伝えるとともに楽しいながらも独り善がりにならぬよう、“みんなが楽しいサルサ”を目指してレッスンを行っています。』フランクアベルダンススクール講師 \n  \n池袋LaRumba
URL:https://dance.gdp22.com/event/dance-34358/2024-12-01/
LOCATION:池袋la rumba\, 東京都豊島区池袋２丁目２３－２シャンテビルB1\, 池袋\, 171-0014\, 日本
CATEGORIES:キューバン,ソーシャル
ATTACH;FMTTYPE=image/jpeg:https://dance.gdp22.com/wp-content/uploads/middle_1319437977111-1.jpg
ORGANIZER;CN="Frank abel":MAILTO:​frankabelsalsa@gmail.com
END:VEVENT
BEGIN:VEVENT
DTSTART;TZID=Asia/Tokyo:20241201T190000
DTEND;TZID=Asia/Tokyo:20241201T235900
DTSTAMP:20260426T012147
CREATED:20220718T023503Z
LAST-MODIFIED:20220718T033841Z
UID:10189491-1733079600-1733097540@dance.gdp22.com
SUMMARY:キューバンスタイル By MAC
DESCRIPTION:@ Latin Bar Ginza Las Risas\n2\,500 yen w/1d\n19:00-19:30 Free lesson for first timers\n19:30-20:30 Cuban Salsa Lesson\n20:30- 0:00 DJ Time\n通常スケジュールに戻ってレッスン再開しています。 \n【DTTimeにつきましては下記参照】 \n「明日から仕事がまたはじまるから・・・」 \nそんな弱気なことは言わず、日曜の夜こそ飲んでバカ騒ぎをしてしまいましょう！ \nということで毎週、飲兵衛向け企画を用意いたしました。 \n第1週　飲み放題\n【日時】毎月第1日曜日 20:30-23:00\n【料金】\2\,000 飲み放題 /　通常エントランスは\1\,000w1d \n飲兵衛ダンサーに朗報！ \n毎週第1日曜日は\2\,000で飲み放題！ \nレッスン終了の時間20:30から、23:00まで飲み放題です。 \n※注意事項\n19:00-20:30のレッスン参加の方は、レッスン代(￥2500w1d)に追加\1\,000で飲み放題OKです。\n飲み放題時間帯はグラスとの交換制とさせていただきます。 \n週末の締めにぜひご利用下さい。 \n  \n\n  \n第2週　テキーラナイト\n【日時】毎月第2日曜日 20:30-23:00\n【料金】\1\,000w1d \nテキーラ　1杯　￥300で提供します。 \n  \n\n  \n第3週　Free　Style Nigjt\n【日時】毎月第3日曜日 20:30-23:00\n【料金】企画内容により異なります。 \n毎月盛り上がるイベント。 \n詳しくは、主催者Macのページで \n  \n\n  \n第4週　Sparkling Nigjt\n【日時】毎月第4日曜日 20:30-23:00\n【料金】\1\,000w1d \n女性の方にウェルカムドリンクつき
URL:https://dance.gdp22.com/event/dance-14740/2024-12-01/
LOCATION:銀座ラス・リサス\, 東京都中央区銀座8-12-6 小野商ビルB1F\, 銀座\, 104-0061\, 日本
CATEGORIES:キューバン,ソーシャル
ATTACH;FMTTYPE=image/jpeg:https://dance.gdp22.com/wp-content/uploads/cropped-9D01F935-2B86-4692-8027-4B19675E77E6-1022x1024-1.jpeg
ORGANIZER;CN="MAC Take":MAILTO:salsa363mac@gmail.com
END:VEVENT
BEGIN:VEVENT
DTSTART;TZID=Asia/Tokyo:20241201T190000
DTEND;TZID=Asia/Tokyo:20241201T235900
DTSTAMP:20260426T012147
CREATED:20220919T060314Z
LAST-MODIFIED:20220919T061714Z
UID:10199062-1733079600-1733097540@dance.gdp22.com
SUMMARY:Lucho Lesson＆party
DESCRIPTION:インストラクター\nLucho & Maki \nサルサやバチャータ初級レベルレッスンです。\n初心者の方も楽しくレッスンできますよ❣⃛ \n19:00-19:45 Bachata\n19:45-20:30 Salsa\n20:30-24:00 Party \n1 lesson ¥2000 (1drink)\n2 lesson ¥3000 (1drink)\nParty ¥1200 (1drink) \nEL RINCON LATINO(大阪)
URL:https://dance.gdp22.com/event/dance-34860/2024-12-01/
LOCATION:EL RINCON LATINO(大阪)\, 大阪府大阪市中央区心斎橋筋２丁目６−８ シャンペンジャムビル 4F\, 大阪\, 542-0085\, 日本
CATEGORIES:ソーシャル,バチャータ全般,サルサ全般
ATTACH;FMTTYPE=image/jpeg:https://dance.gdp22.com/wp-content/uploads/306599907_629375621873350_7149042135736730603_n.jpg
ORGANIZER;CN="Lucho (y Maki)":MAILTO:luchosalsadancelesson@gmail.com
END:VEVENT
BEGIN:VEVENT
DTSTART;TZID=Asia/Tokyo:20241201T200000
DTEND;TZID=Asia/Tokyo:20241201T235900
DTSTAMP:20260426T012147
CREATED:20220722T015653Z
LAST-MODIFIED:20220729T060940Z
UID:10193446-1733083200-1733097540@dance.gdp22.com
SUMMARY:GABANAサルサフリータイム 2 By HIROSHI
DESCRIPTION:【毎週日曜日】サルサ　Every Sunday　初心者歓迎 \nメロウな日曜湘南サルサは、毎週日曜日に開催しています。 \n特に、日曜日レッスンは初心者大歓迎。初心者にやさしいサルサ(on1)レッスンを開講しています。 \n◆16:00～17:00◆lesson(on1・入門) \n◇17:00～18:00◇lesson(on1・初心者) \n◆18:00～19:00◆フリータイム1◆￥1600/1d \n◇19:00～20:00◇lesson(on1・中級) \n◆20:00～◆フリータイム2◆￥1600/1d \n  \n1レッスン￥2500/1d(チャージ込)\n※2レッスン受講の場合通常￥5000のところ￥4000/1dとなります。
URL:https://dance.gdp22.com/event/dance-16794/2024-12-01/
LOCATION:藤沢LATIN GABANA\, 神奈川県藤沢市南藤沢23-10 光会館ビル4F\, 藤沢\, 251-0055\, 日本
CATEGORIES:ソーシャル
ATTACH;FMTTYPE=image/jpeg:https://dance.gdp22.com/wp-content/uploads/aaa-1.jpg
END:VEVENT
BEGIN:VEVENT
DTSTART;TZID=Asia/Tokyo:20241202T193000
DTEND;TZID=Asia/Tokyo:20241202T233000
DTSTAMP:20260426T012147
CREATED:20220808T030800Z
LAST-MODIFIED:20241216T125150Z
UID:10175627-1733167800-1733182200@dance.gdp22.com
SUMMARY:Nao&Masa　毎週月曜レッスン＠新宿クラブレオン
DESCRIPTION:2022年8月から、新しいオープンレッスンを始めます！ \n新宿花園神社横のサルサクラブLEONにて開催。超初心者の方からベテランの方、少しお休みしてしまった方のリハビリも何でも来いの、楽しいレッスンです。気楽に覗きに来てくださいね！ \n  \nタイムテーブル（2022年8月1日以降、毎週月曜） \n19:30-20:15 初心 on2 \n20:15-21:00 初級 on2 \n21:00-23:00 ソーシャルタイム \n  \n料金 \n1レッスン ¥1000 \n2レッスン ¥1500 \nソーシャルタイムエントランス料 ¥1000 with 1drink \n  \n会場 \n新宿LEON 東京都新宿区5-17-6 地下1階 \n（花園神社横）
URL:https://dance.gdp22.com/event/dance-28814/2024-12-02/
LOCATION:新宿クラブ レオン(B1F)\, 東京都新宿区新宿５－１７－６ Ｂ１\, 東京\, 160-0022\, 日本
CATEGORIES:サルサon2,ソーシャル
ATTACH;FMTTYPE=image/jpeg:https://dance.gdp22.com/wp-content/uploads/image-25.jpg
END:VEVENT
BEGIN:VEVENT
DTSTART;TZID=Asia/Tokyo:20241203T143000
DTEND;TZID=Asia/Tokyo:20241203T160000
DTSTAMP:20260426T012147
CREATED:20220718T015621Z
LAST-MODIFIED:20220718T015621Z
UID:10189241-1733236200-1733241600@dance.gdp22.com
SUMMARY:平日昼間のSalsa lesson&Party By Zakiyama(DJtime)
DESCRIPTION:銀座ラスリサスでの平日お昼間のSalsa lesson&Party!!\n毎週火曜日開催です。\nお昼間が都合の良い方、又は外出中やテレワークでちょっと休憩で踊りたい方(笑)\nお近くにいる方は是非お立ち寄りください? \n2022/7/12(火)\n13:00 Open\n13:15-14:30 Salsa On1 lesson by Zakiyama\n14:30-16:00 DJTime\n初めての方も大歓迎\nエントランス:2000yen(レッスン込み)/1D付き
URL:https://dance.gdp22.com/event/dance-14657/2024-12-03/
LOCATION:銀座ラス・リサス\, 東京都中央区銀座8-12-6 小野商ビルB1F\, 銀座\, 104-0061\, 日本
CATEGORIES:ソーシャル
END:VEVENT
BEGIN:VEVENT
DTSTART;TZID=Asia/Tokyo:20241203T190000
DTEND;TZID=Asia/Tokyo:20241203T223000
DTSTAMP:20260426T012147
CREATED:20220829T035427Z
LAST-MODIFIED:20220829T035427Z
UID:10196664-1733252400-1733265000@dance.gdp22.com
SUMMARY:ユーリヤ・キゾンバ・レッスン＆パーティ
DESCRIPTION:カフェルンビータ（京都） \n詳細はWEB参照
URL:https://dance.gdp22.com/event/dance-31642/2024-12-03/
LOCATION:カフェルンビータ（京都）\, 京都府京都市中京区山崎町２５８−１９ 珠光ビル三条 ３F\, 京都\, 604-8032\, 日本
CATEGORIES:ソーシャル,キゾンバ全般
END:VEVENT
BEGIN:VEVENT
DTSTART;TZID=Asia/Tokyo:20241204T190000
DTEND;TZID=Asia/Tokyo:20241204T231500
DTSTAMP:20260426T012147
CREATED:20220912T042938Z
LAST-MODIFIED:20220916T060857Z
UID:10197715-1733338800-1733354100@dance.gdp22.com
SUMMARY:Mira - Kiz
DESCRIPTION:★☆★★☆★★☆★★☆★★☆★★☆★★☆★★☆★ \nMira – Kiz ☆ Mirage Kizomba ☆ every Wednesday \n★☆★★☆★★☆★★☆★★☆★★☆★★☆★★☆★ \nここは夢か幻か蜃気楼か、、\n週の真ん中、水曜日は六本木の素敵なクラブミラージュでキゾンバの世界に浸りましょう\n六本木 Bar Mirageの水曜日レギュラーKizombaイベント開催です！！\nLesson付きですので、ぜひOpenからお越し下さい♪\nLessonはKizombaとUrban Kiz、30分ずつです♪ DJ timeは、たっぷり３時間以上！！\nShu3セレクトのいい曲を沢山掛けます！Kizombaがメインです\nBachata\,Salsaはリクエストして下さいね♪\nアクセス良好！六本木駅から徒歩3分！水曜の夜は是非Mirageへ♪ \n新型コロナウィルス対策を取っての開催となりますので\n皆さまのご協力よろしくお願い致します。\n⭐︎会場内ではマスク着用となります。\n⭐︎お出掛けの前に体温測定をお願いします。過去2週間以内に37、5度以上あった方は参加できません\n⭐︎手の消毒とこまめな手洗いをお願い致します。\n⭐︎汗をかいた時はお着替えをお願い致します。\n⭐︎当日体調の悪い方、2週間以内に感染者と濃厚接触した可能性のある方は来場をご遠慮下さい。\n【 Lesson 】\n19:00～ open\n19:30～20:00 Kizomba by Shu3\n20:00～20:30 Urban Kiz by Shu3\n20:30～23:15 DJ Time\n【料金】\nentrance 1500yen /w1d\nlesson + 500yen \n【 日 時 】毎週水曜日 19:00～23:15\n【 会 場 】六本木 Bar Mirage\n【ＵＲＬ】http://barmirage.tokyo\n【 住 所 】東京都港区六本木３丁目１４−１４ VORT六本木kaleido 5F\n【アクセス】 六本木駅 徒歩3分\n【Shu3 : プロフィール】\nトラディショナルからアーバンまで全てのスタイルを学んでいるShu3\n丁寧に基本をおさえつつ、使える・役立つ・惹きつける最新のバリエーションまで幅広くレッスンしています。\nまた、類まれな音楽センスを生かしたDJ活動も行っており、その選曲は、踊っても聴いても心地よいと評判です。\n♪♪♪♪♪♪♪♪♪♪♪♪♪♪♪♪\n《 注 意 事 項 》\n〇女性に安心してダンスを楽しんでいただくために、セクハラ・しつこい勧誘・迷惑行為等は禁止です。\n〇プライバシー保護の為、スタジオ内での無断の写真や動画の撮影、ネットへの掲載などは固く禁止します。\n〇泥酔、トラブル他、主催者がソーシャルパーティーに相応しくないと判断した方は即退場していただきます。\n〇清潔感のある服でお越しください。\n♪♪♪♪♪♪♪♪♪♪♪♪♪♪♪♪♪♪♪♪♪♪♪\n《主催・問合せ》\nKizomba Love JP\nご不明な点はShuのFacebookにてメッセージ頂くか\nこちらのホームページからご連絡ください\nhttps://www.kizombalovejp.com/contact/
URL:https://dance.gdp22.com/event/mira-kiz/2024-12-04/
LOCATION:六本木 Bar Mirage\, 東京都港区六本木3-14-14 VORT六本木kaleido 5階\, 六本木\, 106-0032\, 日本
CATEGORIES:アーバンキッズ（urban kz キゾンバ）,ソーシャル,キゾンバ全般
ATTACH;FMTTYPE=image/jpeg:https://dance.gdp22.com/wp-content/uploads/0719ec81be1bfcbb8b00b31dce412f606f257f8336509d0abf5adb175b69d8e2-rimg-w959-h640-gmir.jpg
END:VEVENT
BEGIN:VEVENT
DTSTART;TZID=Asia/Tokyo:20241204T193000
DTEND;TZID=Asia/Tokyo:20241204T233000
DTSTAMP:20260426T012147
CREATED:20220921T031650Z
LAST-MODIFIED:20221002T161000Z
UID:10178094-1733340600-1733355000@dance.gdp22.com
SUMMARY:Freshman  初級 @ shallwedancecafe
DESCRIPTION:Wednesday – Freshman 初級 \n19:30 Bachata Lesson \n20:20 Salsa Lesson \n21:00 Social Party \n料金は公式を要参照 \nShall We Dance Cafe(大阪)
URL:https://dance.gdp22.com/event/dance-35051/2024-12-04/
LOCATION:Shall We Dance Cafe(大阪)\, 大阪府大阪市北区兎我野町４−９\, 大阪\, 530-0056\, 日本
CATEGORIES:ソーシャル,バチャータ全般,サルサ全般
END:VEVENT
BEGIN:VEVENT
DTSTART;TZID=Asia/Tokyo:20241204T200000
DTEND;TZID=Asia/Tokyo:20241204T233000
DTSTAMP:20260426T012147
CREATED:20220919T050822Z
LAST-MODIFIED:20220919T050822Z
UID:10198803-1733342400-1733355000@dance.gdp22.com
SUMMARY:Bachata Wednesdays
DESCRIPTION:Bachata lessons & Mini social time \n20:00-21:00 Beginner lesson\n21:30-22:30 Intermediate lesson\n22:30- Mini social time  \nLocation: Bailando バイランド\nPrice: 1\,500yen (1drink)/lesson \nLet’s enjoy bachata with us!
URL:https://dance.gdp22.com/event/bachata-wednesdays/2024-12-04/
LOCATION:Bailando(沖縄)\, 沖縄県沖縄市中央１丁目１３−６ 2F\, 沖縄市\, 904-0004\, 日本
CATEGORIES:ソーシャル,バチャータ全般
ATTACH;FMTTYPE=image/jpeg:https://dance.gdp22.com/wp-content/uploads/306919486_10166537096895565_8524204520440190774_n.jpg
END:VEVENT
BEGIN:VEVENT
DTSTART;TZID=Asia/Tokyo:20241204T200000
DTEND;TZID=Asia/Tokyo:20241204T235900
DTSTAMP:20260426T012147
CREATED:20220826T025214Z
LAST-MODIFIED:20220829T154709Z
UID:10195996-1733342400-1733356740@dance.gdp22.com
SUMMARY:桜井通り 入門＆初級サルサレッスン・パーティー
DESCRIPTION:桜井通りでは世界中で踊られている人気のラテンダンスを中心にレッスンしています。\nどこへ行っても踊れるようにリード＆フォローを大切にするレッスンです！！ \n■　レッスン種目／○ サルサ　○ バチャータ　○ ソン クバーノ ○ クラブスタイルチャチャ\n■　レッスン種目／○ メレンゲ　○ キゾンバ etc \n■　営業時間／20:00～24:00　日・月・火定休
URL:https://dance.gdp22.com/event/dance-31359/2024-12-04/
LOCATION:Dance&Dining桜井通り（熊本）\, 熊本県熊本市中央区上通町5-10桜井ビル4F\, 熊本\, 860-0845
CATEGORIES:ソーシャル,サルサ全般
ATTACH;FMTTYPE=image/jpeg:https://dance.gdp22.com/wp-content/uploads/com_party.jpg
END:VEVENT
BEGIN:VEVENT
DTSTART;TZID=Asia/Tokyo:20241204T203000
DTEND;TZID=Asia/Tokyo:20241204T233000
DTSTAMP:20260426T012147
CREATED:20220531T021520Z
LAST-MODIFIED:20220531T021520Z
UID:10170197-1733344200-1733355000@dance.gdp22.com
SUMMARY:Dj time
DESCRIPTION:20:30-　Dj time\n終了時間は各お店にお問い合わせください。
URL:https://dance.gdp22.com/event/dj-time/2024-12-04/
LOCATION:新宿クラブ レオン(B1F)\, 東京都新宿区新宿５－１７－６ Ｂ１\, 東京\, 160-0022\, 日本
CATEGORIES:ソーシャル
END:VEVENT
BEGIN:VEVENT
DTSTART;TZID=Asia/Tokyo:20241204T210000
DTEND;TZID=Asia/Tokyo:20241204T233000
DTSTAMP:20260426T012147
CREATED:20220531T022312Z
LAST-MODIFIED:20220531T022312Z
UID:10170343-1733346000-1733355000@dance.gdp22.com
SUMMARY:Dj time
DESCRIPTION:¥1\,000（with 1 drink）\nサルサ70％ バチャータ30％\n終了時間は各お店にお問い合わせください。
URL:https://dance.gdp22.com/event/dj-time-3/2024-12-04/
LOCATION:新宿クラブ レオン(B1F)\, 東京都新宿区新宿５－１７－６ Ｂ１\, 東京\, 160-0022\, 日本
CATEGORIES:ソーシャル
END:VEVENT
BEGIN:VEVENT
DTSTART;TZID=Asia/Tokyo:20241205T190000
DTEND;TZID=Asia/Tokyo:20241205T235900
DTSTAMP:20260426T012147
CREATED:20220718T020421Z
LAST-MODIFIED:20220718T020600Z
UID:10189285-1733425200-1733443140@dance.gdp22.com
SUMMARY:Salsa de Barrio(第一週）
DESCRIPTION:毎月第1・第2・第4木曜日開催！！\n☆Salsa de Barrio☆\nみんなで楽しく踊りまくりましょう\nレッスンはOn2ですが、やったことないけど気になってる、始めたばかりという方向けにゆっくり基本からやっていきます\n是非この機会に \nフリータイムから踊りに来る方も大歓迎\n今日はOn2のレッスンの日だからなーとかいうのは関係なし！フリータイムは自由に！！笑\nスタイル関係なし\n今日近くにいるよーという方、ふらっと遊びにくるのも大歓迎??\nDJタイムは週ごとに異なるDJが担当します。\n第1週　DJ Mami\n第2週 DJ Yuu\n第4週　Dj Nob \n+:-:+:-:+:-:+:-:+:-:+:-:+:-:+:-:+:-:+:-:+:-:+:-:+:\n19:00-20:30 Salsa On2入門 lesson by Zakiyama\n20:30-Last DJ Time\nレッスン受ける方:2500yen/1Drink\nDJタイムから:1500yen/1Drink
URL:https://dance.gdp22.com/event/dance-14669/2024-12-05/
LOCATION:銀座ラス・リサス\, 東京都中央区銀座8-12-6 小野商ビルB1F\, 銀座\, 104-0061\, 日本
CATEGORIES:サルサon2,ソーシャル
END:VEVENT
BEGIN:VEVENT
DTSTART;TZID=Asia/Tokyo:20241205T193000
DTEND;TZID=Asia/Tokyo:20241205T235900
DTSTAMP:20260426T012147
CREATED:20220919T061433Z
LAST-MODIFIED:20220919T061433Z
UID:10177638-1733427000-1733443140@dance.gdp22.com
SUMMARY:BACHAKIZZ Night
DESCRIPTION:インストラクター\nMarkos & Saori \n19:30-20:15 Kizomba\n20:15-21:00 Bachata\n21:00-24:00 Party  \n1 Lesson ＋ Party ¥1500\n2 Lesson ＋ Party ¥2000\n Only Party ¥1100(w1drink) \n和気あいあいとした楽しいレッスンですので、初めての方でも大丈夫です❣⃛\nパーティでは好きな曲や踊りたい曲があればリクエストください。可能な限り対応させていただきます。 \nEL RINCON LATINO(大阪)
URL:https://dance.gdp22.com/event/bachakizz-night/2024-12-05/
LOCATION:EL RINCON LATINO(大阪)\, 大阪府大阪市中央区心斎橋筋２丁目６−８ シャンペンジャムビル 4F\, 大阪\, 542-0085\, 日本
CATEGORIES:ソーシャル,バチャータ全般,キゾンバ全般
ATTACH;FMTTYPE=image/jpeg:https://dance.gdp22.com/wp-content/uploads/301806533_625121028965476_73485559564743689_n.jpg
END:VEVENT
BEGIN:VEVENT
DTSTART;TZID=Asia/Tokyo:20241205T200000
DTEND;TZID=Asia/Tokyo:20241205T235900
DTSTAMP:20260426T012147
CREATED:20220826T025415Z
LAST-MODIFIED:20220829T154846Z
UID:10196129-1733428800-1733443140@dance.gdp22.com
SUMMARY:桜井通り 中級サルサ・パーティ
DESCRIPTION:桜井通りでは世界中で踊られている人気のラテンダンスを中心にレッスンしています。\nどこへ行っても踊れるようにリード＆フォローを大切にするレッスンです！！ \n■　レッスン種目／○ サルサ　○ バチャータ　○ ソン クバーノ ○ クラブスタイルチャチャ\n■　レッスン種目／○ メレンゲ　○ キゾンバ etc \n■　営業時間／20:00～24:00　日・月・火定休
URL:https://dance.gdp22.com/event/dance-31372/2024-12-05/
LOCATION:Dance&Dining桜井通り（熊本）\, 熊本県熊本市中央区上通町5-10桜井ビル4F\, 熊本\, 860-0845
CATEGORIES:ソーシャル,サルサ全般
ATTACH;FMTTYPE=image/jpeg:https://dance.gdp22.com/wp-content/uploads/com_party-1.jpg
END:VEVENT
BEGIN:VEVENT
DTSTART;TZID=Asia/Tokyo:20241205T200000
DTEND;TZID=Asia/Tokyo:20241205T235900
DTSTAMP:20260426T012147
CREATED:20220831T030415Z
LAST-MODIFIED:20220831T030415Z
UID:10197200-1733428800-1733443140@dance.gdp22.com
SUMMARY:ミーシャャ・ON2サルサ入門
DESCRIPTION:カフェルンビータ（京都） \n詳細はWEB参照
URL:https://dance.gdp22.com/event/dance-32751/2024-12-05/
LOCATION:カフェルンビータ（京都）\, 京都府京都市中京区山崎町２５８−１９ 珠光ビル三条 ３F\, 京都\, 604-8032\, 日本
CATEGORIES:サルサon2,ソーシャル
END:VEVENT
BEGIN:VEVENT
DTSTART;TZID=Asia/Tokyo:20241205T201500
DTEND;TZID=Asia/Tokyo:20241205T223000
DTSTAMP:20260426T012147
CREATED:20220919T042150Z
LAST-MODIFIED:20220923T164009Z
UID:10198672-1733429700-1733437800@dance.gdp22.com
SUMMARY:On2 SALSA Lesson By MISAKI @ 横浜 Night Fire
DESCRIPTION:木曜日は！\n20:15~21:15 横浜ナイトファイヤーにてon2レッスン初級です✨\n21:15~みさきセレクトのDJタイム！ソーシャルからの参加も大歓迎です😊\nオープンレッスンなので予約なしで受講可能です💕 \n初心者にも優しいリード＆フォローの基礎が学べます。\nぜひぜひ体験しにきてください😀
URL:https://dance.gdp22.com/event/on2-salsa-lesson-by-misaki/2024-12-05/
LOCATION:横浜 Night Fire\, 神奈川県横浜市中区末吉町4-75 末吉ショッピングセンター 2F\, 横浜\, 231-0055\, 日本
CATEGORIES:サルサon2,ソーシャル
ATTACH;FMTTYPE=image/jpeg:https://dance.gdp22.com/wp-content/uploads/306091983_578222614089110_6827983030963953805_n.jpg
END:VEVENT
BEGIN:VEVENT
DTSTART;TZID=Asia/Tokyo:20241206T190000
DTEND;TZID=Asia/Tokyo:20241206T220000
DTSTAMP:20260426T012147
CREATED:20220926T034152Z
LAST-MODIFIED:20221007T123410Z
UID:10178355-1733511600-1733522400@dance.gdp22.com
SUMMARY:たかさきSALSA EVENTS
DESCRIPTION:【料金制等】 \nワンコイン練習会費￥500 \n別途エントランス制￥1000 \n※飲食物の持込み原則不可（飲食店営業のため） \n※マイドリンク（マイボトル・ペットボトル等）のみ持込み可（ゴミは持帰り） \n【予約制】 \n予約方法：Jomo WellnessのLINE公式アカウントに友だち登録のうえ参加メッセージ（希望日と練習会出欠）をお願いします（締切：イベント前日18時） \n​ \nLINE公式アカウント⇩ \nhttps://lin.ee/xp3O80c \n※友だち登録とイベント参加予約は新型コロナウイルス感染拡大防止対策を踏まえた連絡手段（入場条件）としておりますので、ご協力をお願いいたします \n​ \n※各イベント・ワンコイン練習会・予約制プライベートレッスン詳細\n↓\nhttps://www.erikubota.com/ \nJomo Wellness(群馬)
URL:https://dance.gdp22.com/event/dance-35543/2024-12-06/
LOCATION:Jomo Wellness(群馬)\, 群馬県高崎市八島町32-2 岩崎ビル3F\, 高崎\, 370-0849\, 日本
CATEGORIES:ソーシャル,サルサ全般
ATTACH;FMTTYPE=image/png:https://dance.gdp22.com/wp-content/uploads/4258b291b301061548b3df74098f73f7-2.png
END:VEVENT
BEGIN:VEVENT
DTSTART;TZID=Asia/Tokyo:20241206T190000
DTEND;TZID=Asia/Tokyo:20241206T235900
DTSTAMP:20260426T012147
CREATED:20220831T030957Z
LAST-MODIFIED:20220831T030957Z
UID:10177266-1733511600-1733529540@dance.gdp22.com
SUMMARY:ON1＆バチャータ・ナイト
DESCRIPTION:カフェルンビータ（京都） \n詳細はWEB参照
URL:https://dance.gdp22.com/event/dance-32775/2024-12-06/
LOCATION:カフェルンビータ（京都）\, 京都府京都市中京区山崎町２５８−１９ 珠光ビル三条 ３F\, 京都\, 604-8032\, 日本
CATEGORIES:サルサon1,ソーシャル,バチャータ全般
END:VEVENT
BEGIN:VEVENT
DTSTART;TZID=Asia/Tokyo:20241206T193000
DTEND;TZID=Asia/Tokyo:20241206T235900
DTSTAMP:20260426T012147
CREATED:20220921T030840Z
LAST-MODIFIED:20221002T161257Z
UID:10177964-1733513400-1733529540@dance.gdp22.com
SUMMARY:Friday beginner party @ shallwedancecafe
DESCRIPTION:19:30-初中級バチャータレッスン\n20:00-初中級サルサレッスン\nLucho&Maki\n2レッスン¥2000\n1レッスン¥1500(パーティ付) \n20:30-24:00Party \n先着10人まで¥500 1drink\n20人まで¥1000 2drink\n40人まで¥1500 1drink\n40人から¥2000 1drink \nShall We Dance Cafe(大阪)
URL:https://dance.gdp22.com/event/frlday-beglnner-party/2024-12-06/
LOCATION:Shall We Dance Cafe(大阪)\, 大阪府大阪市北区兎我野町４−９\, 大阪\, 530-0056\, 日本
CATEGORIES:ソーシャル,バチャータ全般,サルサ全般
ORGANIZER;CN="Lucho (y Maki)":MAILTO:luchosalsadancelesson@gmail.com
END:VEVENT
BEGIN:VEVENT
DTSTART;TZID=Asia/Tokyo:20241206T200000
DTEND;TZID=Asia/Tokyo:20241206T235900
DTSTAMP:20260426T012147
CREATED:20220826T025606Z
LAST-MODIFIED:20220829T155033Z
UID:10196263-1733515200-1733529540@dance.gdp22.com
SUMMARY:桜井通り 社交ダンス・パーティー
DESCRIPTION:桜井通りでは世界中で踊られている人気のラテンダンスを中心にレッスンしています。\nどこへ行っても踊れるようにリード＆フォローを大切にするレッスンです！！ \n■　レッスン種目／○ サルサ　○ バチャータ　○ ソン クバーノ ○ クラブスタイルチャチャ\n■　レッスン種目／○ メレンゲ　○ キゾンバ etc \n■　営業時間／20:00～24:00　日・月・火定休
URL:https://dance.gdp22.com/event/dance-31385/2024-12-06/
LOCATION:Dance&Dining桜井通り（熊本）\, 熊本県熊本市中央区上通町5-10桜井ビル4F\, 熊本\, 860-0845
CATEGORIES:ソーシャル,社交ダンス ラテン,社交ダンス スタンダード
ATTACH;FMTTYPE=image/jpeg:https://dance.gdp22.com/wp-content/uploads/com_party-2.jpg
END:VEVENT
BEGIN:VEVENT
DTSTART;TZID=Asia/Tokyo:20241206T203000
DTEND;TZID=Asia/Tokyo:20241206T235900
DTSTAMP:20260426T012147
CREATED:20220711T021631Z
LAST-MODIFIED:20220729T041051Z
UID:10188199-1733517000-1733529540@dance.gdp22.com
SUMMARY:Amigos Night DJタイム
DESCRIPTION:【エントランス】\n1500円\n女性2ドリンク付き\n男性1ドリンク付き\n(レッスン参加の男性は1000円1ドリンク付き) \nKimiのサルサOn2レッスン\nA.19:00-19:45 入門～初級\n「チャレンジカップ」サルサOn2初級のステップをレクチャーします\nB.19:45-20:30 入門～初級ペア\n1レッスン:1000円\nAB連続受講:1500円\n20:30-DJタイム \nサルサOn1、サルサOn2、バチャータ、メレンゲ…などのダンスに、\nおしゃべりペルー料理も楽しめるアミーゴスナイトです\nLATIN CLUB LEON\ntokyo to shinjuku-ku 5-17-6 B1\n東京都新宿区新宿5-17-6 B1\nhttp://www.latinclub-leon.com\ntel:03-3204-3340\n090-6474-5638
URL:https://dance.gdp22.com/event/dance-12832/2024-12-06/
LOCATION:新宿クラブ レオン(B1F)\, 東京都新宿区新宿５－１７－６ Ｂ１\, 東京\, 160-0022\, 日本
CATEGORIES:ソーシャル
ATTACH;FMTTYPE=image/jpeg:https://dance.gdp22.com/wp-content/uploads/202206_friday_leon.jpg
ORGANIZER;CN="Kimi (Salsalion)":MAILTO:japan@kmicco.com
END:VEVENT
BEGIN:VEVENT
DTSTART;TZID=Asia/Tokyo:20241207T170000
DTEND;TZID=Asia/Tokyo:20241207T235900
DTSTAMP:20260426T012147
CREATED:20220921T030523Z
LAST-MODIFIED:20221002T161654Z
UID:10177832-1733590800-1733615940@dance.gdp22.com
SUMMARY:Saturday Party @ shallwedancecafe
DESCRIPTION:17:00- 初中級バチャータレッスン\n18:00-初中級サルサレッスン\nRico\n19:00-24:00 Party\n先着10人まで¥500 1drink\n20人まで¥1000 2drink\n40人まで¥1500 1drink\n40人から¥2000 1drink \nShall We Dance Cafe(大阪)
URL:https://dance.gdp22.com/event/saturday-party/2024-12-07/
LOCATION:Shall We Dance Cafe(大阪)\, 大阪府大阪市北区兎我野町４−９\, 大阪\, 530-0056\, 日本
CATEGORIES:ソーシャル,バチャータ全般,サルサ全般
END:VEVENT
BEGIN:VEVENT
DTSTART;TZID=Asia/Tokyo:20241207T180000
DTEND;TZID=Asia/Tokyo:20241207T225500
DTSTAMP:20260426T012147
CREATED:20220930T043404Z
LAST-MODIFIED:20221014T162501Z
UID:10181377-1733594400-1733612100@dance.gdp22.com
SUMMARY:サルサパーティー LaHabana
DESCRIPTION:料金・詳細は公式参照 \nhttps://www.lahabana.co.jp/salsanight/p6957/ \nhttps://www.lahabana.co.jp/price/?studioid=173&anchor/#block \nLaHabana(名古屋)
URL:https://dance.gdp22.com/event/dance-36403/2024-12-07/
LOCATION:LaHabana(名古屋)\, 名古屋市中区錦2-6-22 若山ビル3F\, 名古屋\, 463-0003\, 日本
CATEGORIES:ソーシャル,サルサ全般
END:VEVENT
BEGIN:VEVENT
DTSTART;TZID=Asia/Tokyo:20241207T190000
DTEND;TZID=Asia/Tokyo:20241207T230000
DTSTAMP:20260426T012147
CREATED:20220912T044323Z
LAST-MODIFIED:20220916T075221Z
UID:10197820-1733598000-1733612400@dance.gdp22.com
SUMMARY:MIL BACHATAS @ Mirage
DESCRIPTION:Organized by Jasmine \n19:00- Lesson\n20:30-23:00 Party \nBachata/Kizomba \n\n\n\n\n\n\n\n\n\nMil Bachatasの名付け由来　2019年10月\n「Mil」はスペイン語の「千」という意味です。千夜一夜物語からインスピレーションされ、私達の主催するイベントはシェヘラザードが語った物語と同じくらい魅力的にしたいと願っています。そして、千回続けれるようにとの願いを込めた千円イベントになることも目指しています。\n\n\n– Why it is call Mil Bachatas? –\n“Mil” in Spanish means one thousand. We were inspired from “Tales from the Thousands and One Nights”\, and hope our events are as attractive as the tales told by Scheherazade. We also place great hope that the events are successful and will continue for as many as one thousand times. Last but not least\, our event only costs 1000 JPY.
URL:https://dance.gdp22.com/event/mil-bachatas/2024-12-07/
LOCATION:六本木 Bar Mirage\, 東京都港区六本木3-14-14 VORT六本木kaleido 5階\, 六本木\, 106-0032\, 日本
CATEGORIES:ソーシャル,バチャータ全般,キゾンバ全般
ATTACH;FMTTYPE=image/jpeg:https://dance.gdp22.com/wp-content/uploads/300635895_372875145033597_7875918747997449427_n.jpg
END:VEVENT
END:VCALENDAR