BEGIN:VCALENDAR
VERSION:2.0
PRODID:-//Dancing Pono (ダンシングポノ) - ECPv6.15.12//NONSGML v1.0//EN
CALSCALE:GREGORIAN
METHOD:PUBLISH
X-WR-CALNAME:Dancing Pono (ダンシングポノ)
X-ORIGINAL-URL:https://dance.gdp22.com
X-WR-CALDESC:Dancing Pono (ダンシングポノ) のイベント
REFRESH-INTERVAL;VALUE=DURATION:PT1H
X-Robots-Tag:noindex
X-PUBLISHED-TTL:PT1H
BEGIN:VTIMEZONE
TZID:Asia/Tokyo
BEGIN:STANDARD
TZOFFSETFROM:+0900
TZOFFSETTO:+0900
TZNAME:JST
DTSTART:20250101T000000
END:STANDARD
END:VTIMEZONE
BEGIN:VEVENT
DTSTART;TZID=Asia/Tokyo:20260420T193000
DTEND;TZID=Asia/Tokyo:20260420T233000
DTSTAMP:20260421T040419
CREATED:20220808T030800Z
LAST-MODIFIED:20241216T125150Z
UID:10251081-1776713400-1776727800@dance.gdp22.com
SUMMARY:Nao&Masa　毎週月曜レッスン＠新宿クラブレオン
DESCRIPTION:2022年8月から、新しいオープンレッスンを始めます！ \n新宿花園神社横のサルサクラブLEONにて開催。超初心者の方からベテランの方、少しお休みしてしまった方のリハビリも何でも来いの、楽しいレッスンです。気楽に覗きに来てくださいね！ \n  \nタイムテーブル（2022年8月1日以降、毎週月曜） \n19:30-20:15 初心 on2 \n20:15-21:00 初級 on2 \n21:00-23:00 ソーシャルタイム \n  \n料金 \n1レッスン ¥1000 \n2レッスン ¥1500 \nソーシャルタイムエントランス料 ¥1000 with 1drink \n  \n会場 \n新宿LEON 東京都新宿区5-17-6 地下1階 \n（花園神社横）
URL:https://dance.gdp22.com/event/dance-28814/2026-04-20/
LOCATION:新宿クラブ レオン(B1F)\, 東京都新宿区新宿５－１７－６ Ｂ１\, 東京\, 160-0022\, 日本
CATEGORIES:サルサon2,ソーシャル
ATTACH;FMTTYPE=image/jpeg:https://dance.gdp22.com/wp-content/uploads/image-25.jpg
END:VEVENT
BEGIN:VEVENT
DTSTART;TZID=Asia/Tokyo:20260419T200000
DTEND;TZID=Asia/Tokyo:20260419T235900
DTSTAMP:20260421T040419
CREATED:20220722T015653Z
LAST-MODIFIED:20220729T060940Z
UID:10246855-1776628800-1776643140@dance.gdp22.com
SUMMARY:GABANAサルサフリータイム 2 By HIROSHI
DESCRIPTION:【毎週日曜日】サルサ　Every Sunday　初心者歓迎 \nメロウな日曜湘南サルサは、毎週日曜日に開催しています。 \n特に、日曜日レッスンは初心者大歓迎。初心者にやさしいサルサ(on1)レッスンを開講しています。 \n◆16:00～17:00◆lesson(on1・入門) \n◇17:00～18:00◇lesson(on1・初心者) \n◆18:00～19:00◆フリータイム1◆￥1600/1d \n◇19:00～20:00◇lesson(on1・中級) \n◆20:00～◆フリータイム2◆￥1600/1d \n  \n1レッスン￥2500/1d(チャージ込)\n※2レッスン受講の場合通常￥5000のところ￥4000/1dとなります。
URL:https://dance.gdp22.com/event/dance-16794/2026-04-19/
LOCATION:藤沢LATIN GABANA\, 神奈川県藤沢市南藤沢23-10 光会館ビル4F\, 藤沢\, 251-0055\, 日本
CATEGORIES:ソーシャル
ATTACH;FMTTYPE=image/jpeg:https://dance.gdp22.com/wp-content/uploads/aaa-1.jpg
END:VEVENT
BEGIN:VEVENT
DTSTART;TZID=Asia/Tokyo:20260419T190000
DTEND;TZID=Asia/Tokyo:20260419T235900
DTSTAMP:20260421T040419
CREATED:20220919T060314Z
LAST-MODIFIED:20220919T061714Z
UID:10269123-1776625200-1776643140@dance.gdp22.com
SUMMARY:Lucho Lesson＆party
DESCRIPTION:インストラクター\nLucho & Maki \nサルサやバチャータ初級レベルレッスンです。\n初心者の方も楽しくレッスンできますよ❣⃛ \n19:00-19:45 Bachata\n19:45-20:30 Salsa\n20:30-24:00 Party \n1 lesson ¥2000 (1drink)\n2 lesson ¥3000 (1drink)\nParty ¥1200 (1drink) \nEL RINCON LATINO(大阪)
URL:https://dance.gdp22.com/event/dance-34860/2026-04-19/
LOCATION:EL RINCON LATINO(大阪)\, 大阪府大阪市中央区心斎橋筋２丁目６−８ シャンペンジャムビル 4F\, 大阪\, 542-0085\, 日本
CATEGORIES:ソーシャル,バチャータ全般,サルサ全般
ATTACH;FMTTYPE=image/jpeg:https://dance.gdp22.com/wp-content/uploads/306599907_629375621873350_7149042135736730603_n.jpg
ORGANIZER;CN="Lucho (y Maki)":MAILTO:luchosalsadancelesson@gmail.com
END:VEVENT
BEGIN:VEVENT
DTSTART;TZID=Asia/Tokyo:20260419T190000
DTEND;TZID=Asia/Tokyo:20260419T235900
DTSTAMP:20260421T040419
CREATED:20220718T023503Z
LAST-MODIFIED:20220718T033841Z
UID:10246603-1776625200-1776643140@dance.gdp22.com
SUMMARY:キューバンスタイル By MAC
DESCRIPTION:@ Latin Bar Ginza Las Risas\n2\,500 yen w/1d\n19:00-19:30 Free lesson for first timers\n19:30-20:30 Cuban Salsa Lesson\n20:30- 0:00 DJ Time\n通常スケジュールに戻ってレッスン再開しています。 \n【DTTimeにつきましては下記参照】 \n「明日から仕事がまたはじまるから・・・」 \nそんな弱気なことは言わず、日曜の夜こそ飲んでバカ騒ぎをしてしまいましょう！ \nということで毎週、飲兵衛向け企画を用意いたしました。 \n第1週　飲み放題\n【日時】毎月第1日曜日 20:30-23:00\n【料金】\2\,000 飲み放題 /　通常エントランスは\1\,000w1d \n飲兵衛ダンサーに朗報！ \n毎週第1日曜日は\2\,000で飲み放題！ \nレッスン終了の時間20:30から、23:00まで飲み放題です。 \n※注意事項\n19:00-20:30のレッスン参加の方は、レッスン代(￥2500w1d)に追加\1\,000で飲み放題OKです。\n飲み放題時間帯はグラスとの交換制とさせていただきます。 \n週末の締めにぜひご利用下さい。 \n  \n\n  \n第2週　テキーラナイト\n【日時】毎月第2日曜日 20:30-23:00\n【料金】\1\,000w1d \nテキーラ　1杯　￥300で提供します。 \n  \n\n  \n第3週　Free　Style Nigjt\n【日時】毎月第3日曜日 20:30-23:00\n【料金】企画内容により異なります。 \n毎月盛り上がるイベント。 \n詳しくは、主催者Macのページで \n  \n\n  \n第4週　Sparkling Nigjt\n【日時】毎月第4日曜日 20:30-23:00\n【料金】\1\,000w1d \n女性の方にウェルカムドリンクつき
URL:https://dance.gdp22.com/event/dance-14740/2026-04-19/
LOCATION:銀座ラス・リサス\, 東京都中央区銀座8-12-6 小野商ビルB1F\, 銀座\, 104-0061\, 日本
CATEGORIES:キューバン,ソーシャル
ATTACH;FMTTYPE=image/jpeg:https://dance.gdp22.com/wp-content/uploads/cropped-9D01F935-2B86-4692-8027-4B19675E77E6-1022x1024-1.jpeg
ORGANIZER;CN="MAC Take":MAILTO:salsa363mac@gmail.com
END:VEVENT
BEGIN:VEVENT
DTSTART;TZID=Asia/Tokyo:20260419T180000
DTEND;TZID=Asia/Tokyo:20260419T230000
DTSTAMP:20260421T040419
CREATED:20220914T040342Z
LAST-MODIFIED:20220922T161043Z
UID:10265022-1776621600-1776639600@dance.gdp22.com
SUMMARY:日曜日 Cuban salsa @ La Rumba
DESCRIPTION:日曜日 Cuban salsa \nCuban salsa 18:00-19:30 2300円\n19:30～23:00 Freeタイム　1500円 \n（日本語　スペイン語　英語）Cuba人インストラクター\,フランク　アベル\n在日20年の日本になじんだCuba人です\nマスコミの露出も多数、\n嵐にしやがれ\nNHKさかな君と共演\nオーストラリア　アメリカ　キューバ　各大使館にてダンスレッスン講師 \n子供好きがこうじてキッズクラスも開催。 cubaからやって来た\,ひたすら明るいスーパーホジティブインストラクター salsa界の盛り上げ番長フランク!!\n色々難しい技を覚えてたって　曲に合っていなければ台無しデスネ。さらに、サルサクラブでは様々な人々がフロアに集いますから、お互いに気持ち良く踊れるように　思いやりあるマナーとそれを実現するテクニックも必要です。\n私達は、サルサの楽しさを伝えるとともに楽しいながらも独り善がりにならぬよう、“みんなが楽しいサルサ”を目指してレッスンを行っています。』フランクアベルダンススクール講師 \n  \n池袋LaRumba
URL:https://dance.gdp22.com/event/dance-34358/2026-04-19/
LOCATION:池袋la rumba\, 東京都豊島区池袋２丁目２３－２シャンテビルB1\, 池袋\, 171-0014\, 日本
CATEGORIES:キューバン,ソーシャル
ATTACH;FMTTYPE=image/jpeg:https://dance.gdp22.com/wp-content/uploads/middle_1319437977111-1.jpg
ORGANIZER;CN="Frank abel":MAILTO:​frankabelsalsa@gmail.com
END:VEVENT
BEGIN:VEVENT
DTSTART;TZID=Asia/Tokyo:20260419T180000
DTEND;TZID=Asia/Tokyo:20260419T190000
DTSTAMP:20260421T040419
CREATED:20220722T015511Z
LAST-MODIFIED:20220729T060652Z
UID:10246099-1776621600-1776625200@dance.gdp22.com
SUMMARY:GABANAサルサフリータイム 1 By HIROSHI
DESCRIPTION:【毎週日曜日】サルサ　Every Sunday　初心者歓迎 \nメロウな日曜湘南サルサは、毎週日曜日に開催しています。 \n特に、日曜日レッスンは初心者大歓迎。初心者にやさしいサルサ(on1)レッスンを開講しています。 \n◆16:00～17:00◆lesson(on1・入門) \n◇17:00～18:00◇lesson(on1・初心者) \n◆18:00～19:00◆フリータイム1◆￥1600/1d \n◇19:00～20:00◇lesson(on1・中級) \n◆20:00～◆フリータイム2◆￥1600/1d \n  \n1レッスン￥2500/1d(チャージ込)\n※2レッスン受講の場合通常￥5000のところ￥4000/1dとなります。
URL:https://dance.gdp22.com/event/dance-16781/2026-04-19/
LOCATION:藤沢LATIN GABANA\, 神奈川県藤沢市南藤沢23-10 光会館ビル4F\, 藤沢\, 251-0055\, 日本
CATEGORIES:ソーシャル
ATTACH;FMTTYPE=image/jpeg:https://dance.gdp22.com/wp-content/uploads/aaa.jpg
END:VEVENT
BEGIN:VEVENT
DTSTART;TZID=Asia/Tokyo:20260419T173000
DTEND;TZID=Asia/Tokyo:20260419T233000
DTSTAMP:20260421T040419
CREATED:20220921T032244Z
LAST-MODIFIED:20221002T160711Z
UID:10268857-1776619800-1776641400@dance.gdp22.com
SUMMARY:Freshman 初級/Sophomore 初中級 @ shallwedancecafe
DESCRIPTION:​Sunday – Practice Day \n​\nFreshman 初級 \n17:30 Bachata Lesson \n18:20 Salsa Lesson \n19:00 Social Party \n​ \nSophomore level　初中級 \n17:30 Bachata Lesson \n18:20 Salsa Lesson \n19:00 Social Party \n料金は公式を要参照 \nShall We Dance Cafe(大阪)
URL:https://dance.gdp22.com/event/dance-35093/2026-04-19/
LOCATION:Shall We Dance Cafe(大阪)\, 大阪府大阪市北区兎我野町４−９\, 大阪\, 530-0056\, 日本
CATEGORIES:ソーシャル,バチャータ全般,サルサ全般
END:VEVENT
BEGIN:VEVENT
DTSTART;TZID=Asia/Tokyo:20260419T153000
DTEND;TZID=Asia/Tokyo:20260419T233000
DTSTAMP:20260421T040419
CREATED:20230512T035051Z
LAST-MODIFIED:20230512T035512Z
UID:10301836-1776612600-1776641400@dance.gdp22.com
SUMMARY:仙台　サルサレッスン＆パーティー
DESCRIPTION:○レッスン\n15:30~17:00 初心〜初中級\nレッスン1000円（party参加者は500円）\nKAORI キューバンSalsa\n○PARTY\n17:00〜19:30　DJTIME DJ Chef\n料金：フリードリンク +エントランスチャージ\n飲み放題\nSOFT　　2000円(税込)\n＋Wine　 2500円(税込)\n＋Beer他 3000円(税込)\n※18：30以降のご入場は各プラン全て500円引き \n場所:ビストロ・バンディード\n宮城県仙台市若林区新寺３丁目１ー５７弁慶仙台東口ビル1.2階 \n【注意事項】\n・37.5℃以上の発熱、倦怠感、咳などの風邪の症状がある方の入場はご遠慮ください。\n・中学生以上高校生未満のお子様は、保護者同伴であれば入場可能です。\n・場内では、常時マスクを着用し、ペアダンス中の会話は極力お控えください。(不織布マスク推奨)\n・感染予防、近隣住人への配慮のため、大声で騒ぐ等の行為はお控えください。\n・床保護のためダンスシューズ、ダンススニーカーを着用ください。（ヒールカバーを着用ください。ピンヒールは禁止です）\n・許可のない撮影、またSNS等への投稿は、プライバシーの問題もあるためお控えください。\n・感染予防のため、途中休憩、換気を行なう場合がございます。
URL:https://dance.gdp22.com/event/dance-45569/2026-04-19/
LOCATION:Bistro Bandido(仙台)\, 宮城県仙台市若林区新寺３丁目１ー５７弁慶仙台東口ビル1.2階\, 984-0051\, 日本
CATEGORIES:サルサon1,サルサon2,サルサ,メレンゲ,キューバン,バチャータ,ソーシャル,カシーノスタイル
END:VEVENT
BEGIN:VEVENT
DTSTART;TZID=Asia/Tokyo:20260418T210000
DTEND;TZID=Asia/Tokyo:20260418T230000
DTSTAMP:20260421T040419
CREATED:20250426T085922Z
LAST-MODIFIED:20250426T085943Z
UID:10283719-1776546000-1776553200@dance.gdp22.com
SUMMARY:土曜LatinNight
DESCRIPTION:Salsa Bachata Kizomba\n21:00～23:00\nParty￥1\,500\nLesson+Party ￥2\,000
URL:https://dance.gdp22.com/event/dance-94199/2026-04-18/
LOCATION:Dance&Dining桜井通り（熊本）\, 熊本県熊本市中央区上通町5-10桜井ビル4F\, 熊本\, 860-0845
CATEGORIES:サルサ,バチャータ,キゾンバ,ソーシャル,バチャータ全般,キゾンバ全般,サルサ全般
END:VEVENT
BEGIN:VEVENT
DTSTART;TZID=Asia/Tokyo:20260418T200000
DTEND;TZID=Asia/Tokyo:20260418T235900
DTSTAMP:20260421T040419
CREATED:20220711T022639Z
LAST-MODIFIED:20220711T022639Z
UID:10237257-1776542400-1776556740@dance.gdp22.com
SUMMARY:東京ぱちゃんげろ
DESCRIPTION:レオンインストラクターの先生たちによるパブーマンス、超人気DJたちが回すDJタイム\nDjMiguel\nDj Carlos\nDj まー子\nDj Salserin\nDj Princ\nご期待ください \n:::::::::::::::::::::::::::::::::::::::::::::::::::::::::::::::::::::::::::::::::::::::::::::::::::::\n16年間の幸せ。\n情熱が山を動かすと言われていますね。\n私は信仰についてではなく、ラテン音楽について話しています。\nLEONクラブで働く機会があったことは、私がどれほど幸運であったかを言い表せません。\nかつてとても気に入ったフレーズを読みました。\n「あなたがしていることを愛することは、地球上で最良の具体的な幸せへのアプローチです。」\n全くその通りです！レオンクラブが私を幸せにしてくれているからです。レオンに感謝します…\n16年間、私に多くの素晴らしいことをする時間を与えてくれました。\n私たちは色んなプロジェクトを実行しました。\n時には間違いを犯しましたが、それは私たちが成長するのに役立ちました。\nレオンで働いてくれたすべての方々、私と一緒に働き続けている方々、先生たち、イベントを開催している方々に対して感謝の気持ちで一杯です。LEÓNで新年を分かち合い、一緒に祝うことができることほど大きな喜びはありません。\n今度は、16周年を祝い、16本のキャンドルを一緒に吹き飛ばす大きな記念日を楽しみにしてます!\nGRACIAS.\nデニス\n::::::::::::::::::::::::::::::::::::::::::::::::::::::::::::::::::::::::::::::::::::::::::::::::::::: \nSon 16 ańos de felicidad.\nLa pasión mueve montańa\nNo hablo de la fe\, si no de la música latina.\nNo me cansaré de decir a los cuatro vientos lo afortunado que soy por haber tenido la oportunidad de trabajar en el club LEON.\nUna vez leí una frase que me encantó\n“Querer lo que haces\,\nEs la mejor aproximación concreta a la felicidad en la tierra.\nY es verdad porque el Club Leon me ha hecho feliz y me sigue haciendo feliz gracias Leon…\nEn 16 ańos me he dado tiempo de hacer muchas cosas maravillosas\, hemos realizado grandes proyectos y también cometido errores que nos ha servido para mejorar.\nMuchísimas gracias a todas las personas que han trabajado en el Leon\, a las personas que siguen trabajando conmigo – a los profesores\, a las personas que hacen evento – a todos les doy las gracias.\nNo hay mayor placer que el de compartir y poder celebrar juntos un nuevo ańo de vida en el LEÓN.\nAhora vamos a esperar el gran día de aniversario para celebrar y soplar juntos las 16 velas. Muchas gracias DENNIS
URL:https://dance.gdp22.com/event/dance-12845/2026-04-18/
LOCATION:新宿クラブ レオン(B1F)\, 東京都新宿区新宿５－１７－６ Ｂ１\, 東京\, 160-0022\, 日本
CATEGORIES:ソーシャル
ATTACH;FMTTYPE=image/jpeg:https://dance.gdp22.com/wp-content/uploads/2022_3rd_sat_pachanguero-leon.jpg
END:VEVENT
BEGIN:VEVENT
DTSTART;TZID=Asia/Tokyo:20260418T200000
DTEND;TZID=Asia/Tokyo:20260418T210000
DTSTAMP:20260421T040419
CREATED:20250426T085333Z
LAST-MODIFIED:20250426T085333Z
UID:10257495-1776542400-1776546000@dance.gdp22.com
SUMMARY:Kizomba (All Level)
DESCRIPTION:20:00～21:00\nKizomba (All Level)\n￥1\,100
URL:https://dance.gdp22.com/event/dance-31398-2/2026-04-18/
LOCATION:Dance&Dining桜井通り（熊本）\, 熊本県熊本市中央区上通町5-10桜井ビル4F\, 熊本\, 860-0845
CATEGORIES:キゾンバ,ソーシャル,キゾンバ全般
END:VEVENT
BEGIN:VEVENT
DTSTART;TZID=Asia/Tokyo:20260418T190000
DTEND;TZID=Asia/Tokyo:20260418T233000
DTSTAMP:20260421T040419
CREATED:20220926T035404Z
LAST-MODIFIED:20221007T123053Z
UID:10280068-1776538800-1776555000@dance.gdp22.com
SUMMARY:たかさきSALSA EVENTS 夜の部
DESCRIPTION:【料金制等】 \nワンコイン練習会費￥500 \n別途エントランス制￥1000 \n※飲食物の持込み原則不可（飲食店営業のため） \n※マイドリンク（マイボトル・ペットボトル等）のみ持込み可（ゴミは持帰り） \n【予約制】 \n予約方法：Jomo WellnessのLINE公式アカウントに友だち登録のうえ参加メッセージ（希望日と練習会出欠）をお願いします（締切：イベント前日18時） \n​ \nLINE公式アカウント⇩ \nhttps://lin.ee/xp3O80c \n※友だち登録とイベント参加予約は新型コロナウイルス感染拡大防止対策を踏まえた連絡手段（入場条件）としておりますので、ご協力をお願いいたします \n​ \n※各イベント・ワンコイン練習会・予約制プライベートレッスン詳細\n↓\nhttps://www.erikubota.com/ \nJomo Wellness(群馬)
URL:https://dance.gdp22.com/event/dance-35581/2026-04-18/
LOCATION:Jomo Wellness(群馬)\, 群馬県高崎市八島町32-2 岩崎ビル3F\, 高崎\, 370-0849\, 日本
CATEGORIES:サルサon2,ソーシャル
ATTACH;FMTTYPE=image/png:https://dance.gdp22.com/wp-content/uploads/4258b291b301061548b3df74098f73f7-6.png
END:VEVENT
BEGIN:VEVENT
DTSTART;TZID=Asia/Tokyo:20260418T190000
DTEND;TZID=Asia/Tokyo:20260418T230000
DTSTAMP:20260421T040419
CREATED:20220919T053350Z
LAST-MODIFIED:20220919T053350Z
UID:10267018-1776538800-1776553200@dance.gdp22.com
SUMMARY:中央線でサルサ Lesson & Party
DESCRIPTION:こんにちは。 \n今月はバリエーション強化月間です！！\nひと味変わったルーティン（技）を毎週毎週オンパレードで行いますので、\nこの機会にバリエーションを強化されたい方は是非お越しください。 \nイベントの詳細は以下になります。 \nルーティンの内容等、最新情報はHPもご確認ください\nhttps://chuousen-salsa.com/ \n■「サルサの夜明け」レッスン＆パーティー \n■　時間：\n今週も自主練タイムあります。\n練習されたい方、質問等ある方は早めにお越しください。 \n19:00　～　19:30　自主練タイム\n19:30　～　21:15　レッスン\n21:15　～　23:00　フリータイム \n■　インストラクター：いっちーまーりお \n■　レッスン内容：\n・ベーシック：\nペアやシャインのとき、つい、トボトボと膝で踏んでしまうことってありませんか？\nラテンの音楽を足だけでなく、体全体を使ってもっと心地よく踊りたい方へ向けた、\nいっちー先生のスペシャルベーシック講座です。\nナチュラルなベーシックとは？ラテンな体の動きとは何なのか？エクセサイズを中心に解説を行います。 \n・シャイン基礎＆応用：\nペアを踊るときに必要なシャインの確認から、オッ！と目を引くシャインワークを無理なく分解して解説します。\n最初にみると、「こんなの無理ぃ～～～」と思うのですが、気づくと出来ているので、できる楽しみを感じられると思います。 \n・ペア(On2：NYスタイル)：\nペアワークでありがちな、「技がいつも同じのしかデない・・・」と感じている男性の方、\nトリッキーなルーティンだとびっくりしてしまう女性の方向けに\n一風変わった、フロアでもあまり見かけないルーティンをやります。\nコロナ明けにフロアで踊る用のバリエーションに加えていただけたらと思います。 \nレベル：オールレベル\n（集まった人のレベルに合わせて内容を調整します。\n初心者の方はアシスタントがレッスンを行います） \n■　参加費：\nレッスンから参加：2000円（w1d）（レッスン代:1000円＋スタジオ代（含フリー料金）:1000円 ）  \nフリータイムから参加：1500円（スタジオ代（含フリー料金）） \n（ドリンクの持ち込みは自由です。ゴミの分別にご協力をおねがいします。\nゴミを持ち帰っていただける方、シェアドリンク・フードをお持ちいただける方、大歓迎！！ささやかですが、サービスさせていただきます） \n■　場所：中野ガーデンスタジオ \n■　お願い：\n近隣が住宅地のため、防音対策にご協力をお願いします。\nレッスン中の換気の際は大きな声が外に漏れないようにご配慮をお願いします。\n音漏れ防止のため、お帰りの際はご自分では扉を明けずにスタッフに一声おかけ下さい。 \nまた、コロナ対策のため、基本的にマスク着用でのレッスンとなりますが、ご了承ください。\nマスクをお持ちでない場合は、用意がございますのでご利用ください。\n入り口で体温の計測を行いますので、ご協力の程、宜しくお願いします。 \nなお、本イベントはサルサ・ラテンダンスを純粋に楽しまれる方、技術向上を目的とされる方のイベントです。\nそんなサルサラバーズが安心して踊れる場所を提供したいと思います。 \nそのため、以下の行為を禁止します。\n・暴力（言葉のも含）・セクハラ行為\n・相手や周りに思いやりのない、リードやフォロー（よくわからない場合は、スタッフに聞いて下さい。）\n・しつこいアプローチ（疲れたら、無理せず休んでください。踊りやタイプが合わない場合も無理して踊らなくてもOKです）\n・教え魔（聞かれてもいないアドバイスは苦痛でしかありません）\n・土足、清潔感のない衣装\n・出会い・ナンパ目的\n・サルサ・ダンスに関係のない勧誘行為\n禁止行為があった場合はスタッフにご一報下さい。 \n以上、よろしくお願いたします。
URL:https://dance.gdp22.com/event/dance-34843/2026-04-18/
LOCATION:中野ガーデンスタジオ\, 東京都中野区新井１丁目１２-5 ＮＳフラッツB1F\, 中野\, 165-0026\, 日本
CATEGORIES:サルサon2,ソーシャル
ATTACH;FMTTYPE=image/jpeg:https://dance.gdp22.com/wp-content/uploads/img_4089-1024x578-1.jpg
END:VEVENT
BEGIN:VEVENT
DTSTART;TZID=Asia/Tokyo:20260418T190000
DTEND;TZID=Asia/Tokyo:20260418T230000
DTSTAMP:20260421T040419
CREATED:20220810T025218Z
LAST-MODIFIED:20220819T152848Z
UID:10255039-1776538800-1776553200@dance.gdp22.com
SUMMARY:M&T 3rd Sat Cuban Salsa!!
DESCRIPTION:毎月第３土曜日はTSUYOSHI&MAC先生によると飲み放題キューバンサルサパーティー。 \n毎回いろんな方がこられて盛り上がっています！ \n２人のインストラクターによる豪華レッスンもお楽しみに！！ \nキューバ産のラム２本カウンターにあり❣️ \n19：00-20：00　レッスン By Mac＆Tsuyoshi \n20：00-23：00　DJタイム DJ：Baila Aqui \n場所　：　New　Planet　六本木\n〒106-0032 東京都港区六本木3-10-5 マリーナビル1階\nエントランス￥２０００　レッスンから+￥１０００
URL:https://dance.gdp22.com/event/mt-3rd-sat-cuban-salsa/2026-04-18/
LOCATION:六本木ニュープラネット\, 東京都港区六本木３丁目１０−５ マリーナビル １階\, 六本木\, 106-0032\, 日本
CATEGORIES:キューバン,ソーシャル
ORGANIZER;CN="MAC Take":MAILTO:salsa363mac@gmail.com
END:VEVENT
BEGIN:VEVENT
DTSTART;TZID=Asia/Tokyo:20260418T180000
DTEND;TZID=Asia/Tokyo:20260418T225500
DTSTAMP:20260421T040419
CREATED:20220930T043404Z
LAST-MODIFIED:20221014T162501Z
UID:10272760-1776535200-1776552900@dance.gdp22.com
SUMMARY:サルサパーティー LaHabana
DESCRIPTION:料金・詳細は公式参照 \nhttps://www.lahabana.co.jp/salsanight/p6957/ \nhttps://www.lahabana.co.jp/price/?studioid=173&anchor/#block \nLaHabana(名古屋)
URL:https://dance.gdp22.com/event/dance-36403/2026-04-18/
LOCATION:LaHabana(名古屋)\, 名古屋市中区錦2-6-22 若山ビル3F\, 名古屋\, 463-0003\, 日本
CATEGORIES:ソーシャル,サルサ全般
END:VEVENT
BEGIN:VEVENT
DTSTART;TZID=Asia/Tokyo:20260418T170000
DTEND;TZID=Asia/Tokyo:20260418T235900
DTSTAMP:20260421T040419
CREATED:20220921T030523Z
LAST-MODIFIED:20221002T161654Z
UID:10264460-1776531600-1776556740@dance.gdp22.com
SUMMARY:Saturday Party @ shallwedancecafe
DESCRIPTION:17:00- 初中級バチャータレッスン\n18:00-初中級サルサレッスン\nRico\n19:00-24:00 Party\n先着10人まで¥500 1drink\n20人まで¥1000 2drink\n40人まで¥1500 1drink\n40人から¥2000 1drink \nShall We Dance Cafe(大阪)
URL:https://dance.gdp22.com/event/saturday-party/2026-04-18/
LOCATION:Shall We Dance Cafe(大阪)\, 大阪府大阪市北区兎我野町４−９\, 大阪\, 530-0056\, 日本
CATEGORIES:ソーシャル,バチャータ全般,サルサ全般
END:VEVENT
BEGIN:VEVENT
DTSTART;TZID=Asia/Tokyo:20260418T140000
DTEND;TZID=Asia/Tokyo:20260418T183000
DTSTAMP:20260421T040419
CREATED:20220926T035202Z
LAST-MODIFIED:20221007T123153Z
UID:10279986-1776520800-1776537000@dance.gdp22.com
SUMMARY:たかさきSALSA EVENTS 昼の部
DESCRIPTION:【料金制等】 \nワンコイン練習会費￥500 \n別途エントランス制￥1000 \n※飲食物の持込み原則不可（飲食店営業のため） \n※マイドリンク（マイボトル・ペットボトル等）のみ持込み可（ゴミは持帰り） \n【予約制】 \n予約方法：Jomo WellnessのLINE公式アカウントに友だち登録のうえ参加メッセージ（希望日と練習会出欠）をお願いします（締切：イベント前日18時） \n​ \nLINE公式アカウント⇩ \nhttps://lin.ee/xp3O80c \n※友だち登録とイベント参加予約は新型コロナウイルス感染拡大防止対策を踏まえた連絡手段（入場条件）としておりますので、ご協力をお願いいたします \n​ \n※各イベント・ワンコイン練習会・予約制プライベートレッスン詳細\n↓\nhttps://www.erikubota.com/ \nJomo Wellness(群馬)
URL:https://dance.gdp22.com/event/dance-35576/2026-04-18/
LOCATION:Jomo Wellness(群馬)\, 群馬県高崎市八島町32-2 岩崎ビル3F\, 高崎\, 370-0849\, 日本
CATEGORIES:キューバン,ソーシャル
ATTACH;FMTTYPE=image/png:https://dance.gdp22.com/wp-content/uploads/4258b291b301061548b3df74098f73f7-5.png
END:VEVENT
BEGIN:VEVENT
DTSTART;TZID=Asia/Tokyo:20260417T203000
DTEND;TZID=Asia/Tokyo:20260417T235900
DTSTAMP:20260421T040419
CREATED:20220711T021631Z
LAST-MODIFIED:20220729T041051Z
UID:10233573-1776457800-1776470340@dance.gdp22.com
SUMMARY:Amigos Night DJタイム
DESCRIPTION:【エントランス】\n1500円\n女性2ドリンク付き\n男性1ドリンク付き\n(レッスン参加の男性は1000円1ドリンク付き) \nKimiのサルサOn2レッスン\nA.19:00-19:45 入門～初級\n「チャレンジカップ」サルサOn2初級のステップをレクチャーします\nB.19:45-20:30 入門～初級ペア\n1レッスン:1000円\nAB連続受講:1500円\n20:30-DJタイム \nサルサOn1、サルサOn2、バチャータ、メレンゲ…などのダンスに、\nおしゃべりペルー料理も楽しめるアミーゴスナイトです\nLATIN CLUB LEON\ntokyo to shinjuku-ku 5-17-6 B1\n東京都新宿区新宿5-17-6 B1\nhttp://www.latinclub-leon.com\ntel:03-3204-3340\n090-6474-5638
URL:https://dance.gdp22.com/event/dance-12832/2026-04-17/
LOCATION:新宿クラブ レオン(B1F)\, 東京都新宿区新宿５－１７－６ Ｂ１\, 東京\, 160-0022\, 日本
CATEGORIES:ソーシャル
ATTACH;FMTTYPE=image/jpeg:https://dance.gdp22.com/wp-content/uploads/202206_friday_leon.jpg
ORGANIZER;CN="Kimi (Salsalion)":MAILTO:japan@kmicco.com
END:VEVENT
BEGIN:VEVENT
DTSTART;TZID=Asia/Tokyo:20260417T200000
DTEND;TZID=Asia/Tokyo:20260417T220000
DTSTAMP:20260421T040419
CREATED:20250426T083905Z
LAST-MODIFIED:20250426T085036Z
UID:10283458-1776456000-1776463200@dance.gdp22.com
SUMMARY:社交ダンスパーティ
DESCRIPTION:20:00～22:00\nWaltz\,Tango\, Slowfoxtrot\, Quickstep\, Chacha\,Samba\,Rumba\,Jive\,etc\n￥1\,500(w1d)
URL:https://dance.gdp22.com/event/dance-31385-2/2026-04-17/
LOCATION:Dance&Dining桜井通り（熊本）\, 熊本県熊本市中央区上通町5-10桜井ビル4F\, 熊本\, 860-0845
CATEGORIES:ソーシャル,アルゼンチンタンゴ,社交ダンス ラテン,社交ダンス スタンダード
END:VEVENT
BEGIN:VEVENT
DTSTART;TZID=Asia/Tokyo:20260417T193000
DTEND;TZID=Asia/Tokyo:20260417T235900
DTSTAMP:20260421T040419
CREATED:20220921T030840Z
LAST-MODIFIED:20221002T161257Z
UID:10264106-1776454200-1776470340@dance.gdp22.com
SUMMARY:Friday beginner party @ shallwedancecafe
DESCRIPTION:19:30-初中級バチャータレッスン\n20:00-初中級サルサレッスン\nLucho&Maki\n2レッスン¥2000\n1レッスン¥1500(パーティ付) \n20:30-24:00Party \n先着10人まで¥500 1drink\n20人まで¥1000 2drink\n40人まで¥1500 1drink\n40人から¥2000 1drink \nShall We Dance Cafe(大阪)
URL:https://dance.gdp22.com/event/frlday-beglnner-party/2026-04-17/
LOCATION:Shall We Dance Cafe(大阪)\, 大阪府大阪市北区兎我野町４−９\, 大阪\, 530-0056\, 日本
CATEGORIES:ソーシャル,バチャータ全般,サルサ全般
ORGANIZER;CN="Lucho (y Maki)":MAILTO:luchosalsadancelesson@gmail.com
END:VEVENT
BEGIN:VEVENT
DTSTART;TZID=Asia/Tokyo:20260417T190000
DTEND;TZID=Asia/Tokyo:20260417T235900
DTSTAMP:20260421T040419
CREATED:20220831T030957Z
LAST-MODIFIED:20220831T030957Z
UID:10261791-1776452400-1776470340@dance.gdp22.com
SUMMARY:ON1＆バチャータ・ナイト
DESCRIPTION:カフェルンビータ（京都） \n詳細はWEB参照
URL:https://dance.gdp22.com/event/dance-32775/2026-04-17/
LOCATION:カフェルンビータ（京都）\, 京都府京都市中京区山崎町２５８−１９ 珠光ビル三条 ３F\, 京都\, 604-8032\, 日本
CATEGORIES:サルサon1,ソーシャル,バチャータ全般
END:VEVENT
BEGIN:VEVENT
DTSTART;TZID=Asia/Tokyo:20260417T190000
DTEND;TZID=Asia/Tokyo:20260417T220000
DTSTAMP:20260421T040419
CREATED:20220926T034152Z
LAST-MODIFIED:20221007T123410Z
UID:10270828-1776452400-1776463200@dance.gdp22.com
SUMMARY:たかさきSALSA EVENTS
DESCRIPTION:【料金制等】 \nワンコイン練習会費￥500 \n別途エントランス制￥1000 \n※飲食物の持込み原則不可（飲食店営業のため） \n※マイドリンク（マイボトル・ペットボトル等）のみ持込み可（ゴミは持帰り） \n【予約制】 \n予約方法：Jomo WellnessのLINE公式アカウントに友だち登録のうえ参加メッセージ（希望日と練習会出欠）をお願いします（締切：イベント前日18時） \n​ \nLINE公式アカウント⇩ \nhttps://lin.ee/xp3O80c \n※友だち登録とイベント参加予約は新型コロナウイルス感染拡大防止対策を踏まえた連絡手段（入場条件）としておりますので、ご協力をお願いいたします \n​ \n※各イベント・ワンコイン練習会・予約制プライベートレッスン詳細\n↓\nhttps://www.erikubota.com/ \nJomo Wellness(群馬)
URL:https://dance.gdp22.com/event/dance-35543/2026-04-17/
LOCATION:Jomo Wellness(群馬)\, 群馬県高崎市八島町32-2 岩崎ビル3F\, 高崎\, 370-0849\, 日本
CATEGORIES:ソーシャル,サルサ全般
ATTACH;FMTTYPE=image/png:https://dance.gdp22.com/wp-content/uploads/4258b291b301061548b3df74098f73f7-2.png
END:VEVENT
BEGIN:VEVENT
DTSTART;TZID=Asia/Tokyo:20260416T201500
DTEND;TZID=Asia/Tokyo:20260416T223000
DTSTAMP:20260421T040419
CREATED:20220919T042150Z
LAST-MODIFIED:20220923T164009Z
UID:10266451-1776370500-1776378600@dance.gdp22.com
SUMMARY:On2 SALSA Lesson By MISAKI @ 横浜 Night Fire
DESCRIPTION:木曜日は！\n20:15~21:15 横浜ナイトファイヤーにてon2レッスン初級です✨\n21:15~みさきセレクトのDJタイム！ソーシャルからの参加も大歓迎です😊\nオープンレッスンなので予約なしで受講可能です💕 \n初心者にも優しいリード＆フォローの基礎が学べます。\nぜひぜひ体験しにきてください😀
URL:https://dance.gdp22.com/event/on2-salsa-lesson-by-misaki/2026-04-16/
LOCATION:横浜 Night Fire\, 神奈川県横浜市中区末吉町4-75 末吉ショッピングセンター 2F\, 横浜\, 231-0055\, 日本
CATEGORIES:サルサon2,ソーシャル
ATTACH;FMTTYPE=image/jpeg:https://dance.gdp22.com/wp-content/uploads/306091983_578222614089110_6827983030963953805_n.jpg
END:VEVENT
BEGIN:VEVENT
DTSTART;TZID=Asia/Tokyo:20260416T200000
DTEND;TZID=Asia/Tokyo:20260416T235900
DTSTAMP:20260421T040419
CREATED:20220831T030415Z
LAST-MODIFIED:20220831T030415Z
UID:10261003-1776369600-1776383940@dance.gdp22.com
SUMMARY:ミーシャャ・ON2サルサ入門
DESCRIPTION:カフェルンビータ（京都） \n詳細はWEB参照
URL:https://dance.gdp22.com/event/dance-32751/2026-04-16/
LOCATION:カフェルンビータ（京都）\, 京都府京都市中京区山崎町２５８−１９ 珠光ビル三条 ３F\, 京都\, 604-8032\, 日本
CATEGORIES:サルサon2,ソーシャル
END:VEVENT
BEGIN:VEVENT
DTSTART;TZID=Asia/Tokyo:20260416T194500
DTEND;TZID=Asia/Tokyo:20260416T210000
DTSTAMP:20260421T040419
CREATED:20250426T084811Z
LAST-MODIFIED:20250426T084811Z
UID:10283197-1776368700-1776373200@dance.gdp22.com
SUMMARY:SON CUBANO
DESCRIPTION:19:45～21:00\n￥1\,100\n今月から久しぶりのSONです。\n古きよき美しいキューバ音楽ソンをエレガントに\n躍れるようにレッスンしましょう
URL:https://dance.gdp22.com/event/dance-31372-2/2026-04-16/
LOCATION:Dance&Dining桜井通り（熊本）\, 熊本県熊本市中央区上通町5-10桜井ビル4F\, 熊本\, 860-0845
CATEGORIES:ソンギター・トレス,ソーシャル,カシーノスタイル,サルサ全般
END:VEVENT
BEGIN:VEVENT
DTSTART;TZID=Asia/Tokyo:20260416T193000
DTEND;TZID=Asia/Tokyo:20260416T235900
DTSTAMP:20260421T040419
CREATED:20220919T061433Z
LAST-MODIFIED:20220919T061433Z
UID:10266184-1776367800-1776383940@dance.gdp22.com
SUMMARY:BACHAKIZZ Night
DESCRIPTION:インストラクター\nMarkos & Saori \n19:30-20:15 Kizomba\n20:15-21:00 Bachata\n21:00-24:00 Party  \n1 Lesson ＋ Party ¥1500\n2 Lesson ＋ Party ¥2000\n Only Party ¥1100(w1drink) \n和気あいあいとした楽しいレッスンですので、初めての方でも大丈夫です❣⃛\nパーティでは好きな曲や踊りたい曲があればリクエストください。可能な限り対応させていただきます。 \nEL RINCON LATINO(大阪)
URL:https://dance.gdp22.com/event/bachakizz-night/2026-04-16/
LOCATION:EL RINCON LATINO(大阪)\, 大阪府大阪市中央区心斎橋筋２丁目６−８ シャンペンジャムビル 4F\, 大阪\, 542-0085\, 日本
CATEGORIES:ソーシャル,バチャータ全般,キゾンバ全般
ATTACH;FMTTYPE=image/jpeg:https://dance.gdp22.com/wp-content/uploads/301806533_625121028965476_73485559564743689_n.jpg
END:VEVENT
BEGIN:VEVENT
DTSTART;TZID=Asia/Tokyo:20260415T210000
DTEND;TZID=Asia/Tokyo:20260415T233000
DTSTAMP:20260421T040419
CREATED:20220531T022312Z
LAST-MODIFIED:20220531T022312Z
UID:10215013-1776286800-1776295800@dance.gdp22.com
SUMMARY:Dj time
DESCRIPTION:¥1\,000（with 1 drink）\nサルサ70％ バチャータ30％\n終了時間は各お店にお問い合わせください。
URL:https://dance.gdp22.com/event/dj-time-3/2026-04-15/
LOCATION:新宿クラブ レオン(B1F)\, 東京都新宿区新宿５－１７－６ Ｂ１\, 東京\, 160-0022\, 日本
CATEGORIES:ソーシャル
END:VEVENT
BEGIN:VEVENT
DTSTART;TZID=Asia/Tokyo:20260415T203000
DTEND;TZID=Asia/Tokyo:20260415T233000
DTSTAMP:20260421T040419
CREATED:20220531T021520Z
LAST-MODIFIED:20220531T021520Z
UID:10214764-1776285000-1776295800@dance.gdp22.com
SUMMARY:Dj time
DESCRIPTION:20:30-　Dj time\n終了時間は各お店にお問い合わせください。
URL:https://dance.gdp22.com/event/dj-time/2026-04-15/
LOCATION:新宿クラブ レオン(B1F)\, 東京都新宿区新宿５－１７－６ Ｂ１\, 東京\, 160-0022\, 日本
CATEGORIES:ソーシャル
END:VEVENT
BEGIN:VEVENT
DTSTART;TZID=Asia/Tokyo:20260415T200000
DTEND;TZID=Asia/Tokyo:20260415T233000
DTSTAMP:20260421T040419
CREATED:20220919T050822Z
LAST-MODIFIED:20220919T050822Z
UID:10265891-1776283200-1776295800@dance.gdp22.com
SUMMARY:Bachata Wednesdays
DESCRIPTION:Bachata lessons & Mini social time \n20:00-21:00 Beginner lesson\n21:30-22:30 Intermediate lesson\n22:30- Mini social time  \nLocation: Bailando バイランド\nPrice: 1\,500yen (1drink)/lesson \nLet’s enjoy bachata with us!
URL:https://dance.gdp22.com/event/bachata-wednesdays/2026-04-15/
LOCATION:Bailando(沖縄)\, 沖縄県沖縄市中央１丁目１３−６ 2F\, 沖縄市\, 904-0004\, 日本
CATEGORIES:ソーシャル,バチャータ全般
ATTACH;FMTTYPE=image/jpeg:https://dance.gdp22.com/wp-content/uploads/306919486_10166537096895565_8524204520440190774_n.jpg
END:VEVENT
BEGIN:VEVENT
DTSTART;TZID=Asia/Tokyo:20260415T195000
DTEND;TZID=Asia/Tokyo:20260415T211500
DTSTAMP:20260421T040419
CREATED:20250426T084454Z
LAST-MODIFIED:20250426T084454Z
UID:10282937-1776282600-1776287700@dance.gdp22.com
SUMMARY:初級 Salsa&Bachata
DESCRIPTION:初級 Salsa&Bachata\n19:50～21:15\n￥1\,100\nサルサとバチャータが自然と踊れるように、音の取り方、一人で踊れるシャイン、ペアで踊るリード&フォローをレッスンします。
URL:https://dance.gdp22.com/event/dance-31359-2/2026-04-15/
LOCATION:Dance&Dining桜井通り（熊本）\, 熊本県熊本市中央区上通町5-10桜井ビル4F\, 熊本\, 860-0845
CATEGORIES:バチャータ,ソーシャル,バチャータ全般,サルサ全般
ATTACH;FMTTYPE=image/jpeg:https://dance.gdp22.com/wp-content/uploads/com_party.jpg
END:VEVENT
END:VCALENDAR