BEGIN:VCALENDAR
VERSION:2.0
PRODID:-//Dancing Pono (ダンシングポノ) - ECPv6.15.12//NONSGML v1.0//EN
CALSCALE:GREGORIAN
METHOD:PUBLISH
X-WR-CALNAME:Dancing Pono (ダンシングポノ)
X-ORIGINAL-URL:https://dance.gdp22.com
X-WR-CALDESC:Dancing Pono (ダンシングポノ) のイベント
REFRESH-INTERVAL;VALUE=DURATION:PT1H
X-Robots-Tag:noindex
X-PUBLISHED-TTL:PT1H
BEGIN:VTIMEZONE
TZID:Asia/Tokyo
BEGIN:STANDARD
TZOFFSETFROM:+0900
TZOFFSETTO:+0900
TZNAME:JST
DTSTART:20220101T000000
END:STANDARD
END:VTIMEZONE
BEGIN:VEVENT
DTSTART;TZID=Asia/Tokyo:20231223T180000
DTEND;TZID=Asia/Tokyo:20231223T230000
DTSTAMP:20260422T052922
CREATED:20231201T012935Z
LAST-MODIFIED:20231201T012935Z
UID:10205766-1703354400-1703372400@dance.gdp22.com
SUMMARY:2023年 桜井通りXmas Latin Party ☆
DESCRIPTION:桜井通り毎年恒例のXmasParty\n今年も飲んで踊って盛り上がりましょう！\n地元熊本はもちろん、他県からもたくさんのゲストがやって来ます。\nミニレッスン♪やパフォーマンス豪華抽選会ダンスタイム等、みんなで楽しみましょう！\nドレスコード：クリスマスカラー\nRedGreenWhite\nベストドレッサー賞用意してます！\n12月23日(土)\n桜井通りX’MASラテンパーティ\n18:00～23:00\n入場料￥2\,000(w1d)\nMC あわちゃん\nDJ King Tanaka(福岡)\nタイムテーブル(予定)\n18:00～オープン\n18:10～ミニレッスン\n19:00～パフォーマンス① ダンスタイム\n20:00～パフォーマンス② 抽選会\n20:30～ダンスタイム\n23:00～終了予定\nパフォーマー\n・サルセロリ&温子(福岡)\n・ファニーラテイナーズ(福岡)\n・Mari Otsuka with Salsa Gatita (福岡）\n・Borboleta choreo team JAPAN（福岡）\n・MAC’S（広島）\n・サルサルク\n・el sueñito\n・チャーリー’s ANGEL\n・DisNoche\n・桜井ダンサーズ\nand more
URL:https://dance.gdp22.com/event/dance-57197/
LOCATION:Dance&Dining桜井通り（熊本）\, 熊本県熊本市中央区上通町5-10桜井ビル4F\, 熊本\, 860-0845
CATEGORIES:クリスマスイベント・忘年会・カウントダウン・初踊り,パフォーマンスあり,ソーシャル
ATTACH;FMTTYPE=image/jpeg:https://dance.gdp22.com/wp-content/uploads/399820867_851618423427457_5352876764755092835_n.jpg
END:VEVENT
END:VCALENDAR