BEGIN:VCALENDAR
VERSION:2.0
PRODID:-//Dancing Pono (ダンシングポノ) - ECPv6.15.12//NONSGML v1.0//EN
CALSCALE:GREGORIAN
METHOD:PUBLISH
X-WR-CALNAME:Dancing Pono (ダンシングポノ)
X-ORIGINAL-URL:https://dance.gdp22.com
X-WR-CALDESC:Dancing Pono (ダンシングポノ) のイベント
REFRESH-INTERVAL;VALUE=DURATION:PT1H
X-Robots-Tag:noindex
X-PUBLISHED-TTL:PT1H
BEGIN:VTIMEZONE
TZID:Asia/Tokyo
BEGIN:STANDARD
TZOFFSETFROM:+0900
TZOFFSETTO:+0900
TZNAME:JST
DTSTART:20240101T000000
END:STANDARD
END:VTIMEZONE
BEGIN:VEVENT
DTSTART;TZID=Asia/Tokyo:20251101T101500
DTEND;TZID=Asia/Tokyo:20251101T130000
DTSTAMP:20260422T063446
CREATED:20220701T032122Z
LAST-MODIFIED:20220701T032122Z
UID:10230770-1761992100-1762002000@dance.gdp22.com
SUMMARY:朝活サルサ＆バチャータ@JBA
DESCRIPTION:朝活サルサ＆バチャータ\n毎週土曜日10：15～13：00\n男性2000円W1D\n女性1500円W1D\nフリーソフトドリンク、持ち込み可
URL:https://dance.gdp22.com/event/dance-9128/2025-11-01/
LOCATION:小伝馬町スタジオJBA\, 東京都中央区日本橋大伝馬町１１−８ ＨＡＴビル B1F\, 小伝馬町\, 103-0011\, 日本
CATEGORIES:バチャータ全般,サルサ全般
ATTACH;FMTTYPE=image/png:https://dance.gdp22.com/wp-content/uploads/81c6b57e6778f2349ab9fb9ed1dc1784.png
END:VEVENT
BEGIN:VEVENT
DTSTART;TZID=Asia/Tokyo:20251101T134500
DTEND;TZID=Asia/Tokyo:20251101T150000
DTSTAMP:20260422T063446
CREATED:20220819T032823Z
LAST-MODIFIED:20220829T153326Z
UID:10254534-1762004700-1762009200@dance.gdp22.com
SUMMARY:Camelia Open Class（初級）バチャータ
DESCRIPTION:Studio Camelia Open Class（初級）\n◆毎週水曜日 9:45〜11:00 \n（サルサ） \n◆毎週土曜日13:45～15:00 \n（バチャータ） \n要予約 \nチケット制　￥15000 \n10枚綴り　5ヶ月間有効 \n1ﾚｯｽﾝあたり￥1500 \nビジターレッスン ¥2000 \n※ボディメイクレッスンと併せて受講の場合割引あり \n入門クラスを受講修了者、サルサ経験者のためのクラス \nベーシックステップ \nボディムーブメント \nターンパターン \nスタイリング \nシャイン \nパートナーワーク \nなど、ソーシャルダンスを踊るための基礎から応用まで
URL:https://dance.gdp22.com/event/dance-30795/2025-11-01/
LOCATION:Studio Camelia(愛媛）\, 愛媛県松山市小村町353-39\, 愛媛\, 791-1125\, 日本
CATEGORIES:バチャータ全般
ATTACH;FMTTYPE=image/jpeg:https://dance.gdp22.com/wp-content/uploads/image-20.jpg
ORGANIZER;CN="%E5%B1%B1%E5%8F%A3%E7%BE%8E%E4%BB%A3":MAILTO:studiocamelia34@gmail.com
END:VEVENT
BEGIN:VEVENT
DTSTART;TZID=Asia/Tokyo:20251101T150000
DTEND;TZID=Asia/Tokyo:20251101T160000
DTSTAMP:20260422T063446
CREATED:20220624T023026Z
LAST-MODIFIED:20220729T030143Z
UID:10227174-1762009200-1762012800@dance.gdp22.com
SUMMARY:Bachata Class By HIDE&PEKO
DESCRIPTION:Bachata Class\n​週末お昼間のレッスン\n​　毎週 土曜日　\n15:00 – 16:00 (1h) \n​講師：HIDE\, PEKO\n​@BUZZ 渋谷東急SQUEARE \n受講生募集中！バチャータ未経験者から、経験者まで受講可能です。 \n​\n​単発受講とお得なチケット制とで選べます！
URL:https://dance.gdp22.com/event/bachata-class-by-hidepeko/2025-11-01/
LOCATION:BUZZ  渋谷東口SQUARE\, 東京都渋谷区渋谷2-22-8 名取ビル1階\, 渋谷\, 150-0002\, 日本
CATEGORIES:バチャータ全般
ATTACH;FMTTYPE=image/png:https://dance.gdp22.com/wp-content/uploads/275982728_647826136279965_1388238450379262023_n.png
END:VEVENT
BEGIN:VEVENT
DTSTART;TZID=Asia/Tokyo:20251101T170000
DTEND;TZID=Asia/Tokyo:20251101T235900
DTSTAMP:20260422T063446
CREATED:20220921T030523Z
LAST-MODIFIED:20221002T161654Z
UID:10264436-1762016400-1762041540@dance.gdp22.com
SUMMARY:Saturday Party @ shallwedancecafe
DESCRIPTION:17:00- 初中級バチャータレッスン\n18:00-初中級サルサレッスン\nRico\n19:00-24:00 Party\n先着10人まで¥500 1drink\n20人まで¥1000 2drink\n40人まで¥1500 1drink\n40人から¥2000 1drink \nShall We Dance Cafe(大阪)
URL:https://dance.gdp22.com/event/saturday-party/2025-11-01/
LOCATION:Shall We Dance Cafe(大阪)\, 大阪府大阪市北区兎我野町４−９\, 大阪\, 530-0056\, 日本
CATEGORIES:ソーシャル,バチャータ全般,サルサ全般
END:VEVENT
BEGIN:VEVENT
DTSTART;TZID=Asia/Tokyo:20251101T183000
DTEND;TZID=Asia/Tokyo:20251101T235900
DTSTAMP:20260422T063446
CREATED:20220713T024956Z
LAST-MODIFIED:20220714T182605Z
UID:10250810-1762021800-1762041540@dance.gdp22.com
SUMMARY:MITSALSA PARTY (毎月第１土曜日) By Mitsue
DESCRIPTION:毎月第1土曜日 (Sat)　MITSALSA Party \nOn2のレッスンとBachataのレッスンもあるパーティです。 \nセンシュアルバチャータが苦手だけど、バチャータは踊れるように \nなりたい人におすすめなイベントですよ！ \nDJ timeはBachataとSalsa半々！RYOさん! \n勿論DJ timeはOn2や Bachataの他、On1やCuban の方もウエルカムです♬ \n是非私たちと一緒に踊りましょー！ \n■ 日付\n毎月第１土曜日\n■ 場所\nCalle Ocho Roppongi（カジェオチョ）\n東京都港区六本木3-10-9 三経ビル 12階　〒106-0032\n六本木出口５番から歩いて１分\n俳優座前にあるすしざんまいの上12階、看板には『Infinity』と書いてあります。\nすしざんまいの前のエレベーターをご使用ください。 \n  \n■ 入場料\n1 Lesson & Patty w1d ¥2\,000\n2 Lesson & Party w1d ¥3\,000\nParty w1d ¥1\,500 \n■タイムテーブル\n・18:30-19:30 On2 All Level  by Mitsue\n・19:30-20:30 Bachata All Level by Mitsue\n・20:30-Late Dj Time by RYO\nOn1 / On2 / Cuban / Bachata
URL:https://dance.gdp22.com/event/dance-13919/2025-11-01/
LOCATION:六本木Calle ocho\, 東京都港区六本木3-10-9 三経ビル 12階\, 六本木\, 106-0032\, 日本
CATEGORIES:サルサon2,バチャータ全般
ATTACH;FMTTYPE=image/jpeg:https://dance.gdp22.com/wp-content/uploads/Sat.jpg
END:VEVENT
BEGIN:VEVENT
DTSTART;TZID=Asia/Tokyo:20251101T190000
DTEND;TZID=Asia/Tokyo:20251101T230000
DTSTAMP:20260422T063446
CREATED:20220912T044323Z
LAST-MODIFIED:20220916T075221Z
UID:10272974-1762023600-1762038000@dance.gdp22.com
SUMMARY:MIL BACHATAS @ Mirage
DESCRIPTION:Organized by Jasmine \n19:00- Lesson\n20:30-23:00 Party \nBachata/Kizomba \n\n\n\n\n\n\n\n\n\nMil Bachatasの名付け由来　2019年10月\n「Mil」はスペイン語の「千」という意味です。千夜一夜物語からインスピレーションされ、私達の主催するイベントはシェヘラザードが語った物語と同じくらい魅力的にしたいと願っています。そして、千回続けれるようにとの願いを込めた千円イベントになることも目指しています。\n\n\n– Why it is call Mil Bachatas? –\n“Mil” in Spanish means one thousand. We were inspired from “Tales from the Thousands and One Nights”\, and hope our events are as attractive as the tales told by Scheherazade. We also place great hope that the events are successful and will continue for as many as one thousand times. Last but not least\, our event only costs 1000 JPY.
URL:https://dance.gdp22.com/event/mil-bachatas/2025-11-01/
LOCATION:六本木 Bar Mirage\, 東京都港区六本木3-14-14 VORT六本木kaleido 5階\, 六本木\, 106-0032\, 日本
CATEGORIES:ソーシャル,バチャータ全般,キゾンバ全般
ATTACH;FMTTYPE=image/jpeg:https://dance.gdp22.com/wp-content/uploads/300635895_372875145033597_7875918747997449427_n.jpg
END:VEVENT
BEGIN:VEVENT
DTSTART;TZID=Asia/Tokyo:20251101T200000
DTEND;TZID=Asia/Tokyo:20251101T233000
DTSTAMP:20260422T063446
CREATED:20251027T120534Z
LAST-MODIFIED:20251027T120534Z
UID:10209528-1762027200-1762039800@dance.gdp22.com
SUMMARY:Mambongo Social
DESCRIPTION:11/1(土)　Mambongo Social\nhttps://www.facebook.com/events/3893379177619631 \n  \n11月のMambongoは DJ analogmambo & DJ JONA-X サルサを中心に、ダンサー心をくすぐるラテンサウンド全開！ファンタスティックで超ごきげんなフロアをお届けします\n\n DJsDJ analogmamboDJ JONA-Xㅤㅤㅤ Time Schedule20:00–23:30 DJ Time\nㅤ Entry: ¥2\,000 yen + 1drink※ Cash onlyㅤㅤVenue 六本木Studio PEPE港区六本木7-17-12 ビジネスアパートメンツB1[MAP] http://www.studio-pepe.com/access.htmlAddress: 7-17-12-B1\, Roppongi\, Minato-ku Tokyo(Tokyo Metro Hibiya Line Roppongi Station 2-minute walk from Exit 2)\n\nㅤ-お願い-スタジオペペは「下足禁止」となっています。必ずダンスシューズまたは上履きをご用意ください。イベント中に撮影された写真・動画がSNS等に掲載される場合があります。マナー・エチケットへのご協力をお願いします。\n\n\n#salsadancing #salsasocial #SalsaTokyo #Mambo #SalsaCubana #SalsaBachata#TokyoLatinNight #Mambongo\n 
URL:https://dance.gdp22.com/event/dance-2575-2022-05-07-11/
LOCATION:六本木スタジオペペ\, 東京都港区六本木７丁目１７−１２ 六本木ビジネスアパートメンツ\, 六本木\, 106-0032\, 日本
CATEGORIES:サルサon1,センシュアルバチャータ,サルサon2,バチャータ全般
ATTACH;FMTTYPE=image/jpeg:https://dance.gdp22.com/wp-content/uploads/0402.jpg
END:VEVENT
BEGIN:VEVENT
DTSTART;TZID=Asia/Tokyo:20251101T210000
DTEND;TZID=Asia/Tokyo:20251101T230000
DTSTAMP:20260422T063446
CREATED:20250426T085922Z
LAST-MODIFIED:20250426T085943Z
UID:10283695-1762030800-1762038000@dance.gdp22.com
SUMMARY:土曜LatinNight
DESCRIPTION:Salsa Bachata Kizomba\n21:00～23:00\nParty￥1\,500\nLesson+Party ￥2\,000
URL:https://dance.gdp22.com/event/dance-94199/2025-11-01/
LOCATION:Dance&Dining桜井通り（熊本）\, 熊本県熊本市中央区上通町5-10桜井ビル4F\, 熊本\, 860-0845
CATEGORIES:サルサ,バチャータ,キゾンバ,ソーシャル,バチャータ全般,キゾンバ全般,サルサ全般
END:VEVENT
BEGIN:VEVENT
DTSTART;TZID=Asia/Tokyo:20251102T140000
DTEND;TZID=Asia/Tokyo:20251102T180000
DTSTAMP:20260422T063446
CREATED:20220914T044845Z
LAST-MODIFIED:20220914T044845Z
UID:10279507-1762092000-1762106400@dance.gdp22.com
SUMMARY:エレガントサルサ＆キゾンバ＆バチャータ
DESCRIPTION:◆エレガントサルサ＆キゾンバ＆バチャータ \nダンス初心者の為のレッスンが有ります。 \n初めての方も参加出来ますのでご安心ください。 \n空気の入れ替えの出来る明るいスタジオで踊りませんか？ \n一人で参加出来ます。初心者も気楽に参加できるイベントです。 \n上級者はフリータイムからでも参加出来ます。 \nドリンクは持ち込み制ですのでご自分で好きなドリンクお持ちください。 \nアルコールも持ち込み可能です。 \n■料金：１レッスン1\,800円・2レッスン2\,200円・3レッスン2\,500円 \n　フリータイムのみ1\,000円　　（レッスンにはフリータイム料込。） \n■タイムテーブル(レッスン担当－代行Yoshi \n14:10～14:40　サルサ　Lesson　初級 \n14:40～15:00　バチャータ　Lesson　初級 \n15:00～15:40　urbankiz  Lesson 初級 \n15:40～18:00　フリータイム \n■住所：横浜市中区山下町１６１－１０マリーゴールド元町　E-Studio横浜201号室 \n■交通：JR「石川町駅」４分・みなとみらい線「元町中華街駅」4番改札出て８分 \n■主催：エレガントサルサ　090－3049－1758　　 \n注意） \nマスク着用。窓を開けて空気の入れ替えします。 \n上履き又はダンスシューズ、お持ちください。靴下でもOKです。予約は不要です。 \n●道順：JR石川町駅南口改札を出て正面に川が有ります。右に歩き1つ目の信号「元町交差点」左折。 \n川を渡り「西の橋交差点」を右折するとひとみ薬局。その隣「かばのおうどん」その隣に \n鉄板焼きヒジテツ。ヒジテツの入っている茶色いビルがマリーゴールド元町です。 \nエントランスは大通りの自動販売機の横が入口になります。 \n横浜E-Studio
URL:https://dance.gdp22.com/event/dance-34438/2025-11-02/
LOCATION:横浜E-Studio\, 神奈川県横浜市中区山下町161-10マリーゴールド元町201\, 横浜\, 日本
CATEGORIES:バチャータ全般,キゾンバ全般,サルサ全般
END:VEVENT
BEGIN:VEVENT
DTSTART;TZID=Asia/Tokyo:20251102T141500
DTEND;TZID=Asia/Tokyo:20251102T150000
DTSTAMP:20260422T063446
CREATED:20221116T033612Z
LAST-MODIFIED:20221116T035301Z
UID:10285224-1762092900-1762095600@dance.gdp22.com
SUMMARY:バチャータクラス（日曜）
DESCRIPTION:初中級～中上級
URL:https://dance.gdp22.com/event/dance-39749/2025-11-02/
LOCATION:恵比寿スタジオJ\, 東京都渋谷区東3-22-9 小倉ビルB1\, 恵比寿\, 150-0011\, 日本
CATEGORIES:サルサ,バチャータ,バチャータ全般
ATTACH;FMTTYPE=image/png:https://dance.gdp22.com/wp-content/uploads/schedule_info2-13.png
END:VEVENT
BEGIN:VEVENT
DTSTART;TZID=Asia/Tokyo:20251102T150000
DTEND;TZID=Asia/Tokyo:20251102T160000
DTSTAMP:20260422T063446
CREATED:20220603T010601Z
LAST-MODIFIED:20220729T015623Z
UID:10216539-1762095600-1762099200@dance.gdp22.com
SUMMARY:スタジオレオンBオープンクラス バチャータ (初級) by SHINJI
DESCRIPTION:“日曜日”週末にまとめてサルサ&バチャータを\nカリキュラム方式で集中的にマスターしましょう!\nオープンクラス　ルームB\nバチャータ　SHINJI\n(初級)\n1 Lesson ¥2\,000-\n2 Lesson ¥3\,500-\n3 Lesson ¥4\,000-
URL:https://dance.gdp22.com/event/dance-6591/2025-11-02/
LOCATION:新宿スタジオレオン(2F)\, 東京都新宿区新宿 5-17-6　2F\, 新宿\, 160-0022\, 日本
CATEGORIES:バチャータ全般
END:VEVENT
BEGIN:VEVENT
DTSTART;TZID=Asia/Tokyo:20251102T160000
DTEND;TZID=Asia/Tokyo:20251102T164500
DTSTAMP:20260422T063446
CREATED:20220620T034137Z
LAST-MODIFIED:20220620T034137Z
UID:10229227-1762099200-1762101900@dance.gdp22.com
SUMMARY:バチャータ By HIROMI
DESCRIPTION:バチャータ\nHIROMI \nhttps://www.studio-casino.com/%E4%BD%93%E9%A8%93%E3%83%AC%E3%83%83%E3%82%B9%E3%83%B3-%E5%88%9D%E3%82%81%E3%81%A6%E3%81%AE%E6%96%B9/%E6%96%99%E9%87%91/
URL:https://dance.gdp22.com/event/dance-7977/2025-11-02/
LOCATION:六本木ダンススタジオカシーノ\, 東京都港区六本木5-2-4第二鳥勝ビル四階\, 六本木\, 106-0032\, 日本
CATEGORIES:バチャータ全般
END:VEVENT
BEGIN:VEVENT
DTSTART;TZID=Asia/Tokyo:20251102T160000
DTEND;TZID=Asia/Tokyo:20251102T170000
DTSTAMP:20260422T063446
CREATED:20220603T011148Z
LAST-MODIFIED:20220729T015853Z
UID:10217035-1762099200-1762102800@dance.gdp22.com
SUMMARY:スタジオレオンAオープンクラス バチャータ (初級) by SHINJI
DESCRIPTION:“日曜日”週末にまとめてサルサ&バチャータを\nカリキュラム方式で集中的にマスターしましょう!\nオープンクラス　ルームA\nバチャータ　アシスタント (&SHINJI)\n(初級)\n1 Lesson ¥2\,000-\n2 Lesson ¥3\,500-\n(受講後は、そのまま地下1Fのクラブレオンに、入場料無料でフリータイムを楽しめます。イベント時除く)
URL:https://dance.gdp22.com/event/dance-6627/2025-11-02/
LOCATION:新宿スタジオレオン(2F)\, 東京都新宿区新宿 5-17-6　2F\, 新宿\, 160-0022\, 日本
CATEGORIES:バチャータ全般
END:VEVENT
BEGIN:VEVENT
DTSTART;TZID=Asia/Tokyo:20251102T170000
DTEND;TZID=Asia/Tokyo:20251102T174500
DTSTAMP:20260422T063446
CREATED:20220620T034412Z
LAST-MODIFIED:20220620T034412Z
UID:10229725-1762102800-1762105500@dance.gdp22.com
SUMMARY:バチャータ  振付Pairクラス By HIROMI
DESCRIPTION:バチャータ \n振付Pairクラス \nHIROMI \nhttps://www.studio-casino.com/%E4%BD%93%E9%A8%93%E3%83%AC%E3%83%83%E3%82%B9%E3%83%B3-%E5%88%9D%E3%82%81%E3%81%A6%E3%81%AE%E6%96%B9/%E6%96%99%E9%87%91/
URL:https://dance.gdp22.com/event/dance-7993/2025-11-02/
LOCATION:六本木ダンススタジオカシーノ\, 東京都港区六本木5-2-4第二鳥勝ビル四階\, 六本木\, 106-0032\, 日本
CATEGORIES:バチャータ全般
END:VEVENT
BEGIN:VEVENT
DTSTART;TZID=Asia/Tokyo:20251102T173000
DTEND;TZID=Asia/Tokyo:20251102T233000
DTSTAMP:20260422T063446
CREATED:20220921T032244Z
LAST-MODIFIED:20221002T160711Z
UID:10268833-1762104600-1762126200@dance.gdp22.com
SUMMARY:Freshman 初級/Sophomore 初中級 @ shallwedancecafe
DESCRIPTION:​Sunday – Practice Day \n​\nFreshman 初級 \n17:30 Bachata Lesson \n18:20 Salsa Lesson \n19:00 Social Party \n​ \nSophomore level　初中級 \n17:30 Bachata Lesson \n18:20 Salsa Lesson \n19:00 Social Party \n料金は公式を要参照 \nShall We Dance Cafe(大阪)
URL:https://dance.gdp22.com/event/dance-35093/2025-11-02/
LOCATION:Shall We Dance Cafe(大阪)\, 大阪府大阪市北区兎我野町４−９\, 大阪\, 530-0056\, 日本
CATEGORIES:ソーシャル,バチャータ全般,サルサ全般
END:VEVENT
BEGIN:VEVENT
DTSTART;TZID=Asia/Tokyo:20251102T190000
DTEND;TZID=Asia/Tokyo:20251102T235900
DTSTAMP:20260422T063446
CREATED:20220919T060314Z
LAST-MODIFIED:20220919T061714Z
UID:10269099-1762110000-1762127940@dance.gdp22.com
SUMMARY:Lucho Lesson＆party
DESCRIPTION:インストラクター\nLucho & Maki \nサルサやバチャータ初級レベルレッスンです。\n初心者の方も楽しくレッスンできますよ❣⃛ \n19:00-19:45 Bachata\n19:45-20:30 Salsa\n20:30-24:00 Party \n1 lesson ¥2000 (1drink)\n2 lesson ¥3000 (1drink)\nParty ¥1200 (1drink) \nEL RINCON LATINO(大阪)
URL:https://dance.gdp22.com/event/dance-34860/2025-11-02/
LOCATION:EL RINCON LATINO(大阪)\, 大阪府大阪市中央区心斎橋筋２丁目６−８ シャンペンジャムビル 4F\, 大阪\, 542-0085\, 日本
CATEGORIES:ソーシャル,バチャータ全般,サルサ全般
ATTACH;FMTTYPE=image/jpeg:https://dance.gdp22.com/wp-content/uploads/306599907_629375621873350_7149042135736730603_n.jpg
ORGANIZER;CN="Lucho (y Maki)":MAILTO:luchosalsadancelesson@gmail.com
END:VEVENT
BEGIN:VEVENT
DTSTART;TZID=Asia/Tokyo:20251103T190000
DTEND;TZID=Asia/Tokyo:20251103T233000
DTSTAMP:20260422T063446
CREATED:20220622T015251Z
LAST-MODIFIED:20220729T030810Z
UID:10229974-1762196400-1762212600@dance.gdp22.com
SUMMARY:Calle Ocho Bachata Paradise★～バチャータ初心者応援イベント～
DESCRIPTION:★Calle Ocho Bachata Paradise★\n広くて居心地よいCalle Ochoでバチャータを楽しみましょう！\n毎週月曜日！広くて居心地よい大人な空間で飲みながらバチャータを練習しましょう！\n初めての方でも大丈夫！ラテンダンス歴20年越えの経験豊富なインストラクターまさき(ち)が丁寧に教えます。\n経験者の方も一緒に楽しみましょう。まさき(ち)のアドバイスを聞きくる上級者の方もいらっしゃいます。\n日付： [毎週月曜日]\n時間：\n19:00～19:30 完全初心者レッスン\n19:30～20:20 初級レッスン\n20:20～23:30 DJ Time by DJ Masaki-chi\nエントランス: 1\,500円 (1ドリンク+2レッスン付き)\n場所：Calle Ocho Roppongi\n東京都港区六本木3-10-9 三経28ビル 12階\n※六本木交差点から六本木一丁目方面へ道路の右側を徒歩1分。すしざんまいの隣のエレベーターで12階までお越しください。看板は『Infinity』です。\n→ https://goo.gl/maps/m94Jbp2TRekwXpaG7\n＜まさき(ち) プロフィール＞\nラテンダンス歴21年、日本代表経験4回。東京、大阪、広島、ニューヨーク、ロサンゼルス、マイアミ、メキシコ、韓国、北京、シンガポールなど、国内外のビッグ・イベントに出演経験を持つ。\nステージとフロア、リードとフォローを全てこなす類い稀な実力を持つラテンダンサー、インストラクター、イベントオーガナイザー。\n—————————–\n== Calle Ocho Bachata Paradise==\nEvery Monday! Let’s drink & practice Bachata at the cozy spacious club!\nAbsolute beginners are welcome! Masaki-chi will help you dance and enjoy the night. He is one of the best instructor in Tokyo with 20 years of latin dance experiences.\nIntermediate and advanced dancers are also welcome. Some advanced dancers often come to seek advices from Masaki-chi.\nDate:  [Every Monday]\nTime:\n19:00-19:30 Absolute Beginner Bachata Lesson\n19:30-20:20 Beginner Bachata Lesson\n20:20-23:30 DJ Time by DJ Masaki-chi\nEntrance: 1\,500yen (with 1 drink + 2 lessons)\nVenue: Calle Ocho Roppongi\nSankei 28 Building 12F\, 3-10-9 Roppongi\, Minato-ku\, Tokyo\, 106-0032\n* 1 minute walk from the Roppongi Crossing. If you find Sushizanmai\, then take the elevator in front of it up to the 12th floor. The signboad is『Infinity』.\n-> https://goo.gl/maps/m94Jbp2TRekwXpaG7 \nHe has 21 years of latin dance experiences and has represented Japan for four times. He has performed at the big events in Tokyo\, Osaka\, Hiroshima\, New York\, Los Angeles\, Miami\, Mexico\, Korea\, Beijing\, Singapore and others.\nHe is good at both the stage performances and the social dancing\, and can execute both the leading and the following. He is one of the most well-known latin dancer\, instructor and event organizer in Japan.
URL:https://dance.gdp22.com/event/dance-8215/2025-11-03/
LOCATION:六本木Calle ocho\, 東京都港区六本木3-10-9 三経ビル 12階\, 六本木\, 106-0032\, 日本
CATEGORIES:バチャータ全般
ATTACH;FMTTYPE=image/jpeg:https://dance.gdp22.com/wp-content/uploads/285519210_1089511624977041_8788657868332572479_n.jpg
END:VEVENT
BEGIN:VEVENT
DTSTART;TZID=Asia/Tokyo:20251103T193000
DTEND;TZID=Asia/Tokyo:20251103T213000
DTSTAMP:20260422T063446
CREATED:20230327T024524Z
LAST-MODIFIED:20230401T025052Z
UID:10297077-1762198200-1762205400@dance.gdp22.com
SUMMARY:【振り付けで基礎を学ぶ】BACHATA CHOREO CLASS (センシュアルバチャータ)
DESCRIPTION:【振り付けで基礎を学ぶ】BACHATA CHOREO CLASS (センシュアルバチャータ) \n新宿ワークル　19:30～21:30 \nセンシュアルバチャータ　(3か月クール) \n3\,000円/回 4月/7月/10月/1月スタート \n「週1回3ヶ月で1自踊れるようになる」 \n★こんな人にオススメ\n・バチャータ初中級者\n・月2回以上通える方\n・体験有り 1500円/1H\n・途中から参加もOK！！ \nDANNY先生のクローズドクラスです。 \n新しい振付につきバチャータ好きのメンバーを大募集！ \n曲は NEGRO MATE DANI Jで踊ります。 \nロマンティックな曲に合わせて、リード＆フォローで2時間みっちり踊り込みます。 \nStudio Worcle新宿で毎週月曜19:30から開催中。 \n期間中いつから始めてもOK！ \n体験レッスンもやってるので、1人でも気軽に参加してね。 \n予約はメールかLINEのQRコードから！ \nMAIL – dhkspyder@gmail.com \n★期間：月程度\n★料金： ¥3100/1回（スタジオ代込み）\n★時間： 19:30～21:30（月曜日）\n★場所： Studio Worcle新宿（新宿区西新宿7-16-7 フジビル21）
URL:https://dance.gdp22.com/event/dance-44333/2025-11-03/
LOCATION:新宿ワークル\, 東京都新宿区西新宿７丁目１６−７ 第２１フジビル\, 新宿\, 〒160-0023\, 日本
CATEGORIES:センシュアルバチャータ,バチャータ全般
ATTACH;FMTTYPE=image/jpeg:https://dance.gdp22.com/wp-content/uploads/unnamed-file.jpg
ORGANIZER;CN="Danny%EF%BC%88%E3%83%80%E3%83%8B%E3%83%BC%EF%BC%89":MAILTO:DHKSPYDER@gmail.com
END:VEVENT
BEGIN:VEVENT
DTSTART;TZID=Asia/Tokyo:20251104T190000
DTEND;TZID=Asia/Tokyo:20251104T230000
DTSTAMP:20260422T063446
CREATED:20220712T161324Z
LAST-MODIFIED:20220712T161817Z
UID:10240168-1762282800-1762297200@dance.gdp22.com
SUMMARY:SUPER TUESDAY“AMUSEMENT PARK LEON”@新宿スタジオレオン
DESCRIPTION:☆☆☆大好評！クラブレオン・スタジオレオン合同新企画！！\n世界方式が東京に上陸。★★★\n☆2Fのキゾンバルーム（スタジオレオン）ではキゾンバがかかります。\n☆キゾンバルームにご入場頂いた方は、スタジオレオン(サルサ、バチャータ)はエントランスフリーになります。\n☆受付は2Fスタジオレオン(広い方のスタジオ)になりますのでスタジオレオンに直接お越し下さい。\n☆キゾンバルームはフード・ドリンク持ち込み自由です。(クラブレオンは持ち込み厳禁)\n飲食しながらごゆっくりと特別な火曜の夜をお過ごし下さい。 \n19 : 00～20 : 30 kizomba lesson 　(Shunsuke)\n20：45～23：00　Party DJ　NAMIN \nParty only ￥1500（持ち込み自由）\nlesson & Party ￥2500\nlesson only ￥2000 \nPLACE　スタジオレオンBルーム（クラブレオンのビル2Fの広い部屋） \nDJ紹介\n日本でのキゾンバ草創期より海外のワークショップやパーティーに積極的に参加し、\n特にヨーロッパのキゾンバパーティーでDJが曲を加工したり、絶妙に曲と曲を繋ぐことにより\n会場全体を盛り上げる姿に魅了されDJ技術を学ぶきっかけとなる。\nキゾンバのみならず、サルサ、バチャータにも造詣が深い。\nピアノで培った音へのこだわり、リズムへの理解から最適な選曲とスムーズな曲の繋ぎを得意とする。\nキゾンバの数々のジャンルをバランス良くかけ、誰でも楽しめる選曲をモットーとする。 \n※受付の際、手洗い、アルコール殺菌、検温、チェックシート記入をお願いしております。\nご協力の程宜しくお願い申し上げます。\n皆様のお越しをお待ちしております。
URL:https://dance.gdp22.com/event/dance-13648/2025-11-04/
LOCATION:新宿スタジオレオン(2F)\, 東京都新宿区新宿 5-17-6　2F\, 新宿\, 160-0022\, 日本
CATEGORIES:バチャータ全般,キゾンバ全般,サルサ全般
ATTACH;FMTTYPE=image/jpeg:https://dance.gdp22.com/wp-content/uploads/event_Thu_2021.jpg
END:VEVENT
BEGIN:VEVENT
DTSTART;TZID=Asia/Tokyo:20251104T193500
DTEND;TZID=Asia/Tokyo:20251104T210000
DTSTAMP:20260422T063446
CREATED:20241216T232407Z
LAST-MODIFIED:20241216T232407Z
UID:10232954-1762284900-1762290000@dance.gdp22.com
SUMMARY:東京バチャータコネクション1 By ルイ
DESCRIPTION:毎週火曜日　新宿　スタジオレス\n19:35-21:00\n入門レッスン\n音楽を楽しみ、ステップを踏むところから\n３ヶ月で１曲フルに踊れるようになることを目指します。\n21:00-22:30\n初級レッスン\n入門を終えた方向けのコースです。\n６ヶ月で１曲フルに美しく、楽しく踊れるようになることを目指します。\n初回体験\n1\,000円\n４枚チケット（期限２ヶ月）\n通常 　12\,000円\nU35割 10\,000円\nU25割 9\,000円\n8枚チケット（期限4ヶ月）\n通常　 20\,000円\nU35割 18\,000円\nU25割 16\,000円\n12枚チケット（期限6ヶ月）\n通常　 27\,000円\nU35割 24\,000円\nU25割 22\,000円\n単発利用\n3\,500円
URL:https://dance.gdp22.com/event/dance-8804/2025-11-04/
LOCATION:新宿スタジオレス\, 東京都新宿区百人町1-23-4　D-SQUARE Shinjuku ７階\, 新宿\, 169-0073\, 日本
CATEGORIES:バチャータ全般
ATTACH;FMTTYPE=image/jpeg:https://dance.gdp22.com/wp-content/uploads/01.jpg
END:VEVENT
BEGIN:VEVENT
DTSTART;TZID=Asia/Tokyo:20251104T210000
DTEND;TZID=Asia/Tokyo:20251104T223000
DTSTAMP:20260422T063446
CREATED:20241216T232408Z
LAST-MODIFIED:20241216T232408Z
UID:10233011-1762290000-1762295400@dance.gdp22.com
SUMMARY:東京バチャータコネクション2 By ルイ
DESCRIPTION:毎週火曜日　新宿　スタジオレス\n19:35-21:00\n入門レッスン\n音楽を楽しみ、ステップを踏むところから\n３ヶ月で１曲フルに踊れるようになることを目指します。\n21:00-22:30\n初級レッスン\n入門を終えた方向けのコースです。\n６ヶ月で１曲フルに美しく、楽しく踊れるようになることを目指します。\n初回体験\n1\,000円\n４枚チケット（期限２ヶ月）\n通常 　12\,000円\nU35割 10\,000円\nU25割 9\,000円\n8枚チケット（期限4ヶ月）\n通常　 20\,000円\nU35割 18\,000円\nU25割 16\,000円\n12枚チケット（期限6ヶ月）\n通常　 27\,000円\nU35割 24\,000円\nU25割 22\,000円\n単発利用\n3\,500円
URL:https://dance.gdp22.com/event/dance-8825/2025-11-04/
LOCATION:新宿スタジオレス\, 東京都新宿区百人町1-23-4　D-SQUARE Shinjuku ７階\, 新宿\, 169-0073\, 日本
CATEGORIES:バチャータ全般
ATTACH;FMTTYPE=image/jpeg:https://dance.gdp22.com/wp-content/uploads/original.jpeg
END:VEVENT
BEGIN:VEVENT
DTSTART;TZID=Asia/Tokyo:20251105T190000
DTEND;TZID=Asia/Tokyo:20251105T194500
DTSTAMP:20260422T063446
CREATED:20220620T022542Z
LAST-MODIFIED:20220620T022542Z
UID:10223947-1762369200-1762371900@dance.gdp22.com
SUMMARY:バチャータ 初心者スペシャル  By ERICK
DESCRIPTION:初心者スペシャル \n※第1・3水曜日のみ \nERICK \nhttps://www.studio-casino.com/%E4%BD%93%E9%A8%93%E3%83%AC%E3%83%83%E3%82%B9%E3%83%B3-%E5%88%9D%E3%82%81%E3%81%A6%E3%81%AE%E6%96%B9/%E6%96%99%E9%87%91/
URL:https://dance.gdp22.com/event/dance-7747/2025-11-05/
LOCATION:六本木ダンススタジオカシーノ\, 東京都港区六本木5-2-4第二鳥勝ビル四階\, 六本木\, 106-0032\, 日本
CATEGORIES:バチャータ全般
END:VEVENT
BEGIN:VEVENT
DTSTART;TZID=Asia/Tokyo:20251105T190000
DTEND;TZID=Asia/Tokyo:20251105T230000
DTSTAMP:20260422T063446
CREATED:20251105T072641Z
LAST-MODIFIED:20251105T072859Z
UID:10233182-1762369200-1762383600@dance.gdp22.com
SUMMARY:Salserian⭐︎ERIさんLesson／Alegriaな水曜日／DJShiguelいちろー
DESCRIPTION:第１水曜日恒例のスタジオJＢＡでのサルサイベントです！\nサルセリアンー第１水曜日　JBA　　　　　　　第2水曜日 JBA　　　　　　　第3日曜日 浜松町　　　　　　　　　　　　　BuZZなどを恒例に開催しております！\n第１水曜日は19:00〜Open19：15から４５分インストラクターERIさんと元祖王子！のＢachata pair work！\nサルサフロアで踊りやすいかけやすい慣れたルーティンを使いながら、女性をセンシャル【品よく色っぽく】動かすテクニックを、また官能的要素を入れて動けるフォロー力をレッスンしていただきます！！\n一年間、バチャータの基礎ステップのレッスンをやって来ていよいよのペアです！\n集中力の切れない４５分！\nそのあとは、サルセリアン！ハートフルソーシャル！DJＳhiguelDJいちろー　オールスタイルで楽しめる踊れる選曲、聴いて楽しめる選曲にて23：００まで！\nLessonから2\,000yenSocialから 1\,500yen\n週の真ん中、後半にが出るイベントになりますように努めます\nどうぞ、リラックスしにお越しください。。　　サルセリアン智子
URL:https://dance.gdp22.com/event/salserian/
LOCATION:小伝馬町スタジオJBA\, 東京都中央区日本橋大伝馬町１１−８ ＨＡＴビル B1F\, 小伝馬町\, 103-0011\, 日本
CATEGORIES:バチャータ全般,キゾンバ全般,サルサ全般
ATTACH;FMTTYPE=image/jpeg:https://dance.gdp22.com/wp-content/uploads/564655199_2415605348836619_7175186920505385248_n.jpg
END:VEVENT
BEGIN:VEVENT
DTSTART;TZID=Asia/Tokyo:20251105T193000
DTEND;TZID=Asia/Tokyo:20251105T200000
DTSTAMP:20260422T063446
CREATED:20220531T013006Z
LAST-MODIFIED:20220531T013006Z
UID:10214243-1762371000-1762372800@dance.gdp22.com
SUMMARY:バチャータ by Yukiko
DESCRIPTION:by Yukiko\nバチャータ	500円\n※別途クラブエントランス1\,000円/w1d
URL:https://dance.gdp22.com/event/dance-6187/2025-11-05/
LOCATION:新宿クラブ レオン(B1F)\, 東京都新宿区新宿５－１７－６ Ｂ１\, 東京\, 160-0022\, 日本
CATEGORIES:バチャータ全般
ATTACH;FMTTYPE=image/jpeg:https://dance.gdp22.com/wp-content/uploads/event_Wed_2205s.jpg
END:VEVENT
BEGIN:VEVENT
DTSTART;TZID=Asia/Tokyo:20251105T193000
DTEND;TZID=Asia/Tokyo:20251105T233000
DTSTAMP:20260422T063446
CREATED:20220921T031650Z
LAST-MODIFIED:20221002T161000Z
UID:10265597-1762371000-1762385400@dance.gdp22.com
SUMMARY:Freshman  初級 @ shallwedancecafe
DESCRIPTION:Wednesday – Freshman 初級 \n19:30 Bachata Lesson \n20:20 Salsa Lesson \n21:00 Social Party \n料金は公式を要参照 \nShall We Dance Cafe(大阪)
URL:https://dance.gdp22.com/event/dance-35051/2025-11-05/
LOCATION:Shall We Dance Cafe(大阪)\, 大阪府大阪市北区兎我野町４−９\, 大阪\, 530-0056\, 日本
CATEGORIES:ソーシャル,バチャータ全般,サルサ全般
END:VEVENT
BEGIN:VEVENT
DTSTART;TZID=Asia/Tokyo:20251105T195000
DTEND;TZID=Asia/Tokyo:20251105T211500
DTSTAMP:20260422T063446
CREATED:20250426T084454Z
LAST-MODIFIED:20250426T084454Z
UID:10282914-1762372200-1762377300@dance.gdp22.com
SUMMARY:初級 Salsa&Bachata
DESCRIPTION:初級 Salsa&Bachata\n19:50～21:15\n￥1\,100\nサルサとバチャータが自然と踊れるように、音の取り方、一人で踊れるシャイン、ペアで踊るリード&フォローをレッスンします。
URL:https://dance.gdp22.com/event/dance-31359-2/2025-11-05/
LOCATION:Dance&Dining桜井通り（熊本）\, 熊本県熊本市中央区上通町5-10桜井ビル4F\, 熊本\, 860-0845
CATEGORIES:バチャータ,ソーシャル,バチャータ全般,サルサ全般
ATTACH;FMTTYPE=image/jpeg:https://dance.gdp22.com/wp-content/uploads/com_party.jpg
END:VEVENT
BEGIN:VEVENT
DTSTART;TZID=Asia/Tokyo:20251105T200000
DTEND;TZID=Asia/Tokyo:20251105T204500
DTSTAMP:20260422T063446
CREATED:20220620T023127Z
LAST-MODIFIED:20220620T023127Z
UID:10224336-1762372800-1762375500@dance.gdp22.com
SUMMARY:バチャータ  Beg0&1 By ERICK
DESCRIPTION:バチャータ \nBeg0&1 \nERICK \nhttps://www.studio-casino.com/%E4%BD%93%E9%A8%93%E3%83%AC%E3%83%83%E3%82%B9%E3%83%B3-%E5%88%9D%E3%82%81%E3%81%A6%E3%81%AE%E6%96%B9/%E6%96%99%E9%87%91/
URL:https://dance.gdp22.com/event/dance-7763/2025-11-05/
LOCATION:六本木ダンススタジオカシーノ\, 東京都港区六本木5-2-4第二鳥勝ビル四階\, 六本木\, 106-0032\, 日本
CATEGORIES:バチャータ全般
END:VEVENT
BEGIN:VEVENT
DTSTART;TZID=Asia/Tokyo:20251105T200000
DTEND;TZID=Asia/Tokyo:20251105T210000
DTSTAMP:20260422T063446
CREATED:20220608T025502Z
LAST-MODIFIED:20220727T030846Z
UID:10221175-1762372800-1762376400@dance.gdp22.com
SUMMARY:Ladies Bachata 初級 You
DESCRIPTION:【レディースBachataグループレッスン】\n女性限定\nオープンクラス\nどなたでも受講出来ます。\n・レディースベーシック。\n・レディース基本ムーブメント。\n・レディーステクニック。\nBachataを学びたい女性の皆さん\nぜひ受講してみて下さい。\nビジター参加も大歓迎です。\n東京目黒スタジオLaCelula\nLadies Bachata 初級 You\nレッスン代\nレベル0-3 ¥2000／1回\n月謝制8レッスン¥14000\n作品クラス¥10000／1ヶ月
URL:https://dance.gdp22.com/event/dance-6997/2025-11-05/
LOCATION:目黒スタジオLaCelula\, 東京都目黒区下目黒2－2－8メディアビル1F\, 目黒区\, 153-0064\, 日本
CATEGORIES:バチャータ全般
ATTACH;FMTTYPE=image/jpeg:https://dance.gdp22.com/wp-content/uploads/2078D6B2-3B15-44E2-A61D-6F25B88167F8-226x300-1.jpeg
ORGANIZER;CN="You":MAILTO:shuandyou@gmail.com
END:VEVENT
BEGIN:VEVENT
DTSTART;TZID=Asia/Tokyo:20251105T200000
DTEND;TZID=Asia/Tokyo:20251105T233000
DTSTAMP:20260422T063446
CREATED:20220919T050822Z
LAST-MODIFIED:20220919T050822Z
UID:10265868-1762372800-1762385400@dance.gdp22.com
SUMMARY:Bachata Wednesdays
DESCRIPTION:Bachata lessons & Mini social time \n20:00-21:00 Beginner lesson\n21:30-22:30 Intermediate lesson\n22:30- Mini social time  \nLocation: Bailando バイランド\nPrice: 1\,500yen (1drink)/lesson \nLet’s enjoy bachata with us!
URL:https://dance.gdp22.com/event/bachata-wednesdays/2025-11-05/
LOCATION:Bailando(沖縄)\, 沖縄県沖縄市中央１丁目１３−６ 2F\, 沖縄市\, 904-0004\, 日本
CATEGORIES:ソーシャル,バチャータ全般
ATTACH;FMTTYPE=image/jpeg:https://dance.gdp22.com/wp-content/uploads/306919486_10166537096895565_8524204520440190774_n.jpg
END:VEVENT
BEGIN:VEVENT
DTSTART;TZID=Asia/Tokyo:20251105T210000
DTEND;TZID=Asia/Tokyo:20251105T220000
DTSTAMP:20260422T063446
CREATED:20220928T031859Z
LAST-MODIFIED:20220928T031859Z
UID:10270239-1762376400-1762380000@dance.gdp22.com
SUMMARY:Bachata Cycle 9-10pm
DESCRIPTION:1ヶ月サイクルでペアワークのパターンをやります \nMambOki LDC(沖縄)
URL:https://dance.gdp22.com/event/bachata-cycle-9-10pm/2025-11-05/
LOCATION:MambOki LDC(沖縄)\, 沖縄県宜野湾市宇地泊７３５\, 宜野湾\, 901-2227\, 日本
CATEGORIES:バチャータ全般
END:VEVENT
END:VCALENDAR