BEGIN:VCALENDAR
VERSION:2.0
PRODID:-//Dancing Pono (ダンシングポノ) - ECPv6.15.12//NONSGML v1.0//EN
CALSCALE:GREGORIAN
METHOD:PUBLISH
X-ORIGINAL-URL:https://dance.gdp22.com
X-WR-CALDESC:Dancing Pono (ダンシングポノ) のイベント
REFRESH-INTERVAL;VALUE=DURATION:PT1H
X-Robots-Tag:noindex
X-PUBLISHED-TTL:PT1H
BEGIN:VTIMEZONE
TZID:Asia/Tokyo
BEGIN:STANDARD
TZOFFSETFROM:+0900
TZOFFSETTO:+0900
TZNAME:JST
DTSTART:20250101T000000
END:STANDARD
END:VTIMEZONE
BEGIN:VEVENT
DTSTART;TZID=Asia/Tokyo:20260421T190000
DTEND;TZID=Asia/Tokyo:20260421T230000
DTSTAMP:20260421T064923
CREATED:20220712T161324Z
LAST-MODIFIED:20220712T161817Z
UID:10240192-1776798000-1776812400@dance.gdp22.com
SUMMARY:SUPER TUESDAY“AMUSEMENT PARK LEON”@新宿スタジオレオン
DESCRIPTION:☆☆☆大好評！クラブレオン・スタジオレオン合同新企画！！\n世界方式が東京に上陸。★★★\n☆2Fのキゾンバルーム（スタジオレオン）ではキゾンバがかかります。\n☆キゾンバルームにご入場頂いた方は、スタジオレオン(サルサ、バチャータ)はエントランスフリーになります。\n☆受付は2Fスタジオレオン(広い方のスタジオ)になりますのでスタジオレオンに直接お越し下さい。\n☆キゾンバルームはフード・ドリンク持ち込み自由です。(クラブレオンは持ち込み厳禁)\n飲食しながらごゆっくりと特別な火曜の夜をお過ごし下さい。 \n19 : 00～20 : 30 kizomba lesson 　(Shunsuke)\n20：45～23：00　Party DJ　NAMIN \nParty only ￥1500（持ち込み自由）\nlesson & Party ￥2500\nlesson only ￥2000 \nPLACE　スタジオレオンBルーム（クラブレオンのビル2Fの広い部屋） \nDJ紹介\n日本でのキゾンバ草創期より海外のワークショップやパーティーに積極的に参加し、\n特にヨーロッパのキゾンバパーティーでDJが曲を加工したり、絶妙に曲と曲を繋ぐことにより\n会場全体を盛り上げる姿に魅了されDJ技術を学ぶきっかけとなる。\nキゾンバのみならず、サルサ、バチャータにも造詣が深い。\nピアノで培った音へのこだわり、リズムへの理解から最適な選曲とスムーズな曲の繋ぎを得意とする。\nキゾンバの数々のジャンルをバランス良くかけ、誰でも楽しめる選曲をモットーとする。 \n※受付の際、手洗い、アルコール殺菌、検温、チェックシート記入をお願いしております。\nご協力の程宜しくお願い申し上げます。\n皆様のお越しをお待ちしております。
URL:https://dance.gdp22.com/event/dance-13648/2026-04-21/
LOCATION:新宿スタジオレオン(2F)\, 東京都新宿区新宿 5-17-6　2F\, 新宿\, 160-0022\, 日本
CATEGORIES:バチャータ全般,キゾンバ全般,サルサ全般
ATTACH;FMTTYPE=image/jpeg:https://dance.gdp22.com/wp-content/uploads/event_Thu_2021.jpg
END:VEVENT
BEGIN:VEVENT
DTSTART;TZID=Asia/Tokyo:20260421T193500
DTEND;TZID=Asia/Tokyo:20260421T210000
DTSTAMP:20260421T064923
CREATED:20241216T232407Z
LAST-MODIFIED:20241216T232407Z
UID:10240654-1776800100-1776805200@dance.gdp22.com
SUMMARY:東京バチャータコネクション1 By ルイ
DESCRIPTION:毎週火曜日　新宿　スタジオレス\n19:35-21:00\n入門レッスン\n音楽を楽しみ、ステップを踏むところから\n３ヶ月で１曲フルに踊れるようになることを目指します。\n21:00-22:30\n初級レッスン\n入門を終えた方向けのコースです。\n６ヶ月で１曲フルに美しく、楽しく踊れるようになることを目指します。\n初回体験\n1\,000円\n４枚チケット（期限２ヶ月）\n通常 　12\,000円\nU35割 10\,000円\nU25割 9\,000円\n8枚チケット（期限4ヶ月）\n通常　 20\,000円\nU35割 18\,000円\nU25割 16\,000円\n12枚チケット（期限6ヶ月）\n通常　 27\,000円\nU35割 24\,000円\nU25割 22\,000円\n単発利用\n3\,500円
URL:https://dance.gdp22.com/event/dance-8804/2026-04-21/
LOCATION:新宿スタジオレス\, 東京都新宿区百人町1-23-4　D-SQUARE Shinjuku ７階\, 新宿\, 169-0073\, 日本
CATEGORIES:バチャータ全般
ATTACH;FMTTYPE=image/jpeg:https://dance.gdp22.com/wp-content/uploads/01.jpg
END:VEVENT
BEGIN:VEVENT
DTSTART;TZID=Asia/Tokyo:20260421T210000
DTEND;TZID=Asia/Tokyo:20260421T223000
DTSTAMP:20260421T064923
CREATED:20241216T232408Z
LAST-MODIFIED:20241216T232408Z
UID:10240965-1776805200-1776810600@dance.gdp22.com
SUMMARY:東京バチャータコネクション2 By ルイ
DESCRIPTION:毎週火曜日　新宿　スタジオレス\n19:35-21:00\n入門レッスン\n音楽を楽しみ、ステップを踏むところから\n３ヶ月で１曲フルに踊れるようになることを目指します。\n21:00-22:30\n初級レッスン\n入門を終えた方向けのコースです。\n６ヶ月で１曲フルに美しく、楽しく踊れるようになることを目指します。\n初回体験\n1\,000円\n４枚チケット（期限２ヶ月）\n通常 　12\,000円\nU35割 10\,000円\nU25割 9\,000円\n8枚チケット（期限4ヶ月）\n通常　 20\,000円\nU35割 18\,000円\nU25割 16\,000円\n12枚チケット（期限6ヶ月）\n通常　 27\,000円\nU35割 24\,000円\nU25割 22\,000円\n単発利用\n3\,500円
URL:https://dance.gdp22.com/event/dance-8825/2026-04-21/
LOCATION:新宿スタジオレス\, 東京都新宿区百人町1-23-4　D-SQUARE Shinjuku ７階\, 新宿\, 169-0073\, 日本
CATEGORIES:バチャータ全般
ATTACH;FMTTYPE=image/jpeg:https://dance.gdp22.com/wp-content/uploads/original.jpeg
END:VEVENT
BEGIN:VEVENT
DTSTART;TZID=Asia/Tokyo:20260422T190000
DTEND;TZID=Asia/Tokyo:20260422T193000
DTSTAMP:20260421T064923
CREATED:20241216T232436Z
LAST-MODIFIED:20241216T232436Z
UID:10248190-1776884400-1776886200@dance.gdp22.com
SUMMARY:毎週水曜日  銀座ラスリサス(Bachata) 初心者~初級(無料)By RIE
DESCRIPTION:オープンクラス\n☆毎週水曜日  銀座ラスリサス\n※別途エントランス¥1\,000(1drink付き)かかります。 \n※20:30~はフリータイムです。
URL:https://dance.gdp22.com/event/dance-10445/2026-04-22/
LOCATION:銀座ラス・リサス\, 東京都中央区銀座8-12-6 小野商ビルB1F\, 銀座\, 104-0061\, 日本
CATEGORIES:バチャータ全般
ATTACH;FMTTYPE=image/jpeg:https://dance.gdp22.com/wp-content/uploads/003-3.jpg
ORGANIZER;CN="RIE":MAILTO:narie925@gmail.com
END:VEVENT
BEGIN:VEVENT
DTSTART;TZID=Asia/Tokyo:20260422T193000
DTEND;TZID=Asia/Tokyo:20260422T200000
DTSTAMP:20260421T064923
CREATED:20220531T013006Z
LAST-MODIFIED:20220531T013006Z
UID:10214267-1776886200-1776888000@dance.gdp22.com
SUMMARY:バチャータ by Yukiko
DESCRIPTION:by Yukiko\nバチャータ	500円\n※別途クラブエントランス1\,000円/w1d
URL:https://dance.gdp22.com/event/dance-6187/2026-04-22/
LOCATION:新宿クラブ レオン(B1F)\, 東京都新宿区新宿５－１７－６ Ｂ１\, 東京\, 160-0022\, 日本
CATEGORIES:バチャータ全般
ATTACH;FMTTYPE=image/jpeg:https://dance.gdp22.com/wp-content/uploads/event_Wed_2205s.jpg
END:VEVENT
BEGIN:VEVENT
DTSTART;TZID=Asia/Tokyo:20260422T193000
DTEND;TZID=Asia/Tokyo:20260422T203000
DTSTAMP:20260421T064923
CREATED:20241216T232438Z
LAST-MODIFIED:20241216T232438Z
UID:10248248-1776886200-1776889800@dance.gdp22.com
SUMMARY:毎週水曜日  銀座ラスリサス(Bachata)初級~初中級 By RIE
DESCRIPTION:オープンクラス\n☆毎週水曜日  銀座ラスリサス\n※別途エントランス¥1\,000(1drink付き)かかります。 \n※20:30~はフリータイムです。
URL:https://dance.gdp22.com/event/dance-10469/2026-04-22/
LOCATION:銀座ラス・リサス\, 東京都中央区銀座8-12-6 小野商ビルB1F\, 銀座\, 104-0061\, 日本
CATEGORIES:バチャータ全般
ATTACH;FMTTYPE=image/jpeg:https://dance.gdp22.com/wp-content/uploads/003-4.jpg
ORGANIZER;CN="RIE":MAILTO:narie925@gmail.com
END:VEVENT
BEGIN:VEVENT
DTSTART;TZID=Asia/Tokyo:20260422T193000
DTEND;TZID=Asia/Tokyo:20260422T233000
DTSTAMP:20260421T064923
CREATED:20220921T031650Z
LAST-MODIFIED:20221002T161000Z
UID:10265621-1776886200-1776900600@dance.gdp22.com
SUMMARY:Freshman  初級 @ shallwedancecafe
DESCRIPTION:Wednesday – Freshman 初級 \n19:30 Bachata Lesson \n20:20 Salsa Lesson \n21:00 Social Party \n料金は公式を要参照 \nShall We Dance Cafe(大阪)
URL:https://dance.gdp22.com/event/dance-35051/2026-04-22/
LOCATION:Shall We Dance Cafe(大阪)\, 大阪府大阪市北区兎我野町４−９\, 大阪\, 530-0056\, 日本
CATEGORIES:ソーシャル,バチャータ全般,サルサ全般
END:VEVENT
BEGIN:VEVENT
DTSTART;TZID=Asia/Tokyo:20260422T195000
DTEND;TZID=Asia/Tokyo:20260422T211500
DTSTAMP:20260421T064923
CREATED:20250426T084454Z
LAST-MODIFIED:20250426T084454Z
UID:10282938-1776887400-1776892500@dance.gdp22.com
SUMMARY:初級 Salsa&Bachata
DESCRIPTION:初級 Salsa&Bachata\n19:50～21:15\n￥1\,100\nサルサとバチャータが自然と踊れるように、音の取り方、一人で踊れるシャイン、ペアで踊るリード&フォローをレッスンします。
URL:https://dance.gdp22.com/event/dance-31359-2/2026-04-22/
LOCATION:Dance&Dining桜井通り（熊本）\, 熊本県熊本市中央区上通町5-10桜井ビル4F\, 熊本\, 860-0845
CATEGORIES:バチャータ,ソーシャル,バチャータ全般,サルサ全般
ATTACH;FMTTYPE=image/jpeg:https://dance.gdp22.com/wp-content/uploads/com_party.jpg
END:VEVENT
BEGIN:VEVENT
DTSTART;TZID=Asia/Tokyo:20260422T200000
DTEND;TZID=Asia/Tokyo:20260422T204500
DTSTAMP:20260421T064923
CREATED:20220620T023127Z
LAST-MODIFIED:20220620T023127Z
UID:10224360-1776888000-1776890700@dance.gdp22.com
SUMMARY:バチャータ  Beg0&1 By ERICK
DESCRIPTION:バチャータ \nBeg0&1 \nERICK \nhttps://www.studio-casino.com/%E4%BD%93%E9%A8%93%E3%83%AC%E3%83%83%E3%82%B9%E3%83%B3-%E5%88%9D%E3%82%81%E3%81%A6%E3%81%AE%E6%96%B9/%E6%96%99%E9%87%91/
URL:https://dance.gdp22.com/event/dance-7763/2026-04-22/
LOCATION:六本木ダンススタジオカシーノ\, 東京都港区六本木5-2-4第二鳥勝ビル四階\, 六本木\, 106-0032\, 日本
CATEGORIES:バチャータ全般
END:VEVENT
BEGIN:VEVENT
DTSTART;TZID=Asia/Tokyo:20260422T200000
DTEND;TZID=Asia/Tokyo:20260422T210000
DTSTAMP:20260421T064923
CREATED:20220608T025502Z
LAST-MODIFIED:20220727T030846Z
UID:10221199-1776888000-1776891600@dance.gdp22.com
SUMMARY:Ladies Bachata 初級 You
DESCRIPTION:【レディースBachataグループレッスン】\n女性限定\nオープンクラス\nどなたでも受講出来ます。\n・レディースベーシック。\n・レディース基本ムーブメント。\n・レディーステクニック。\nBachataを学びたい女性の皆さん\nぜひ受講してみて下さい。\nビジター参加も大歓迎です。\n東京目黒スタジオLaCelula\nLadies Bachata 初級 You\nレッスン代\nレベル0-3 ¥2000／1回\n月謝制8レッスン¥14000\n作品クラス¥10000／1ヶ月
URL:https://dance.gdp22.com/event/dance-6997/2026-04-22/
LOCATION:目黒スタジオLaCelula\, 東京都目黒区下目黒2－2－8メディアビル1F\, 目黒区\, 153-0064\, 日本
CATEGORIES:バチャータ全般
ATTACH;FMTTYPE=image/jpeg:https://dance.gdp22.com/wp-content/uploads/2078D6B2-3B15-44E2-A61D-6F25B88167F8-226x300-1.jpeg
ORGANIZER;CN="You":MAILTO:shuandyou@gmail.com
END:VEVENT
BEGIN:VEVENT
DTSTART;TZID=Asia/Tokyo:20260422T200000
DTEND;TZID=Asia/Tokyo:20260422T233000
DTSTAMP:20260421T064923
CREATED:20220919T050822Z
LAST-MODIFIED:20220919T050822Z
UID:10265892-1776888000-1776900600@dance.gdp22.com
SUMMARY:Bachata Wednesdays
DESCRIPTION:Bachata lessons & Mini social time \n20:00-21:00 Beginner lesson\n21:30-22:30 Intermediate lesson\n22:30- Mini social time  \nLocation: Bailando バイランド\nPrice: 1\,500yen (1drink)/lesson \nLet’s enjoy bachata with us!
URL:https://dance.gdp22.com/event/bachata-wednesdays/2026-04-22/
LOCATION:Bailando(沖縄)\, 沖縄県沖縄市中央１丁目１３−６ 2F\, 沖縄市\, 904-0004\, 日本
CATEGORIES:ソーシャル,バチャータ全般
ATTACH;FMTTYPE=image/jpeg:https://dance.gdp22.com/wp-content/uploads/306919486_10166537096895565_8524204520440190774_n.jpg
END:VEVENT
BEGIN:VEVENT
DTSTART;TZID=Asia/Tokyo:20260422T210000
DTEND;TZID=Asia/Tokyo:20260422T220000
DTSTAMP:20260421T064923
CREATED:20220928T031859Z
LAST-MODIFIED:20220928T031859Z
UID:10270263-1776891600-1776895200@dance.gdp22.com
SUMMARY:Bachata Cycle 9-10pm
DESCRIPTION:1ヶ月サイクルでペアワークのパターンをやります \nMambOki LDC(沖縄)
URL:https://dance.gdp22.com/event/bachata-cycle-9-10pm/2026-04-22/
LOCATION:MambOki LDC(沖縄)\, 沖縄県宜野湾市宇地泊７３５\, 宜野湾\, 901-2227\, 日本
CATEGORIES:バチャータ全般
END:VEVENT
BEGIN:VEVENT
DTSTART;TZID=Asia/Tokyo:20260422T210000
DTEND;TZID=Asia/Tokyo:20260422T220000
DTSTAMP:20260421T064923
CREATED:20221116T040541Z
LAST-MODIFIED:20221116T040541Z
UID:10287654-1776891600-1776895200@dance.gdp22.com
SUMMARY:バチャータクラス（水曜）
DESCRIPTION:初中級～中上級クラス
URL:https://dance.gdp22.com/event/dance-39926/2026-04-22/
LOCATION:渋谷ワークル\, 東京都渋谷区桜丘町１４−１０ 渋谷コープB1\, 渋谷\, 〒150-0031\, 日本
CATEGORIES:サルサ,バチャータ,バチャータ全般
ATTACH;FMTTYPE=image/png:https://dance.gdp22.com/wp-content/uploads/schedule_info2-13.png
END:VEVENT
BEGIN:VEVENT
DTSTART;TZID=Asia/Tokyo:20260422T210000
DTEND;TZID=Asia/Tokyo:20260422T223000
DTSTAMP:20260421T064923
CREATED:20220608T025724Z
LAST-MODIFIED:20220727T031000Z
UID:10221697-1776891600-1776897000@dance.gdp22.com
SUMMARY:DesireeLadies登録制 By You
DESCRIPTION:【Desiree Ladies Tokyo】　　　　　　　\nBachataQueenDesireeの素敵な作品を学ぶ事が出来る特別なクラスです。\nこのクラスは作品を踊る為に基本から演舞までのダンストレーニングの全てが詰まっています。\n初心者の方でも必ず踊れる様になります。\n作品を習い貴女も踊って輝いてみませんか。\nDLTはDesireeのオフィシャルLadiesTeamです。\n世界で唯一Desireeの全作品を踊っているYou先生が皆さんに丁寧なレッスンを致します。\n初心者も経験者も基本練習をしながら、1つ1つの動作を細かく練習しますので、確実に身につけて頂けます。\n\n■Desiree LadiesTokyo\n期間2022年6月-11月\n6月以降途中入会ご希望の方はご連絡下さい。\n補講レッスン受講後に途中参加も可能です。\n個人プライベートレッスンでの作品練習の対応も致します。\n東京目黒スタジオLaCelula\nDesireeLadies登録制\nレベル0-3 ¥2000／1回\n月謝制8レッスン¥14000\n作品クラス¥10000／1ヶ月
URL:https://dance.gdp22.com/event/dance-7009/2026-04-22/
LOCATION:目黒スタジオLaCelula\, 東京都目黒区下目黒2－2－8メディアビル1F\, 目黒区\, 153-0064\, 日本
CATEGORIES:バチャータ全般
ATTACH;FMTTYPE=image/jpeg:https://dance.gdp22.com/wp-content/uploads/2078D6B2-3B15-44E2-A61D-6F25B88167F8-226x300-1.jpeg
ORGANIZER;CN="You":MAILTO:shuandyou@gmail.com
END:VEVENT
BEGIN:VEVENT
DTSTART;TZID=Asia/Tokyo:20260423T133000
DTEND;TZID=Asia/Tokyo:20260423T150000
DTSTAMP:20260421T064923
CREATED:20241216T232442Z
LAST-MODIFIED:20241216T232442Z
UID:10248561-1776951000-1776956400@dance.gdp22.com
SUMMARY:お昼のレッスン(BACHATA)@藤沢マリソル By RIE
DESCRIPTION:SALSA&BACHATA\nお昼のレッスン@藤沢 \n毎週木曜の午後に藤沢MARISOLにてRIEのレッスンが始まりました！！ \nたっぷり１時間半、鏡のある広々したスタジオでサルサ＆バチャータが学べます。 \n毎週木曜日 13:30-15:00  (休講の場合は、別途お知らせいたします。) \n第1・３木曜日→Salsa on1 \n第2・４木曜日→Bachata \nレッスン料　¥2000 \nDance Studio MARISOL \n神奈川県藤沢市鵠沼東4-6-3F
URL:https://dance.gdp22.com/event/dance-10496/2026-04-23/
LOCATION:ダンススタジオマリソル（藤沢）\, 神奈川県藤沢市鵠沼東４−６ 3F\, 藤沢\, 日本
CATEGORIES:バチャータ全般
ATTACH;FMTTYPE=image/jpeg:https://dance.gdp22.com/wp-content/uploads/002-1.jpg
ORGANIZER;CN="RIE":MAILTO:narie925@gmail.com
END:VEVENT
BEGIN:VEVENT
DTSTART;TZID=Asia/Tokyo:20260423T190000
DTEND;TZID=Asia/Tokyo:20260423T230000
DTSTAMP:20260421T064923
CREATED:20241216T232151Z
LAST-MODIFIED:20241216T232151Z
UID:10248619-1776970800-1776985200@dance.gdp22.com
SUMMARY:BUENA SALSA SOCIAL CLUB＠JBA
DESCRIPTION:BUENA SALSA SOCIAL CLUB\n(ブエナ サルサ ソシアル クラブ、素敵なサルサの社交場） \n昇天イベント☆アタルンバ主催のATARUです、スタジオJBAでLAサルサ(ON1)レッスンを始めます☆\nオープンして一年の綺麗でお洒落なスタジオでペアダンス、サルサを学びませんか☆\n男女が音楽を共有、シンクロし、言葉ではない心身のコミュニケーションを取り、\n日常生活で抑えてる情念、情感を開放し、魂を昇天させるペアダンス、それがサルサです☆ \n浮き世の不景気、政治不信、蔓延する生きて行く事に対する不安感、ストレス、倦怠感、苛立ち、\nそれらを吹き飛ばし、力強く前向きに生きて行く為にもサルサを始めませんか！\n☆きっと自分の中に新たな違う自分を発見するはずです☆\n生活に情熱のソース(サルサ)をぶっかけて味わい深い人生を歩みましょう！\nそのスタートとしてレッスンはステップワークを怠る事なく、\nペアがお互いに踊りやすいと感じられるようになる事にポイントを当てて、\n復習を繰り返しながら進めて行くつもりです☆\nさあ、一歩踏み出してラテン音楽に身を任せましょう！ \nレッスンの後は２時間のフリーダンスタイムを用意してあります☆\n僕もラストまで踊りまくるので、お気軽におこし下さい。 \n————————————————————–\n★開催日：【毎月第１、２、４木曜日】\n★開催時間：１９：００～２３：００ \n【タイムテーブル】\n19:00～19:30：未経験者&超初心者の為の個人レッスン\n19:30～20:00：ストレッチ、ムーブメント、ステップワーク(メレンゲ、サルサ、バチャータ)\n20:00～21:00：初中級サルサのペアワーク\n(ルーティーンは参加者のレベルに合わせた前回の復習を含んだものになります☆)\n21:00～23:00：フリーダンスタイム\n☆曲はATARU選曲によるLAスタイル向き、珠玉の懐メロ&ロマンティカが流れます。11時昇天☆ \n【参加費】\n２時間レッスン＋フリーダンスタイムはワンドリンク付き2000円\nフリーダンスタイムオンリーはワンドリンク付きで1000円\nソフトドリンクは常備されており飲み放題です☆\n他のドリンク類の持ち込みもOKです☆ 気軽に遊びに来て下さい。
URL:https://dance.gdp22.com/event/dance-15197/2026-04-23/
LOCATION:小伝馬町スタジオJBA\, 東京都中央区日本橋大伝馬町１１−８ ＨＡＴビル B1F\, 小伝馬町\, 103-0011\, 日本
CATEGORIES:サルサon1,メレンゲ,バチャータ全般
END:VEVENT
BEGIN:VEVENT
DTSTART;TZID=Asia/Tokyo:20260423T193000
DTEND;TZID=Asia/Tokyo:20260423T235900
DTSTAMP:20260421T064923
CREATED:20220919T061433Z
LAST-MODIFIED:20220919T061433Z
UID:10266185-1776972600-1776988740@dance.gdp22.com
SUMMARY:BACHAKIZZ Night
DESCRIPTION:インストラクター\nMarkos & Saori \n19:30-20:15 Kizomba\n20:15-21:00 Bachata\n21:00-24:00 Party  \n1 Lesson ＋ Party ¥1500\n2 Lesson ＋ Party ¥2000\n Only Party ¥1100(w1drink) \n和気あいあいとした楽しいレッスンですので、初めての方でも大丈夫です❣⃛\nパーティでは好きな曲や踊りたい曲があればリクエストください。可能な限り対応させていただきます。 \nEL RINCON LATINO(大阪)
URL:https://dance.gdp22.com/event/bachakizz-night/2026-04-23/
LOCATION:EL RINCON LATINO(大阪)\, 大阪府大阪市中央区心斎橋筋２丁目６−８ シャンペンジャムビル 4F\, 大阪\, 542-0085\, 日本
CATEGORIES:ソーシャル,バチャータ全般,キゾンバ全般
ATTACH;FMTTYPE=image/jpeg:https://dance.gdp22.com/wp-content/uploads/301806533_625121028965476_73485559564743689_n.jpg
END:VEVENT
BEGIN:VEVENT
DTSTART;TZID=Asia/Tokyo:20260423T203000
DTEND;TZID=Asia/Tokyo:20260423T213000
DTSTAMP:20260421T064923
CREATED:20220603T013916Z
LAST-MODIFIED:20220603T013916Z
UID:10219639-1776976200-1776979800@dance.gdp22.com
SUMMARY:BETO (CALI-COLOMBIA) バチャータ
DESCRIPTION:BETO SENSEY SALSA 2006年にコロンビアよりカリサルサ普及のため来日。\n元世界チャンピオンとして自身の躍動感溢れるパフォーマンス、また個人のレべルに合わせた丁寧な指導により日本チャンピオンぺアを育てるなど、年齢に関わらず生徒たちから絶大な人気を誇る日本サルサ界のトップダンサー。\n20:30-21:30 バチャータ\n2500円\n連続2レッスン受講の場合は3500円
URL:https://dance.gdp22.com/event/dance-6719/2026-04-23/
LOCATION:新宿スタジオレオン(2F)\, 東京都新宿区新宿 5-17-6　2F\, 新宿\, 160-0022\, 日本
CATEGORIES:バチャータ全般
ATTACH;FMTTYPE=image/jpeg:https://dance.gdp22.com/wp-content/uploads/img_BETO-1.jpg
END:VEVENT
BEGIN:VEVENT
DTSTART;TZID=Asia/Tokyo:20260424T190000
DTEND;TZID=Asia/Tokyo:20260424T235900
DTSTAMP:20260421T064923
CREATED:20220831T030957Z
LAST-MODIFIED:20220831T030957Z
UID:10261792-1777057200-1777075140@dance.gdp22.com
SUMMARY:ON1＆バチャータ・ナイト
DESCRIPTION:カフェルンビータ（京都） \n詳細はWEB参照
URL:https://dance.gdp22.com/event/dance-32775/2026-04-24/
LOCATION:カフェルンビータ（京都）\, 京都府京都市中京区山崎町２５８−１９ 珠光ビル三条 ３F\, 京都\, 604-8032\, 日本
CATEGORIES:サルサon1,ソーシャル,バチャータ全般
END:VEVENT
BEGIN:VEVENT
DTSTART;TZID=Asia/Tokyo:20260424T191500
DTEND;TZID=Asia/Tokyo:20260424T233000
DTSTAMP:20260421T064923
CREATED:20220912T043453Z
LAST-MODIFIED:20220916T071504Z
UID:10266693-1777058100-1777073400@dance.gdp22.com
SUMMARY:BACHTEROS @Mirage
DESCRIPTION:『BACHATEROS』\nEntrance 2000yen 1drink付き\nLesson + 1000yen \n✻ Lessonのみは受け付けてません \nTime schedule \n19:15 OPEN\n19:30～20:30 Lesson  sensual bachata pair\n20:30～ Social Time\nたっぷり3時間踊れます\n23:30 CLOSE \nDJ Maririn DJ Masa-Q\nbachata & salsa &kizomba \n六本木 Bar Mirage\n東京都港区六本木3-14-14 VORT Roppongi Briller 5F\n《コロナ対策にご協力お願い致します》 \n*風邪の諸症状のある方はご遠慮下さい\n*マスクは必ずして下さい\n*こまめな手指のアルコール消毒をお願いします\n*飲み物を間違えないよう工夫をお願いします\n*人数制限する場合があります\n*状況により中止、延期になる場合があります\n*ロッカーあります。貴重品には十分お気をけてください \n 
URL:https://dance.gdp22.com/event/bachteros/2026-04-24/
LOCATION:六本木 Bar Mirage\, 東京都港区六本木3-14-14 VORT六本木kaleido 5階\, 六本木\, 106-0032\, 日本
CATEGORIES:ソーシャル,バチャータ全般
END:VEVENT
BEGIN:VEVENT
DTSTART;TZID=Asia/Tokyo:20260424T193000
DTEND;TZID=Asia/Tokyo:20260424T235900
DTSTAMP:20260421T064923
CREATED:20220921T030840Z
LAST-MODIFIED:20221002T161257Z
UID:10264107-1777059000-1777075140@dance.gdp22.com
SUMMARY:Friday beginner party @ shallwedancecafe
DESCRIPTION:19:30-初中級バチャータレッスン\n20:00-初中級サルサレッスン\nLucho&Maki\n2レッスン¥2000\n1レッスン¥1500(パーティ付) \n20:30-24:00Party \n先着10人まで¥500 1drink\n20人まで¥1000 2drink\n40人まで¥1500 1drink\n40人から¥2000 1drink \nShall We Dance Cafe(大阪)
URL:https://dance.gdp22.com/event/frlday-beglnner-party/2026-04-24/
LOCATION:Shall We Dance Cafe(大阪)\, 大阪府大阪市北区兎我野町４−９\, 大阪\, 530-0056\, 日本
CATEGORIES:ソーシャル,バチャータ全般,サルサ全般
ORGANIZER;CN="Lucho (y Maki)":MAILTO:luchosalsadancelesson@gmail.com
END:VEVENT
BEGIN:VEVENT
DTSTART;TZID=Asia/Tokyo:20260425T101500
DTEND;TZID=Asia/Tokyo:20260425T130000
DTSTAMP:20260421T064923
CREATED:20220701T032938Z
LAST-MODIFIED:20220701T032938Z
UID:10244748-1777112100-1777122000@dance.gdp22.com
SUMMARY:朝活サルサ＆バチャータ@JBA
DESCRIPTION:朝活サルサ＆バチャータ\n毎週土曜日10：15～13：00\n男性2000円W1D\n女性1500円W1D\nフリーソフトドリンク、持ち込み可
URL:https://dance.gdp22.com/event/dance-9215/2026-04-25/
LOCATION:小伝馬町スタジオJBA\, 東京都中央区日本橋大伝馬町１１−８ ＨＡＴビル B1F\, 小伝馬町\, 103-0011\, 日本
CATEGORIES:バチャータ全般,サルサ全般
ATTACH;FMTTYPE=image/png:https://dance.gdp22.com/wp-content/uploads/81c6b57e6778f2349ab9fb9ed1dc1784-3.png
END:VEVENT
BEGIN:VEVENT
DTSTART;TZID=Asia/Tokyo:20260425T134500
DTEND;TZID=Asia/Tokyo:20260425T150000
DTSTAMP:20260421T064923
CREATED:20220819T032823Z
LAST-MODIFIED:20220829T153326Z
UID:10254559-1777124700-1777129200@dance.gdp22.com
SUMMARY:Camelia Open Class（初級）バチャータ
DESCRIPTION:Studio Camelia Open Class（初級）\n◆毎週水曜日 9:45〜11:00 \n（サルサ） \n◆毎週土曜日13:45～15:00 \n（バチャータ） \n要予約 \nチケット制　￥15000 \n10枚綴り　5ヶ月間有効 \n1ﾚｯｽﾝあたり￥1500 \nビジターレッスン ¥2000 \n※ボディメイクレッスンと併せて受講の場合割引あり \n入門クラスを受講修了者、サルサ経験者のためのクラス \nベーシックステップ \nボディムーブメント \nターンパターン \nスタイリング \nシャイン \nパートナーワーク \nなど、ソーシャルダンスを踊るための基礎から応用まで
URL:https://dance.gdp22.com/event/dance-30795/2026-04-25/
LOCATION:Studio Camelia(愛媛）\, 愛媛県松山市小村町353-39\, 愛媛\, 791-1125\, 日本
CATEGORIES:バチャータ全般
ATTACH;FMTTYPE=image/jpeg:https://dance.gdp22.com/wp-content/uploads/image-20.jpg
ORGANIZER;CN="%E5%B1%B1%E5%8F%A3%E7%BE%8E%E4%BB%A3":MAILTO:studiocamelia34@gmail.com
END:VEVENT
BEGIN:VEVENT
DTSTART;TZID=Asia/Tokyo:20260425T150000
DTEND;TZID=Asia/Tokyo:20260425T160000
DTSTAMP:20260421T064923
CREATED:20220624T023026Z
LAST-MODIFIED:20220729T030143Z
UID:10227199-1777129200-1777132800@dance.gdp22.com
SUMMARY:Bachata Class By HIDE&PEKO
DESCRIPTION:Bachata Class\n​週末お昼間のレッスン\n​　毎週 土曜日　\n15:00 – 16:00 (1h) \n​講師：HIDE\, PEKO\n​@BUZZ 渋谷東急SQUEARE \n受講生募集中！バチャータ未経験者から、経験者まで受講可能です。 \n​\n​単発受講とお得なチケット制とで選べます！
URL:https://dance.gdp22.com/event/bachata-class-by-hidepeko/2026-04-25/
LOCATION:BUZZ  渋谷東口SQUARE\, 東京都渋谷区渋谷2-22-8 名取ビル1階\, 渋谷\, 150-0002\, 日本
CATEGORIES:バチャータ全般
ATTACH;FMTTYPE=image/png:https://dance.gdp22.com/wp-content/uploads/275982728_647826136279965_1388238450379262023_n.png
END:VEVENT
BEGIN:VEVENT
DTSTART;TZID=Asia/Tokyo:20260425T160000
DTEND;TZID=Asia/Tokyo:20260425T233000
DTSTAMP:20260421T064923
CREATED:20220912T044141Z
LAST-MODIFIED:20220916T073046Z
UID:10266848-1777132800-1777159800@dance.gdp22.com
SUMMARY:BACHAKIZ IN TOKYO @Mirage
DESCRIPTION:六本木Mirageで毎月第４土曜日に開催！！\n✨BachaKiz in Tokyo✨ \nBachata好き！Kizomba好き！\nそんな主催者によるbachataとkizombaがほぼ半々かかるイベントです❤️\n六本木の素敵なお店で月に１回のガス抜きしませんか？?\nレッスンもbachataとkizombaの両方があります。どちらもオールレベルです！\n是非レッスンからご参加ください。 \n++ time schedule ++\n18:00 open\n18:15~19:15 urbankiz lesson by Rei\n19:15~20:15 bachata lesson by Haruka/Fouad\n20:15~23:30 party time by DJ Kei \n++ fee 1drink included ++\nlessons+party 3500円\nparty only 2000円 \n東京都港区六本木3-14-14 VORT Roppongi Briller 5F
URL:https://dance.gdp22.com/event/bachakiz-in-tokyo/2026-04-25/
LOCATION:六本木 Bar Mirage\, 東京都港区六本木3-14-14 VORT六本木kaleido 5階\, 六本木\, 106-0032\, 日本
CATEGORIES:ソーシャル,バチャータ全般,キゾンバ全般
END:VEVENT
BEGIN:VEVENT
DTSTART;TZID=Asia/Tokyo:20260425T170000
DTEND;TZID=Asia/Tokyo:20260425T235900
DTSTAMP:20260421T064923
CREATED:20220921T030523Z
LAST-MODIFIED:20221002T161654Z
UID:10264461-1777136400-1777161540@dance.gdp22.com
SUMMARY:Saturday Party @ shallwedancecafe
DESCRIPTION:17:00- 初中級バチャータレッスン\n18:00-初中級サルサレッスン\nRico\n19:00-24:00 Party\n先着10人まで¥500 1drink\n20人まで¥1000 2drink\n40人まで¥1500 1drink\n40人から¥2000 1drink \nShall We Dance Cafe(大阪)
URL:https://dance.gdp22.com/event/saturday-party/2026-04-25/
LOCATION:Shall We Dance Cafe(大阪)\, 大阪府大阪市北区兎我野町４−９\, 大阪\, 530-0056\, 日本
CATEGORIES:ソーシャル,バチャータ全般,サルサ全般
END:VEVENT
BEGIN:VEVENT
DTSTART;TZID=Asia/Tokyo:20260425T210000
DTEND;TZID=Asia/Tokyo:20260425T230000
DTSTAMP:20260421T064923
CREATED:20250426T085922Z
LAST-MODIFIED:20250426T085943Z
UID:10283720-1777150800-1777158000@dance.gdp22.com
SUMMARY:土曜LatinNight
DESCRIPTION:Salsa Bachata Kizomba\n21:00～23:00\nParty￥1\,500\nLesson+Party ￥2\,000
URL:https://dance.gdp22.com/event/dance-94199/2026-04-25/
LOCATION:Dance&Dining桜井通り（熊本）\, 熊本県熊本市中央区上通町5-10桜井ビル4F\, 熊本\, 860-0845
CATEGORIES:サルサ,バチャータ,キゾンバ,ソーシャル,バチャータ全般,キゾンバ全般,サルサ全般
END:VEVENT
BEGIN:VEVENT
DTSTART;TZID=Asia/Tokyo:20260426T140000
DTEND;TZID=Asia/Tokyo:20260426T180000
DTSTAMP:20260421T064923
CREATED:20220914T044845Z
LAST-MODIFIED:20220914T044845Z
UID:10279532-1777212000-1777226400@dance.gdp22.com
SUMMARY:エレガントサルサ＆キゾンバ＆バチャータ
DESCRIPTION:◆エレガントサルサ＆キゾンバ＆バチャータ \nダンス初心者の為のレッスンが有ります。 \n初めての方も参加出来ますのでご安心ください。 \n空気の入れ替えの出来る明るいスタジオで踊りませんか？ \n一人で参加出来ます。初心者も気楽に参加できるイベントです。 \n上級者はフリータイムからでも参加出来ます。 \nドリンクは持ち込み制ですのでご自分で好きなドリンクお持ちください。 \nアルコールも持ち込み可能です。 \n■料金：１レッスン1\,800円・2レッスン2\,200円・3レッスン2\,500円 \n　フリータイムのみ1\,000円　　（レッスンにはフリータイム料込。） \n■タイムテーブル(レッスン担当－代行Yoshi \n14:10～14:40　サルサ　Lesson　初級 \n14:40～15:00　バチャータ　Lesson　初級 \n15:00～15:40　urbankiz  Lesson 初級 \n15:40～18:00　フリータイム \n■住所：横浜市中区山下町１６１－１０マリーゴールド元町　E-Studio横浜201号室 \n■交通：JR「石川町駅」４分・みなとみらい線「元町中華街駅」4番改札出て８分 \n■主催：エレガントサルサ　090－3049－1758　　 \n注意） \nマスク着用。窓を開けて空気の入れ替えします。 \n上履き又はダンスシューズ、お持ちください。靴下でもOKです。予約は不要です。 \n●道順：JR石川町駅南口改札を出て正面に川が有ります。右に歩き1つ目の信号「元町交差点」左折。 \n川を渡り「西の橋交差点」を右折するとひとみ薬局。その隣「かばのおうどん」その隣に \n鉄板焼きヒジテツ。ヒジテツの入っている茶色いビルがマリーゴールド元町です。 \nエントランスは大通りの自動販売機の横が入口になります。 \n横浜E-Studio
URL:https://dance.gdp22.com/event/dance-34438/2026-04-26/
LOCATION:横浜E-Studio\, 神奈川県横浜市中区山下町161-10マリーゴールド元町201\, 横浜\, 日本
CATEGORIES:バチャータ全般,キゾンバ全般,サルサ全般
END:VEVENT
BEGIN:VEVENT
DTSTART;TZID=Asia/Tokyo:20260426T141500
DTEND;TZID=Asia/Tokyo:20260426T150000
DTSTAMP:20260421T064923
CREATED:20221116T033612Z
LAST-MODIFIED:20221116T035301Z
UID:10285249-1777212900-1777215600@dance.gdp22.com
SUMMARY:バチャータクラス（日曜）
DESCRIPTION:初中級～中上級
URL:https://dance.gdp22.com/event/dance-39749/2026-04-26/
LOCATION:恵比寿スタジオJ\, 東京都渋谷区東3-22-9 小倉ビルB1\, 恵比寿\, 150-0011\, 日本
CATEGORIES:サルサ,バチャータ,バチャータ全般
ATTACH;FMTTYPE=image/png:https://dance.gdp22.com/wp-content/uploads/schedule_info2-13.png
END:VEVENT
BEGIN:VEVENT
DTSTART;TZID=Asia/Tokyo:20260426T150000
DTEND;TZID=Asia/Tokyo:20260426T160000
DTSTAMP:20260421T064923
CREATED:20220603T010601Z
LAST-MODIFIED:20220729T015623Z
UID:10216564-1777215600-1777219200@dance.gdp22.com
SUMMARY:スタジオレオンBオープンクラス バチャータ (初級) by SHINJI
DESCRIPTION:“日曜日”週末にまとめてサルサ&バチャータを\nカリキュラム方式で集中的にマスターしましょう!\nオープンクラス　ルームB\nバチャータ　SHINJI\n(初級)\n1 Lesson ¥2\,000-\n2 Lesson ¥3\,500-\n3 Lesson ¥4\,000-
URL:https://dance.gdp22.com/event/dance-6591/2026-04-26/
LOCATION:新宿スタジオレオン(2F)\, 東京都新宿区新宿 5-17-6　2F\, 新宿\, 160-0022\, 日本
CATEGORIES:バチャータ全般
END:VEVENT
END:VCALENDAR