BEGIN:VCALENDAR
VERSION:2.0
PRODID:-//Dancing Pono (ダンシングポノ) - ECPv6.15.12//NONSGML v1.0//EN
CALSCALE:GREGORIAN
METHOD:PUBLISH
X-WR-CALNAME:Dancing Pono (ダンシングポノ)
X-ORIGINAL-URL:https://dance.gdp22.com
X-WR-CALDESC:Dancing Pono (ダンシングポノ) のイベント
REFRESH-INTERVAL;VALUE=DURATION:PT1H
X-Robots-Tag:noindex
X-PUBLISHED-TTL:PT1H
BEGIN:VTIMEZONE
TZID:Asia/Tokyo
BEGIN:STANDARD
TZOFFSETFROM:+0900
TZOFFSETTO:+0900
TZNAME:JST
DTSTART:20250101T000000
END:STANDARD
END:VTIMEZONE
BEGIN:VEVENT
DTSTART;TZID=Asia/Tokyo:20260301T140000
DTEND;TZID=Asia/Tokyo:20260301T180000
DTSTAMP:20260421T202537
CREATED:20220914T044845Z
LAST-MODIFIED:20220914T044845Z
UID:10279524-1772373600-1772388000@dance.gdp22.com
SUMMARY:エレガントサルサ＆キゾンバ＆バチャータ
DESCRIPTION:◆エレガントサルサ＆キゾンバ＆バチャータ \nダンス初心者の為のレッスンが有ります。 \n初めての方も参加出来ますのでご安心ください。 \n空気の入れ替えの出来る明るいスタジオで踊りませんか？ \n一人で参加出来ます。初心者も気楽に参加できるイベントです。 \n上級者はフリータイムからでも参加出来ます。 \nドリンクは持ち込み制ですのでご自分で好きなドリンクお持ちください。 \nアルコールも持ち込み可能です。 \n■料金：１レッスン1\,800円・2レッスン2\,200円・3レッスン2\,500円 \n　フリータイムのみ1\,000円　　（レッスンにはフリータイム料込。） \n■タイムテーブル(レッスン担当－代行Yoshi \n14:10～14:40　サルサ　Lesson　初級 \n14:40～15:00　バチャータ　Lesson　初級 \n15:00～15:40　urbankiz  Lesson 初級 \n15:40～18:00　フリータイム \n■住所：横浜市中区山下町１６１－１０マリーゴールド元町　E-Studio横浜201号室 \n■交通：JR「石川町駅」４分・みなとみらい線「元町中華街駅」4番改札出て８分 \n■主催：エレガントサルサ　090－3049－1758　　 \n注意） \nマスク着用。窓を開けて空気の入れ替えします。 \n上履き又はダンスシューズ、お持ちください。靴下でもOKです。予約は不要です。 \n●道順：JR石川町駅南口改札を出て正面に川が有ります。右に歩き1つ目の信号「元町交差点」左折。 \n川を渡り「西の橋交差点」を右折するとひとみ薬局。その隣「かばのおうどん」その隣に \n鉄板焼きヒジテツ。ヒジテツの入っている茶色いビルがマリーゴールド元町です。 \nエントランスは大通りの自動販売機の横が入口になります。 \n横浜E-Studio
URL:https://dance.gdp22.com/event/dance-34438/2026-03-01/
LOCATION:横浜E-Studio\, 神奈川県横浜市中区山下町161-10マリーゴールド元町201\, 横浜\, 日本
CATEGORIES:バチャータ全般,キゾンバ全般,サルサ全般
END:VEVENT
BEGIN:VEVENT
DTSTART;TZID=Asia/Tokyo:20260301T141500
DTEND;TZID=Asia/Tokyo:20260301T150000
DTSTAMP:20260421T202537
CREATED:20221116T033612Z
LAST-MODIFIED:20221116T035301Z
UID:10285241-1772374500-1772377200@dance.gdp22.com
SUMMARY:バチャータクラス（日曜）
DESCRIPTION:初中級～中上級
URL:https://dance.gdp22.com/event/dance-39749/2026-03-01/
LOCATION:恵比寿スタジオJ\, 東京都渋谷区東3-22-9 小倉ビルB1\, 恵比寿\, 150-0011\, 日本
CATEGORIES:サルサ,バチャータ,バチャータ全般
ATTACH;FMTTYPE=image/png:https://dance.gdp22.com/wp-content/uploads/schedule_info2-13.png
END:VEVENT
BEGIN:VEVENT
DTSTART;TZID=Asia/Tokyo:20260301T150000
DTEND;TZID=Asia/Tokyo:20260301T160000
DTSTAMP:20260421T202537
CREATED:20220603T010601Z
LAST-MODIFIED:20220729T015623Z
UID:10216556-1772377200-1772380800@dance.gdp22.com
SUMMARY:スタジオレオンBオープンクラス バチャータ (初級) by SHINJI
DESCRIPTION:“日曜日”週末にまとめてサルサ&バチャータを\nカリキュラム方式で集中的にマスターしましょう!\nオープンクラス　ルームB\nバチャータ　SHINJI\n(初級)\n1 Lesson ¥2\,000-\n2 Lesson ¥3\,500-\n3 Lesson ¥4\,000-
URL:https://dance.gdp22.com/event/dance-6591/2026-03-01/
LOCATION:新宿スタジオレオン(2F)\, 東京都新宿区新宿 5-17-6　2F\, 新宿\, 160-0022\, 日本
CATEGORIES:バチャータ全般
END:VEVENT
BEGIN:VEVENT
DTSTART;TZID=Asia/Tokyo:20260301T160000
DTEND;TZID=Asia/Tokyo:20260301T164500
DTSTAMP:20260421T202537
CREATED:20220620T034137Z
LAST-MODIFIED:20220620T034137Z
UID:10229244-1772380800-1772383500@dance.gdp22.com
SUMMARY:バチャータ By HIROMI
DESCRIPTION:バチャータ\nHIROMI \nhttps://www.studio-casino.com/%E4%BD%93%E9%A8%93%E3%83%AC%E3%83%83%E3%82%B9%E3%83%B3-%E5%88%9D%E3%82%81%E3%81%A6%E3%81%AE%E6%96%B9/%E6%96%99%E9%87%91/
URL:https://dance.gdp22.com/event/dance-7977/2026-03-01/
LOCATION:六本木ダンススタジオカシーノ\, 東京都港区六本木5-2-4第二鳥勝ビル四階\, 六本木\, 106-0032\, 日本
CATEGORIES:バチャータ全般
END:VEVENT
BEGIN:VEVENT
DTSTART;TZID=Asia/Tokyo:20260301T160000
DTEND;TZID=Asia/Tokyo:20260301T170000
DTSTAMP:20260421T202537
CREATED:20220603T011148Z
LAST-MODIFIED:20220729T015853Z
UID:10217052-1772380800-1772384400@dance.gdp22.com
SUMMARY:スタジオレオンAオープンクラス バチャータ (初級) by SHINJI
DESCRIPTION:“日曜日”週末にまとめてサルサ&バチャータを\nカリキュラム方式で集中的にマスターしましょう!\nオープンクラス　ルームA\nバチャータ　アシスタント (&SHINJI)\n(初級)\n1 Lesson ¥2\,000-\n2 Lesson ¥3\,500-\n(受講後は、そのまま地下1Fのクラブレオンに、入場料無料でフリータイムを楽しめます。イベント時除く)
URL:https://dance.gdp22.com/event/dance-6627/2026-03-01/
LOCATION:新宿スタジオレオン(2F)\, 東京都新宿区新宿 5-17-6　2F\, 新宿\, 160-0022\, 日本
CATEGORIES:バチャータ全般
END:VEVENT
BEGIN:VEVENT
DTSTART;TZID=Asia/Tokyo:20260301T170000
DTEND;TZID=Asia/Tokyo:20260301T174500
DTSTAMP:20260421T202537
CREATED:20220620T034412Z
LAST-MODIFIED:20220620T034412Z
UID:10229742-1772384400-1772387100@dance.gdp22.com
SUMMARY:バチャータ  振付Pairクラス By HIROMI
DESCRIPTION:バチャータ \n振付Pairクラス \nHIROMI \nhttps://www.studio-casino.com/%E4%BD%93%E9%A8%93%E3%83%AC%E3%83%83%E3%82%B9%E3%83%B3-%E5%88%9D%E3%82%81%E3%81%A6%E3%81%AE%E6%96%B9/%E6%96%99%E9%87%91/
URL:https://dance.gdp22.com/event/dance-7993/2026-03-01/
LOCATION:六本木ダンススタジオカシーノ\, 東京都港区六本木5-2-4第二鳥勝ビル四階\, 六本木\, 106-0032\, 日本
CATEGORIES:バチャータ全般
END:VEVENT
BEGIN:VEVENT
DTSTART;TZID=Asia/Tokyo:20260301T173000
DTEND;TZID=Asia/Tokyo:20260301T233000
DTSTAMP:20260421T202537
CREATED:20220921T032244Z
LAST-MODIFIED:20221002T160711Z
UID:10268850-1772386200-1772407800@dance.gdp22.com
SUMMARY:Freshman 初級/Sophomore 初中級 @ shallwedancecafe
DESCRIPTION:​Sunday – Practice Day \n​\nFreshman 初級 \n17:30 Bachata Lesson \n18:20 Salsa Lesson \n19:00 Social Party \n​ \nSophomore level　初中級 \n17:30 Bachata Lesson \n18:20 Salsa Lesson \n19:00 Social Party \n料金は公式を要参照 \nShall We Dance Cafe(大阪)
URL:https://dance.gdp22.com/event/dance-35093/2026-03-01/
LOCATION:Shall We Dance Cafe(大阪)\, 大阪府大阪市北区兎我野町４−９\, 大阪\, 530-0056\, 日本
CATEGORIES:ソーシャル,バチャータ全般,サルサ全般
END:VEVENT
BEGIN:VEVENT
DTSTART;TZID=Asia/Tokyo:20260301T190000
DTEND;TZID=Asia/Tokyo:20260301T235900
DTSTAMP:20260421T202537
CREATED:20220919T060314Z
LAST-MODIFIED:20220919T061714Z
UID:10269116-1772391600-1772409540@dance.gdp22.com
SUMMARY:Lucho Lesson＆party
DESCRIPTION:インストラクター\nLucho & Maki \nサルサやバチャータ初級レベルレッスンです。\n初心者の方も楽しくレッスンできますよ❣⃛ \n19:00-19:45 Bachata\n19:45-20:30 Salsa\n20:30-24:00 Party \n1 lesson ¥2000 (1drink)\n2 lesson ¥3000 (1drink)\nParty ¥1200 (1drink) \nEL RINCON LATINO(大阪)
URL:https://dance.gdp22.com/event/dance-34860/2026-03-01/
LOCATION:EL RINCON LATINO(大阪)\, 大阪府大阪市中央区心斎橋筋２丁目６−８ シャンペンジャムビル 4F\, 大阪\, 542-0085\, 日本
CATEGORIES:ソーシャル,バチャータ全般,サルサ全般
ATTACH;FMTTYPE=image/jpeg:https://dance.gdp22.com/wp-content/uploads/306599907_629375621873350_7149042135736730603_n.jpg
ORGANIZER;CN="Lucho (y Maki)":MAILTO:luchosalsadancelesson@gmail.com
END:VEVENT
BEGIN:VEVENT
DTSTART;TZID=Asia/Tokyo:20260302T190000
DTEND;TZID=Asia/Tokyo:20260302T233000
DTSTAMP:20260421T202537
CREATED:20220622T015251Z
LAST-MODIFIED:20220729T030810Z
UID:10229991-1772478000-1772494200@dance.gdp22.com
SUMMARY:Calle Ocho Bachata Paradise★～バチャータ初心者応援イベント～
DESCRIPTION:★Calle Ocho Bachata Paradise★\n広くて居心地よいCalle Ochoでバチャータを楽しみましょう！\n毎週月曜日！広くて居心地よい大人な空間で飲みながらバチャータを練習しましょう！\n初めての方でも大丈夫！ラテンダンス歴20年越えの経験豊富なインストラクターまさき(ち)が丁寧に教えます。\n経験者の方も一緒に楽しみましょう。まさき(ち)のアドバイスを聞きくる上級者の方もいらっしゃいます。\n日付： [毎週月曜日]\n時間：\n19:00～19:30 完全初心者レッスン\n19:30～20:20 初級レッスン\n20:20～23:30 DJ Time by DJ Masaki-chi\nエントランス: 1\,500円 (1ドリンク+2レッスン付き)\n場所：Calle Ocho Roppongi\n東京都港区六本木3-10-9 三経28ビル 12階\n※六本木交差点から六本木一丁目方面へ道路の右側を徒歩1分。すしざんまいの隣のエレベーターで12階までお越しください。看板は『Infinity』です。\n→ https://goo.gl/maps/m94Jbp2TRekwXpaG7\n＜まさき(ち) プロフィール＞\nラテンダンス歴21年、日本代表経験4回。東京、大阪、広島、ニューヨーク、ロサンゼルス、マイアミ、メキシコ、韓国、北京、シンガポールなど、国内外のビッグ・イベントに出演経験を持つ。\nステージとフロア、リードとフォローを全てこなす類い稀な実力を持つラテンダンサー、インストラクター、イベントオーガナイザー。\n—————————–\n== Calle Ocho Bachata Paradise==\nEvery Monday! Let’s drink & practice Bachata at the cozy spacious club!\nAbsolute beginners are welcome! Masaki-chi will help you dance and enjoy the night. He is one of the best instructor in Tokyo with 20 years of latin dance experiences.\nIntermediate and advanced dancers are also welcome. Some advanced dancers often come to seek advices from Masaki-chi.\nDate:  [Every Monday]\nTime:\n19:00-19:30 Absolute Beginner Bachata Lesson\n19:30-20:20 Beginner Bachata Lesson\n20:20-23:30 DJ Time by DJ Masaki-chi\nEntrance: 1\,500yen (with 1 drink + 2 lessons)\nVenue: Calle Ocho Roppongi\nSankei 28 Building 12F\, 3-10-9 Roppongi\, Minato-ku\, Tokyo\, 106-0032\n* 1 minute walk from the Roppongi Crossing. If you find Sushizanmai\, then take the elevator in front of it up to the 12th floor. The signboad is『Infinity』.\n-> https://goo.gl/maps/m94Jbp2TRekwXpaG7 \nHe has 21 years of latin dance experiences and has represented Japan for four times. He has performed at the big events in Tokyo\, Osaka\, Hiroshima\, New York\, Los Angeles\, Miami\, Mexico\, Korea\, Beijing\, Singapore and others.\nHe is good at both the stage performances and the social dancing\, and can execute both the leading and the following. He is one of the most well-known latin dancer\, instructor and event organizer in Japan.
URL:https://dance.gdp22.com/event/dance-8215/2026-03-02/
LOCATION:六本木Calle ocho\, 東京都港区六本木3-10-9 三経ビル 12階\, 六本木\, 106-0032\, 日本
CATEGORIES:バチャータ全般
ATTACH;FMTTYPE=image/jpeg:https://dance.gdp22.com/wp-content/uploads/285519210_1089511624977041_8788657868332572479_n.jpg
END:VEVENT
BEGIN:VEVENT
DTSTART;TZID=Asia/Tokyo:20260302T193000
DTEND;TZID=Asia/Tokyo:20260302T213000
DTSTAMP:20260421T202537
CREATED:20230327T024524Z
LAST-MODIFIED:20230401T025052Z
UID:10297094-1772479800-1772487000@dance.gdp22.com
SUMMARY:【振り付けで基礎を学ぶ】BACHATA CHOREO CLASS (センシュアルバチャータ)
DESCRIPTION:【振り付けで基礎を学ぶ】BACHATA CHOREO CLASS (センシュアルバチャータ) \n新宿ワークル　19:30～21:30 \nセンシュアルバチャータ　(3か月クール) \n3\,000円/回 4月/7月/10月/1月スタート \n「週1回3ヶ月で1自踊れるようになる」 \n★こんな人にオススメ\n・バチャータ初中級者\n・月2回以上通える方\n・体験有り 1500円/1H\n・途中から参加もOK！！ \nDANNY先生のクローズドクラスです。 \n新しい振付につきバチャータ好きのメンバーを大募集！ \n曲は NEGRO MATE DANI Jで踊ります。 \nロマンティックな曲に合わせて、リード＆フォローで2時間みっちり踊り込みます。 \nStudio Worcle新宿で毎週月曜19:30から開催中。 \n期間中いつから始めてもOK！ \n体験レッスンもやってるので、1人でも気軽に参加してね。 \n予約はメールかLINEのQRコードから！ \nMAIL – dhkspyder@gmail.com \n★期間：月程度\n★料金： ¥3100/1回（スタジオ代込み）\n★時間： 19:30～21:30（月曜日）\n★場所： Studio Worcle新宿（新宿区西新宿7-16-7 フジビル21）
URL:https://dance.gdp22.com/event/dance-44333/2026-03-02/
LOCATION:新宿ワークル\, 東京都新宿区西新宿７丁目１６−７ 第２１フジビル\, 新宿\, 〒160-0023\, 日本
CATEGORIES:センシュアルバチャータ,バチャータ全般
ATTACH;FMTTYPE=image/jpeg:https://dance.gdp22.com/wp-content/uploads/unnamed-file.jpg
ORGANIZER;CN="Danny%EF%BC%88%E3%83%80%E3%83%8B%E3%83%BC%EF%BC%89":MAILTO:DHKSPYDER@gmail.com
END:VEVENT
BEGIN:VEVENT
DTSTART;TZID=Asia/Tokyo:20260303T190000
DTEND;TZID=Asia/Tokyo:20260303T230000
DTSTAMP:20260421T202537
CREATED:20220712T161324Z
LAST-MODIFIED:20220712T161817Z
UID:10240185-1772564400-1772578800@dance.gdp22.com
SUMMARY:SUPER TUESDAY“AMUSEMENT PARK LEON”@新宿スタジオレオン
DESCRIPTION:☆☆☆大好評！クラブレオン・スタジオレオン合同新企画！！\n世界方式が東京に上陸。★★★\n☆2Fのキゾンバルーム（スタジオレオン）ではキゾンバがかかります。\n☆キゾンバルームにご入場頂いた方は、スタジオレオン(サルサ、バチャータ)はエントランスフリーになります。\n☆受付は2Fスタジオレオン(広い方のスタジオ)になりますのでスタジオレオンに直接お越し下さい。\n☆キゾンバルームはフード・ドリンク持ち込み自由です。(クラブレオンは持ち込み厳禁)\n飲食しながらごゆっくりと特別な火曜の夜をお過ごし下さい。 \n19 : 00～20 : 30 kizomba lesson 　(Shunsuke)\n20：45～23：00　Party DJ　NAMIN \nParty only ￥1500（持ち込み自由）\nlesson & Party ￥2500\nlesson only ￥2000 \nPLACE　スタジオレオンBルーム（クラブレオンのビル2Fの広い部屋） \nDJ紹介\n日本でのキゾンバ草創期より海外のワークショップやパーティーに積極的に参加し、\n特にヨーロッパのキゾンバパーティーでDJが曲を加工したり、絶妙に曲と曲を繋ぐことにより\n会場全体を盛り上げる姿に魅了されDJ技術を学ぶきっかけとなる。\nキゾンバのみならず、サルサ、バチャータにも造詣が深い。\nピアノで培った音へのこだわり、リズムへの理解から最適な選曲とスムーズな曲の繋ぎを得意とする。\nキゾンバの数々のジャンルをバランス良くかけ、誰でも楽しめる選曲をモットーとする。 \n※受付の際、手洗い、アルコール殺菌、検温、チェックシート記入をお願いしております。\nご協力の程宜しくお願い申し上げます。\n皆様のお越しをお待ちしております。
URL:https://dance.gdp22.com/event/dance-13648/2026-03-03/
LOCATION:新宿スタジオレオン(2F)\, 東京都新宿区新宿 5-17-6　2F\, 新宿\, 160-0022\, 日本
CATEGORIES:バチャータ全般,キゾンバ全般,サルサ全般
ATTACH;FMTTYPE=image/jpeg:https://dance.gdp22.com/wp-content/uploads/event_Thu_2021.jpg
END:VEVENT
BEGIN:VEVENT
DTSTART;TZID=Asia/Tokyo:20260303T193500
DTEND;TZID=Asia/Tokyo:20260303T210000
DTSTAMP:20260421T202537
CREATED:20241216T232407Z
LAST-MODIFIED:20241216T232407Z
UID:10232958-1772566500-1772571600@dance.gdp22.com
SUMMARY:東京バチャータコネクション1 By ルイ
DESCRIPTION:毎週火曜日　新宿　スタジオレス\n19:35-21:00\n入門レッスン\n音楽を楽しみ、ステップを踏むところから\n３ヶ月で１曲フルに踊れるようになることを目指します。\n21:00-22:30\n初級レッスン\n入門を終えた方向けのコースです。\n６ヶ月で１曲フルに美しく、楽しく踊れるようになることを目指します。\n初回体験\n1\,000円\n４枚チケット（期限２ヶ月）\n通常 　12\,000円\nU35割 10\,000円\nU25割 9\,000円\n8枚チケット（期限4ヶ月）\n通常　 20\,000円\nU35割 18\,000円\nU25割 16\,000円\n12枚チケット（期限6ヶ月）\n通常　 27\,000円\nU35割 24\,000円\nU25割 22\,000円\n単発利用\n3\,500円
URL:https://dance.gdp22.com/event/dance-8804/2026-03-03/
LOCATION:新宿スタジオレス\, 東京都新宿区百人町1-23-4　D-SQUARE Shinjuku ７階\, 新宿\, 169-0073\, 日本
CATEGORIES:バチャータ全般
ATTACH;FMTTYPE=image/jpeg:https://dance.gdp22.com/wp-content/uploads/01.jpg
END:VEVENT
BEGIN:VEVENT
DTSTART;TZID=Asia/Tokyo:20260303T210000
DTEND;TZID=Asia/Tokyo:20260303T223000
DTSTAMP:20260421T202537
CREATED:20241216T232408Z
LAST-MODIFIED:20241216T232408Z
UID:10233015-1772571600-1772577000@dance.gdp22.com
SUMMARY:東京バチャータコネクション2 By ルイ
DESCRIPTION:毎週火曜日　新宿　スタジオレス\n19:35-21:00\n入門レッスン\n音楽を楽しみ、ステップを踏むところから\n３ヶ月で１曲フルに踊れるようになることを目指します。\n21:00-22:30\n初級レッスン\n入門を終えた方向けのコースです。\n６ヶ月で１曲フルに美しく、楽しく踊れるようになることを目指します。\n初回体験\n1\,000円\n４枚チケット（期限２ヶ月）\n通常 　12\,000円\nU35割 10\,000円\nU25割 9\,000円\n8枚チケット（期限4ヶ月）\n通常　 20\,000円\nU35割 18\,000円\nU25割 16\,000円\n12枚チケット（期限6ヶ月）\n通常　 27\,000円\nU35割 24\,000円\nU25割 22\,000円\n単発利用\n3\,500円
URL:https://dance.gdp22.com/event/dance-8825/2026-03-03/
LOCATION:新宿スタジオレス\, 東京都新宿区百人町1-23-4　D-SQUARE Shinjuku ７階\, 新宿\, 169-0073\, 日本
CATEGORIES:バチャータ全般
ATTACH;FMTTYPE=image/jpeg:https://dance.gdp22.com/wp-content/uploads/original.jpeg
END:VEVENT
BEGIN:VEVENT
DTSTART;TZID=Asia/Tokyo:20260304T190000
DTEND;TZID=Asia/Tokyo:20260304T194500
DTSTAMP:20260421T202537
CREATED:20220620T022542Z
LAST-MODIFIED:20220620T022542Z
UID:10223951-1772650800-1772653500@dance.gdp22.com
SUMMARY:バチャータ 初心者スペシャル  By ERICK
DESCRIPTION:初心者スペシャル \n※第1・3水曜日のみ \nERICK \nhttps://www.studio-casino.com/%E4%BD%93%E9%A8%93%E3%83%AC%E3%83%83%E3%82%B9%E3%83%B3-%E5%88%9D%E3%82%81%E3%81%A6%E3%81%AE%E6%96%B9/%E6%96%99%E9%87%91/
URL:https://dance.gdp22.com/event/dance-7747/2026-03-04/
LOCATION:六本木ダンススタジオカシーノ\, 東京都港区六本木5-2-4第二鳥勝ビル四階\, 六本木\, 106-0032\, 日本
CATEGORIES:バチャータ全般
END:VEVENT
BEGIN:VEVENT
DTSTART;TZID=Asia/Tokyo:20260304T193000
DTEND;TZID=Asia/Tokyo:20260304T200000
DTSTAMP:20260421T202537
CREATED:20220531T013006Z
LAST-MODIFIED:20220531T013006Z
UID:10214260-1772652600-1772654400@dance.gdp22.com
SUMMARY:バチャータ by Yukiko
DESCRIPTION:by Yukiko\nバチャータ	500円\n※別途クラブエントランス1\,000円/w1d
URL:https://dance.gdp22.com/event/dance-6187/2026-03-04/
LOCATION:新宿クラブ レオン(B1F)\, 東京都新宿区新宿５－１７－６ Ｂ１\, 東京\, 160-0022\, 日本
CATEGORIES:バチャータ全般
ATTACH;FMTTYPE=image/jpeg:https://dance.gdp22.com/wp-content/uploads/event_Wed_2205s.jpg
END:VEVENT
BEGIN:VEVENT
DTSTART;TZID=Asia/Tokyo:20260304T193000
DTEND;TZID=Asia/Tokyo:20260304T231500
DTSTAMP:20260421T202537
CREATED:20260303T053051Z
LAST-MODIFIED:20260303T053051Z
UID:10233186-1772652600-1772666100@dance.gdp22.com
SUMMARY:Salserian /第１水曜日✳️DJ Shiguelいちろー
DESCRIPTION:Salserian /第１水曜日✳️DJ Shiguelいちろー\nhttps://www.facebook.com/events/2032964163937749/ \n  \n\nいよいよ、3月！春をあちこちに感じられる時期となりましたーが、寒暖差厳しい候、ご自愛くださいね\n第１水曜日恒例のスタジオJＢＡでのサルサイベントです！\nサルセリアンー第１水曜日　JBA　　　　　　　第2水曜日 JBA　　　　　　　第3日曜日 浜松町　　　　　　　　　　　　　BuZZなどを恒例に開催しております！\n第１水曜日は19:00〜Open19：15から４５分インストラクターERIさんと元祖王子！のBachata pair work！\nサルサフロアで踊りやすいかけやすい慣れたルーティンを使いながら、女性をセンシャル【品よく色っぽく】動かすテクニックを、また官能的要素を入れて動けるフォロー力をレッスンしていただきます！！\n一年間、バチャータの基礎ステップのレッスンをやって来ていよいよのペアです！\n集中力の切れない４５分！\nそのあとは、サルセリアン！ハートフルソーシャル！DJ ShiguelDJいちろー　オールスタイルで楽しめる踊れる選曲、聴いて楽しめる選曲にて23：００まで！\nLessonから2\,000yenSocialから 1\,500yen\n週の真ん中、後半にが出るイベントになりますように努めます\nどうぞ、リラックスしにお越しください。。　　サルセリアン智子
URL:https://dance.gdp22.com/event/ladies-bachata-nightjba-2-4/
LOCATION:小伝馬町スタジオJBA\, 東京都中央区日本橋大伝馬町１１−８ ＨＡＴビル B1F\, 小伝馬町\, 103-0011\, 日本
CATEGORIES:バチャータ全般,キゾンバ全般,サルサ全般
ATTACH;FMTTYPE=image/jpeg:https://dance.gdp22.com/wp-content/uploads/0304.jpg
END:VEVENT
BEGIN:VEVENT
DTSTART;TZID=Asia/Tokyo:20260304T193000
DTEND;TZID=Asia/Tokyo:20260304T233000
DTSTAMP:20260421T202537
CREATED:20220921T031650Z
LAST-MODIFIED:20221002T161000Z
UID:10265614-1772652600-1772667000@dance.gdp22.com
SUMMARY:Freshman  初級 @ shallwedancecafe
DESCRIPTION:Wednesday – Freshman 初級 \n19:30 Bachata Lesson \n20:20 Salsa Lesson \n21:00 Social Party \n料金は公式を要参照 \nShall We Dance Cafe(大阪)
URL:https://dance.gdp22.com/event/dance-35051/2026-03-04/
LOCATION:Shall We Dance Cafe(大阪)\, 大阪府大阪市北区兎我野町４−９\, 大阪\, 530-0056\, 日本
CATEGORIES:ソーシャル,バチャータ全般,サルサ全般
END:VEVENT
BEGIN:VEVENT
DTSTART;TZID=Asia/Tokyo:20260304T195000
DTEND;TZID=Asia/Tokyo:20260304T211500
DTSTAMP:20260421T202537
CREATED:20250426T084454Z
LAST-MODIFIED:20250426T084454Z
UID:10282931-1772653800-1772658900@dance.gdp22.com
SUMMARY:初級 Salsa&Bachata
DESCRIPTION:初級 Salsa&Bachata\n19:50～21:15\n￥1\,100\nサルサとバチャータが自然と踊れるように、音の取り方、一人で踊れるシャイン、ペアで踊るリード&フォローをレッスンします。
URL:https://dance.gdp22.com/event/dance-31359-2/2026-03-04/
LOCATION:Dance&Dining桜井通り（熊本）\, 熊本県熊本市中央区上通町5-10桜井ビル4F\, 熊本\, 860-0845
CATEGORIES:バチャータ,ソーシャル,バチャータ全般,サルサ全般
ATTACH;FMTTYPE=image/jpeg:https://dance.gdp22.com/wp-content/uploads/com_party.jpg
END:VEVENT
BEGIN:VEVENT
DTSTART;TZID=Asia/Tokyo:20260304T200000
DTEND;TZID=Asia/Tokyo:20260304T204500
DTSTAMP:20260421T202537
CREATED:20220620T023127Z
LAST-MODIFIED:20220620T023127Z
UID:10224353-1772654400-1772657100@dance.gdp22.com
SUMMARY:バチャータ  Beg0&1 By ERICK
DESCRIPTION:バチャータ \nBeg0&1 \nERICK \nhttps://www.studio-casino.com/%E4%BD%93%E9%A8%93%E3%83%AC%E3%83%83%E3%82%B9%E3%83%B3-%E5%88%9D%E3%82%81%E3%81%A6%E3%81%AE%E6%96%B9/%E6%96%99%E9%87%91/
URL:https://dance.gdp22.com/event/dance-7763/2026-03-04/
LOCATION:六本木ダンススタジオカシーノ\, 東京都港区六本木5-2-4第二鳥勝ビル四階\, 六本木\, 106-0032\, 日本
CATEGORIES:バチャータ全般
END:VEVENT
BEGIN:VEVENT
DTSTART;TZID=Asia/Tokyo:20260304T200000
DTEND;TZID=Asia/Tokyo:20260304T210000
DTSTAMP:20260421T202537
CREATED:20220608T025502Z
LAST-MODIFIED:20220727T030846Z
UID:10221192-1772654400-1772658000@dance.gdp22.com
SUMMARY:Ladies Bachata 初級 You
DESCRIPTION:【レディースBachataグループレッスン】\n女性限定\nオープンクラス\nどなたでも受講出来ます。\n・レディースベーシック。\n・レディース基本ムーブメント。\n・レディーステクニック。\nBachataを学びたい女性の皆さん\nぜひ受講してみて下さい。\nビジター参加も大歓迎です。\n東京目黒スタジオLaCelula\nLadies Bachata 初級 You\nレッスン代\nレベル0-3 ¥2000／1回\n月謝制8レッスン¥14000\n作品クラス¥10000／1ヶ月
URL:https://dance.gdp22.com/event/dance-6997/2026-03-04/
LOCATION:目黒スタジオLaCelula\, 東京都目黒区下目黒2－2－8メディアビル1F\, 目黒区\, 153-0064\, 日本
CATEGORIES:バチャータ全般
ATTACH;FMTTYPE=image/jpeg:https://dance.gdp22.com/wp-content/uploads/2078D6B2-3B15-44E2-A61D-6F25B88167F8-226x300-1.jpeg
ORGANIZER;CN="You":MAILTO:shuandyou@gmail.com
END:VEVENT
BEGIN:VEVENT
DTSTART;TZID=Asia/Tokyo:20260304T200000
DTEND;TZID=Asia/Tokyo:20260304T233000
DTSTAMP:20260421T202537
CREATED:20220919T050822Z
LAST-MODIFIED:20220919T050822Z
UID:10265885-1772654400-1772667000@dance.gdp22.com
SUMMARY:Bachata Wednesdays
DESCRIPTION:Bachata lessons & Mini social time \n20:00-21:00 Beginner lesson\n21:30-22:30 Intermediate lesson\n22:30- Mini social time  \nLocation: Bailando バイランド\nPrice: 1\,500yen (1drink)/lesson \nLet’s enjoy bachata with us!
URL:https://dance.gdp22.com/event/bachata-wednesdays/2026-03-04/
LOCATION:Bailando(沖縄)\, 沖縄県沖縄市中央１丁目１３−６ 2F\, 沖縄市\, 904-0004\, 日本
CATEGORIES:ソーシャル,バチャータ全般
ATTACH;FMTTYPE=image/jpeg:https://dance.gdp22.com/wp-content/uploads/306919486_10166537096895565_8524204520440190774_n.jpg
END:VEVENT
BEGIN:VEVENT
DTSTART;TZID=Asia/Tokyo:20260304T210000
DTEND;TZID=Asia/Tokyo:20260304T220000
DTSTAMP:20260421T202537
CREATED:20220928T031859Z
LAST-MODIFIED:20220928T031859Z
UID:10270256-1772658000-1772661600@dance.gdp22.com
SUMMARY:Bachata Cycle 9-10pm
DESCRIPTION:1ヶ月サイクルでペアワークのパターンをやります \nMambOki LDC(沖縄)
URL:https://dance.gdp22.com/event/bachata-cycle-9-10pm/2026-03-04/
LOCATION:MambOki LDC(沖縄)\, 沖縄県宜野湾市宇地泊７３５\, 宜野湾\, 901-2227\, 日本
CATEGORIES:バチャータ全般
END:VEVENT
BEGIN:VEVENT
DTSTART;TZID=Asia/Tokyo:20260304T210000
DTEND;TZID=Asia/Tokyo:20260304T220000
DTSTAMP:20260421T202537
CREATED:20221116T040541Z
LAST-MODIFIED:20221116T040541Z
UID:10287647-1772658000-1772661600@dance.gdp22.com
SUMMARY:バチャータクラス（水曜）
DESCRIPTION:初中級～中上級クラス
URL:https://dance.gdp22.com/event/dance-39926/2026-03-04/
LOCATION:渋谷ワークル\, 東京都渋谷区桜丘町１４−１０ 渋谷コープB1\, 渋谷\, 〒150-0031\, 日本
CATEGORIES:サルサ,バチャータ,バチャータ全般
ATTACH;FMTTYPE=image/png:https://dance.gdp22.com/wp-content/uploads/schedule_info2-13.png
END:VEVENT
BEGIN:VEVENT
DTSTART;TZID=Asia/Tokyo:20260304T210000
DTEND;TZID=Asia/Tokyo:20260304T223000
DTSTAMP:20260421T202537
CREATED:20220608T025724Z
LAST-MODIFIED:20220727T031000Z
UID:10221690-1772658000-1772663400@dance.gdp22.com
SUMMARY:DesireeLadies登録制 By You
DESCRIPTION:【Desiree Ladies Tokyo】　　　　　　　\nBachataQueenDesireeの素敵な作品を学ぶ事が出来る特別なクラスです。\nこのクラスは作品を踊る為に基本から演舞までのダンストレーニングの全てが詰まっています。\n初心者の方でも必ず踊れる様になります。\n作品を習い貴女も踊って輝いてみませんか。\nDLTはDesireeのオフィシャルLadiesTeamです。\n世界で唯一Desireeの全作品を踊っているYou先生が皆さんに丁寧なレッスンを致します。\n初心者も経験者も基本練習をしながら、1つ1つの動作を細かく練習しますので、確実に身につけて頂けます。\n\n■Desiree LadiesTokyo\n期間2022年6月-11月\n6月以降途中入会ご希望の方はご連絡下さい。\n補講レッスン受講後に途中参加も可能です。\n個人プライベートレッスンでの作品練習の対応も致します。\n東京目黒スタジオLaCelula\nDesireeLadies登録制\nレベル0-3 ¥2000／1回\n月謝制8レッスン¥14000\n作品クラス¥10000／1ヶ月
URL:https://dance.gdp22.com/event/dance-7009/2026-03-04/
LOCATION:目黒スタジオLaCelula\, 東京都目黒区下目黒2－2－8メディアビル1F\, 目黒区\, 153-0064\, 日本
CATEGORIES:バチャータ全般
ATTACH;FMTTYPE=image/jpeg:https://dance.gdp22.com/wp-content/uploads/2078D6B2-3B15-44E2-A61D-6F25B88167F8-226x300-1.jpeg
ORGANIZER;CN="You":MAILTO:shuandyou@gmail.com
END:VEVENT
BEGIN:VEVENT
DTSTART;TZID=Asia/Tokyo:20260305T190000
DTEND;TZID=Asia/Tokyo:20260305T230000
DTSTAMP:20260421T202537
CREATED:20220718T171509Z
LAST-MODIFIED:20220718T173436Z
UID:10243037-1772737200-1772751600@dance.gdp22.com
SUMMARY:BUENA SALSA SOCIAL CLUB＠JBA
DESCRIPTION:BUENA SALSA SOCIAL CLUB\n(ブエナ サルサ ソシアル クラブ、素敵なサルサの社交場） \n昇天イベント☆アタルンバ主催のATARUです、スタジオJBAでLAサルサ(ON1)レッスンを始めます☆\nオープンして一年の綺麗でお洒落なスタジオでペアダンス、サルサを学びませんか☆\n男女が音楽を共有、シンクロし、言葉ではない心身のコミュニケーションを取り、\n日常生活で抑えてる情念、情感を開放し、魂を昇天させるペアダンス、それがサルサです☆ \n浮き世の不景気、政治不信、蔓延する生きて行く事に対する不安感、ストレス、倦怠感、苛立ち、\nそれらを吹き飛ばし、力強く前向きに生きて行く為にもサルサを始めませんか！\n☆きっと自分の中に新たな違う自分を発見するはずです☆\n生活に情熱のソース(サルサ)をぶっかけて味わい深い人生を歩みましょう！\nそのスタートとしてレッスンはステップワークを怠る事なく、\nペアがお互いに踊りやすいと感じられるようになる事にポイントを当てて、\n復習を繰り返しながら進めて行くつもりです☆\nさあ、一歩踏み出してラテン音楽に身を任せましょう！ \nレッスンの後は２時間のフリーダンスタイムを用意してあります☆\n僕もラストまで踊りまくるので、お気軽におこし下さい。 \n————————————————————–\n★開催日：【毎月第１、２、４木曜日】\n★開催時間：１９：００～２３：００ \n【タイムテーブル】\n19:00～19:30：未経験者&超初心者の為の個人レッスン\n19:30～20:00：ストレッチ、ムーブメント、ステップワーク(メレンゲ、サルサ、バチャータ)\n20:00～21:00：初中級サルサのペアワーク\n(ルーティーンは参加者のレベルに合わせた前回の復習を含んだものになります☆)\n21:00～23:00：フリーダンスタイム\n☆曲はATARU選曲によるLAスタイル向き、珠玉の懐メロ&ロマンティカが流れます。11時昇天☆ \n【参加費】\n２時間レッスン＋フリーダンスタイムはワンドリンク付き2000円\nフリーダンスタイムオンリーはワンドリンク付きで1000円\nソフトドリンクは常備されており飲み放題です☆\n他のドリンク類の持ち込みもOKです☆ 気軽に遊びに来て下さい。
URL:https://dance.gdp22.com/event/dance-15197/2026-03-05/
LOCATION:小伝馬町スタジオJBA\, 東京都中央区日本橋大伝馬町１１−８ ＨＡＴビル B1F\, 小伝馬町\, 103-0011\, 日本
CATEGORIES:サルサon1,メレンゲ,バチャータ全般
END:VEVENT
BEGIN:VEVENT
DTSTART;TZID=Asia/Tokyo:20260305T190000
DTEND;TZID=Asia/Tokyo:20260305T230000
DTSTAMP:20260421T202537
CREATED:20251230T024153Z
LAST-MODIFIED:20251230T024153Z
UID:10300186-1772737200-1772751600@dance.gdp22.com
SUMMARY:BUENA SALSA SOCIAL CLUB＠JBA
DESCRIPTION:BUENA SALSA SOCIAL CLUB\n(ブエナ サルサ ソシアル クラブ、素敵なサルサの社交場） \n昇天イベント☆アタルンバ主催のATARUです、スタジオJBAでLAサルサ(ON1)レッスンを始めます☆\nオープンして一年の綺麗でお洒落なスタジオでペアダンス、サルサを学びませんか☆\n男女が音楽を共有、シンクロし、言葉ではない心身のコミュニケーションを取り、\n日常生活で抑えてる情念、情感を開放し、魂を昇天させるペアダンス、それがサルサです☆ \n浮き世の不景気、政治不信、蔓延する生きて行く事に対する不安感、ストレス、倦怠感、苛立ち、\nそれらを吹き飛ばし、力強く前向きに生きて行く為にもサルサを始めませんか！\n☆きっと自分の中に新たな違う自分を発見するはずです☆\n生活に情熱のソース(サルサ)をぶっかけて味わい深い人生を歩みましょう！\nそのスタートとしてレッスンはステップワークを怠る事なく、\nペアがお互いに踊りやすいと感じられるようになる事にポイントを当てて、\n復習を繰り返しながら進めて行くつもりです☆\nさあ、一歩踏み出してラテン音楽に身を任せましょう！ \nレッスンの後は２時間のフリーダンスタイムを用意してあります☆\n僕もラストまで踊りまくるので、お気軽におこし下さい。 \n————————————————————–\n★開催日：【毎月第１、２、４木曜日】\n★開催時間：１９：００～２３：００ \n【タイムテーブル】\n19:00～19:30：未経験者&超初心者の為の個人レッスン\n19:30～20:00：ストレッチ、ムーブメント、ステップワーク(メレンゲ、サルサ、バチャータ)\n20:00～21:00：初中級サルサのペアワーク\n(ルーティーンは参加者のレベルに合わせた前回の復習を含んだものになります☆)\n21:00～23:00：フリーダンスタイム\n☆曲はATARU選曲によるLAスタイル向き、珠玉の懐メロ&ロマンティカが流れます。11時昇天☆ \n【参加費】\n２時間レッスン＋フリーダンスタイムはワンドリンク付き2000円\nフリーダンスタイムオンリーはワンドリンク付きで1000円\nソフトドリンクは常備されており飲み放題です☆\n他のドリンク類の持ち込みもOKです☆ 気軽に遊びに来て下さい。
URL:https://dance.gdp22.com/event/dance-118738/2026-03-05/
LOCATION:小伝馬町スタジオJBA\, 東京都中央区日本橋大伝馬町１１−８ ＨＡＴビル B1F\, 小伝馬町\, 103-0011\, 日本
CATEGORIES:サルサon1,メレンゲ,バチャータ全般
END:VEVENT
BEGIN:VEVENT
DTSTART;TZID=Asia/Tokyo:20260305T193000
DTEND;TZID=Asia/Tokyo:20260305T235900
DTSTAMP:20260421T202537
CREATED:20220919T061433Z
LAST-MODIFIED:20220919T061433Z
UID:10266178-1772739000-1772755140@dance.gdp22.com
SUMMARY:BACHAKIZZ Night
DESCRIPTION:インストラクター\nMarkos & Saori \n19:30-20:15 Kizomba\n20:15-21:00 Bachata\n21:00-24:00 Party  \n1 Lesson ＋ Party ¥1500\n2 Lesson ＋ Party ¥2000\n Only Party ¥1100(w1drink) \n和気あいあいとした楽しいレッスンですので、初めての方でも大丈夫です❣⃛\nパーティでは好きな曲や踊りたい曲があればリクエストください。可能な限り対応させていただきます。 \nEL RINCON LATINO(大阪)
URL:https://dance.gdp22.com/event/bachakizz-night/2026-03-05/
LOCATION:EL RINCON LATINO(大阪)\, 大阪府大阪市中央区心斎橋筋２丁目６−８ シャンペンジャムビル 4F\, 大阪\, 542-0085\, 日本
CATEGORIES:ソーシャル,バチャータ全般,キゾンバ全般
ATTACH;FMTTYPE=image/jpeg:https://dance.gdp22.com/wp-content/uploads/301806533_625121028965476_73485559564743689_n.jpg
END:VEVENT
BEGIN:VEVENT
DTSTART;TZID=Asia/Tokyo:20260305T203000
DTEND;TZID=Asia/Tokyo:20260305T213000
DTSTAMP:20260421T202537
CREATED:20220603T013916Z
LAST-MODIFIED:20220603T013916Z
UID:10219632-1772742600-1772746200@dance.gdp22.com
SUMMARY:BETO (CALI-COLOMBIA) バチャータ
DESCRIPTION:BETO SENSEY SALSA 2006年にコロンビアよりカリサルサ普及のため来日。\n元世界チャンピオンとして自身の躍動感溢れるパフォーマンス、また個人のレべルに合わせた丁寧な指導により日本チャンピオンぺアを育てるなど、年齢に関わらず生徒たちから絶大な人気を誇る日本サルサ界のトップダンサー。\n20:30-21:30 バチャータ\n2500円\n連続2レッスン受講の場合は3500円
URL:https://dance.gdp22.com/event/dance-6719/2026-03-05/
LOCATION:新宿スタジオレオン(2F)\, 東京都新宿区新宿 5-17-6　2F\, 新宿\, 160-0022\, 日本
CATEGORIES:バチャータ全般
ATTACH;FMTTYPE=image/jpeg:https://dance.gdp22.com/wp-content/uploads/img_BETO-1.jpg
END:VEVENT
BEGIN:VEVENT
DTSTART;TZID=Asia/Tokyo:20260306T190000
DTEND;TZID=Asia/Tokyo:20260306T235900
DTSTAMP:20260421T202537
CREATED:20220831T030957Z
LAST-MODIFIED:20220831T030957Z
UID:10261785-1772823600-1772841540@dance.gdp22.com
SUMMARY:ON1＆バチャータ・ナイト
DESCRIPTION:カフェルンビータ（京都） \n詳細はWEB参照
URL:https://dance.gdp22.com/event/dance-32775/2026-03-06/
LOCATION:カフェルンビータ（京都）\, 京都府京都市中京区山崎町２５８−１９ 珠光ビル三条 ３F\, 京都\, 604-8032\, 日本
CATEGORIES:サルサon1,ソーシャル,バチャータ全般
END:VEVENT
BEGIN:VEVENT
DTSTART;TZID=Asia/Tokyo:20260306T193000
DTEND;TZID=Asia/Tokyo:20260306T235900
DTSTAMP:20260421T202537
CREATED:20220921T030840Z
LAST-MODIFIED:20221002T161257Z
UID:10264100-1772825400-1772841540@dance.gdp22.com
SUMMARY:Friday beginner party @ shallwedancecafe
DESCRIPTION:19:30-初中級バチャータレッスン\n20:00-初中級サルサレッスン\nLucho&Maki\n2レッスン¥2000\n1レッスン¥1500(パーティ付) \n20:30-24:00Party \n先着10人まで¥500 1drink\n20人まで¥1000 2drink\n40人まで¥1500 1drink\n40人から¥2000 1drink \nShall We Dance Cafe(大阪)
URL:https://dance.gdp22.com/event/frlday-beglnner-party/2026-03-06/
LOCATION:Shall We Dance Cafe(大阪)\, 大阪府大阪市北区兎我野町４−９\, 大阪\, 530-0056\, 日本
CATEGORIES:ソーシャル,バチャータ全般,サルサ全般
ORGANIZER;CN="Lucho (y Maki)":MAILTO:luchosalsadancelesson@gmail.com
END:VEVENT
END:VCALENDAR