BEGIN:VCALENDAR
VERSION:2.0
PRODID:-//Dancing Pono (ダンシングポノ) - ECPv6.15.12//NONSGML v1.0//EN
CALSCALE:GREGORIAN
METHOD:PUBLISH
X-ORIGINAL-URL:https://dance.gdp22.com
X-WR-CALDESC:Dancing Pono (ダンシングポノ) のイベント
REFRESH-INTERVAL;VALUE=DURATION:PT1H
X-Robots-Tag:noindex
X-PUBLISHED-TTL:PT1H
BEGIN:VTIMEZONE
TZID:Asia/Tokyo
BEGIN:STANDARD
TZOFFSETFROM:+0900
TZOFFSETTO:+0900
TZNAME:JST
DTSTART:20240101T000000
END:STANDARD
END:VTIMEZONE
BEGIN:VEVENT
DTSTART;TZID=Asia/Tokyo:20251228T195000
DTEND;TZID=Asia/Tokyo:20251228T230000
DTSTAMP:20260421T210454
CREATED:20251228T083340Z
LAST-MODIFIED:20251228T083340Z
UID:10300092-1766951400-1766962800@dance.gdp22.com
SUMMARY:ダイヤモンドサルサ年末Special @麻布十番中野ダンススクール
DESCRIPTION:お気に入りに追加 0ダイヤモンドサルサ年末Special @麻布十番中野ダンススクール \nhttps://www.facebook.com/events/1360965522399106/ \n  \n12/29(月)皆さん、こんにちは気付けば師走ダイヤモンドサルサで2025締めくくりですこの日のDJはYou &Yosuke＆Miguelもう来ない理由がないでしょ？！(言っちゃった)ゲストダンサーの皆さんも、ご予定アリアリの中アリガトーございます素敵で気分が上がっちゃう中野ダンススクールで、皆んなで素敵な夜を過ごしましょ皆様のお越しを心からお待ちしてます\n19:50オープン20:00-23:00ソーシャル(You＆Yosuke &Miguel)\nエントランス¥2000(フリードリンクご用意)@麻布十番中野ダンススクール持ち込み自由アルコールOK土足禁止禁煙
URL:https://dance.gdp22.com/event/dance-118591/
LOCATION:中野ダンススクール\, 麻布十番3ー3ー3麻布十番PAビルディング2F\, 港区\, 106-0045
ATTACH;FMTTYPE=image/jpeg:https://dance.gdp22.com/wp-content/uploads/IMG_4832.jpeg
END:VEVENT
END:VCALENDAR