BEGIN:VCALENDAR
VERSION:2.0
PRODID:-//Dancing Pono (ダンシングポノ) - ECPv6.15.12//NONSGML v1.0//EN
CALSCALE:GREGORIAN
METHOD:PUBLISH
X-WR-CALNAME:Dancing Pono (ダンシングポノ)
X-ORIGINAL-URL:https://dance.gdp22.com
X-WR-CALDESC:Dancing Pono (ダンシングポノ) のイベント
REFRESH-INTERVAL;VALUE=DURATION:PT1H
X-Robots-Tag:noindex
X-PUBLISHED-TTL:PT1H
BEGIN:VTIMEZONE
TZID:Asia/Tokyo
BEGIN:STANDARD
TZOFFSETFROM:+0900
TZOFFSETTO:+0900
TZNAME:JST
DTSTART:20220101T000000
END:STANDARD
END:VTIMEZONE
BEGIN:VEVENT
DTSTART;TZID=Asia/Tokyo:20240121T180000
DTEND;TZID=Asia/Tokyo:20240121T220000
DTSTAMP:20260421T224810
CREATED:20240105T021331Z
LAST-MODIFIED:20240105T021331Z
UID:10205823-1705860000-1705874400@dance.gdp22.com
SUMMARY:豊洲Salsa Live & Social - SHINJI & NORIKO &Bachata一曲振付&Workshop -
DESCRIPTION:お気に入りに追加 0 \n～イベント紹介動画アップ!!(2023/12/25 Update)～\nhttps://youtu.be/N9Up2wOtalM\n～SHINJI & NORIKO”Bachata1曲振付”企画 第2回Workshop開催! ～\n大好評だった第一回をパワーアップ!! SHINJI&NORIKOにて、『初めて～初級向けBachata1曲振付』を完全コピーするワークショップを開催致します♪\n*ベーシックから基礎ムーヴメント・ルーチンのテクニックまで、ペアダンス初心者でも1.5時間のレッスンで、1曲振付を一度に覚えられます。\n*フリータイムでも踊れるお得な内容なので、一気に上達が期待できます。\n*希望者へ、最後に振付演武を皆で一緒に撮影します。\n初心者向けペアダンス挑戦、SNSの投稿にもぴったりの内容ですぜひご参加ください♪(お一人からの参加で大丈夫です。女性同士のペア参加も、特に問題ございません。)\n*Bachataダンスとは? *前回動画をご参考頂けます。(SHINJI&NORIKO)\nhttps://www.youtube.com/watch?v=EGNv6fNUeLc\n～Toyosu Salsa Live & Social 開催!! ～\n豊洲でのイベント再開を記念しまして、日暮里★Domingoによる「Salsa Band Live & Social」開催！音楽とダンスを思う存分楽しむことが出来る企画になります!お楽しみに!\n～ アクセサリー販売のNADIE COMO YO開催 ～\n当日店舗を設置いたします。オリジナルのピアスは2000円～とプチプライス。イヤリング金具に変更もOKです。ストーリー性いっぱいのチョーカーも人気です。\n～詳細～\n夜景が綺麗、広くて清潔と大好評の、豊洲シビックセンターで開催いたします。(駅から徒歩3分)、サルサLive、ソーシャルタイム、SHINJI&NORIKO 豪華Bachata1曲振付Workshop + 初心Salsaレッスンと、豪華フルコースのラインナップで企画しました。\nDJはMichiroで、情熱的にソーシャルタイムを奏でます。\n■ 会場:\n豊洲シビックセンター 7F 大レクホール\n東京都江東区豊洲2-2-18豊洲シビックセンター内/事務室8F\n(シビックセンターホール7F TEL03-3536-5061)\nURL: https://www.kcf.or.jp/toyosu/access/\n■ 入場料金: 1\,000円 (飲み物の持込み自由。アルコールも今回可)\n※ Workshop受講の方は＋1\,500円\n※ ごみは各自の持ち帰りとなります\n■ 日時：2024月1月21日(日）18:00～21:40\n・18:00～ 開場\n・18:10～ バチャータ1曲振付Workshop SHINJI&NORIKO\n・19:25～ Salsa初心レッスン\n・19:50～サルサLive & ソーシャルダンスタイム\n– Salsa Band – 日暮里★Domingo\n・20:45～ DJタイム *Bachata中心\n– DJ Michiro\n■お知らせ: YouTube Channel\n*ソーシャル、レッスン動画を配信しております♬ 是非チャンネル登録お願いします♪\nhttps://www.youtube.com/@shinjichannel-dancercoriog2294\n■毎週日曜日集中クラスのメンバー募集中!お問い合わせはこちらまで\nペア(サルサ・バチャータ)\nhttps://fb.me/e/1uQfYx12B\nシャイン\nhttps://fb.me/e/7h3yey2te\nHP\n– https://shinjiharuna.com/\n■ 主催: 一般社団法人日本ダンス・アート協会\nhttp://danceart.or.jp/\n■ 共催: ダンスを通じて豊洲を盛り上げる会\nhttp://toyosudansu.com/
URL:https://dance.gdp22.com/event/dance-59207/
LOCATION:豊洲シビックセンターホール\, 東京都江東区豊洲2-2-18 豊洲シビックセンター内/事務室8F\, 豊洲シビックセンターホール5F\, 豊洲\, 135-0061\, 日本
CATEGORIES:クリスマスイベント・忘年会・カウントダウン・初踊り,サルサ,バチャータ,ソーシャル
ATTACH;FMTTYPE=image/jpeg:https://dance.gdp22.com/wp-content/uploads/406360827_10222722373386292_6765172952816336655_n.jpg
END:VEVENT
BEGIN:VEVENT
DTSTART;TZID=Asia/Tokyo:20231217T184000
DTEND;TZID=Asia/Tokyo:20231217T213000
DTSTAMP:20260421T224810
CREATED:20231213T030618Z
LAST-MODIFIED:20231213T030618Z
UID:10205797-1702838400-1702848600@dance.gdp22.com
SUMMARY:ライヴで踊ろう★大江戸Xmas in 豊洲🎄
DESCRIPTION:お気に入りに追加 0 \n大江戸で大人のソーシャルご一緒に！\n〜大江戸★Xmas 第一弾！〜\nSpecial企画！豊洲シビック大レクホールにサルサバンドが登場します！\n” Orqesta La Pasion Japon ”\nLatinos、Japanese 11名、プロのミュージシャンにより編成される彼らは、聴衆を踊らせる演奏を！！をモットーに活動中。往年の名曲に留まらず、現代の、まさに今のサルサを知って欲しい！とオリジナル・アルバムもリリース。日本から世界に向けサルサを発信したい！！彼らの熱いステージでご一緒に弾けましょう\nパフォーマンスも賑やか華やかに6チーム。それぞれ個性豊かなステージが今から楽しみ。\nもちろんDJ timeもしっかりと、大御所DJ Youが盛り上げます。\nさらに、レイヤ推し推しの人気店、晴珈琲さんと、NADIE Comoyo さん(オリジナルアクセサリー)がブースで脇を固めます。\nサルサの醍醐味がギュッと詰まった イベントです。\nドレスコードはXmas \n全身でもワンポイントでもキラキラでもお好きなようでOK！\nわくわくXmas気分でお出かけください。\nお待ちしています\n\n◆日 時: 12月17日 (日) 18:40〜21:30\n◆タイムスケジュール\n18:40 Door open DJ time\n19:00 1st Stage\n19:30 DJ time\n19:50 Performance 6Teams\n20:20 DJ time\n20:30 2ed Stage\n21:00 DJ time\n21:30 Close 撤収\n22:00 全館完全撤収\n＊リハありドアオープンまで入室不可。\n＊時間は多少前後する場合があります。\n◆参加費: 2500円\n＊お釣りが無いようご協力をお願いします。\n◆場 所: 豊洲文化センター 7F レクホール\n江東区豊洲2-2- 18 豊洲シビックセンター 7F\nhttps://www.kcf.or.jp/toyosu/shisetsu/ichiran/detail/?id=55\n◆最寄駅 :\n有楽町線「豊洲駅」7番出口 徒歩1分\nゆりかもめ「豊洲」改札階直結\n◆出演バンド紹介\nLatinosと日本人による混成サルサバンド\n★Orquesta La Pasión Japon\n総勢11人のオルケスタです\n踊れる現代サルサと華やかなオリジナル曲\nラテンのグルーヴたっぷりの\nど真ん中サルサをお届けします\nみなさんに踊ってもらいたい！\n熱いラテンな夜を楽しんでください！\n◆パフォーマンス出演チーム紹介 (順不同)\n①YUZO&MIU BACHATA BOOTCANP team\n②THE MIU ALL STARS\n③Namio Naomi Boot Camp team（Salsa On1）\n④Phoenix of Salsalion (Kimi Produce On2)\n⑤Viento Bachata Performance Team (SHINJI Produce)\n⑥KRB66\n＊各チーム紹介詳細は別枠に記載。\n◆DJ紹介\n★DJ You\n気持ちよく踊れる！を最優先に 踊って良し、聴いて良しで楽しめる選曲を目指します！ 豊富な音楽経験に培われた感性から導き出されるプレイスタイルは、 一瞬にしてダンサーをエクスタシーへと導いてしまう！！\n◆ブース紹介\n★晴珈琲\n業界内外から大絶賛！踊って挽ける晴珈琲の晴ちゃんが心豊かな癒しをご提供。\n深入りなのにこの透明感！一度飲んだら止められない美味絶妙〜〜違いのわかる大人の味、是非お試しください！ 豆、粉、1ドリップ、ご用途に合わせてお求めいただけます。\n★NADIE COMO YO\nオリジナルアクセサリーショップ【NADIE COMO YO】です。イベント会場の片隅で、オンリーワンを見つけてください。プチプライスで、あなたのダンスシーンに彩りを！\n◆その他\n・アルコールを含む飲料持ち込み可。\n・但し度を越さぬよう控えめにお願いします。\n・ゴミは各自お持ち帰り厳守！\n・貴重品お荷物自己責任自己管理。\n・ソフトドリンクご用意しますが限りあり。\n・男女共同じフロア廊下に更衣室あります。\n主催: 大江戸サルサ 玲耶 (Reiya)\nhttps://smcb.jp/communities/34748
URL:https://dance.gdp22.com/event/dance-57956/
LOCATION:豊洲シビックセンターホール\, 東京都江東区豊洲2-2-18 豊洲シビックセンター内/事務室8F\, 豊洲シビックセンターホール5F\, 豊洲\, 135-0061\, 日本
CATEGORIES:クリスマスイベント・忘年会・カウントダウン・初踊り,サルサ,ソーシャル
ATTACH;FMTTYPE=image/jpeg:https://dance.gdp22.com/wp-content/uploads/408666579_6874294199313574_6579280173862477635_n.jpg
END:VEVENT
END:VCALENDAR