BEGIN:VCALENDAR
VERSION:2.0
PRODID:-//Dancing Pono (ダンシングポノ) - ECPv6.15.12//NONSGML v1.0//EN
CALSCALE:GREGORIAN
METHOD:PUBLISH
X-ORIGINAL-URL:https://dance.gdp22.com
X-WR-CALDESC:Dancing Pono (ダンシングポノ) のイベント
REFRESH-INTERVAL;VALUE=DURATION:PT1H
X-Robots-Tag:noindex
X-PUBLISHED-TTL:PT1H
BEGIN:VTIMEZONE
TZID:Asia/Tokyo
BEGIN:STANDARD
TZOFFSETFROM:+0900
TZOFFSETTO:+0900
TZNAME:JST
DTSTART:20220101T000000
END:STANDARD
END:VTIMEZONE
BEGIN:VEVENT
DTSTART;TZID=Asia/Tokyo:20231224T170000
DTEND;TZID=Asia/Tokyo:20231224T220000
DTSTAMP:20260421T075558
CREATED:20231201T021353Z
LAST-MODIFIED:20231201T021449Z
UID:10205767-1703437200-1703455200@dance.gdp22.com
SUMMARY:TOKAI BIG LATIN CHRISTMAS
DESCRIPTION:お気に入りに追加 0 \nMore info coming soon☺︎
URL:https://dance.gdp22.com/event/57203/
LOCATION:名古屋FLOW Lounge\, 愛知県名古屋市中区栄３丁目２０−２７ 名古屋ダイヤビル３Ｆ\, 名古屋\, 460-0008\, 日本
CATEGORIES:クリスマスイベント・忘年会・カウントダウン・初踊り,ソーシャル
ATTACH;FMTTYPE=image/jpeg:https://dance.gdp22.com/wp-content/uploads/399702294_3895290594025334_4907219998533296583_n.jpg
END:VEVENT
END:VCALENDAR