BEGIN:VCALENDAR
VERSION:2.0
PRODID:-//Dancing Pono (ダンシングポノ) - ECPv6.15.12//NONSGML v1.0//EN
CALSCALE:GREGORIAN
METHOD:PUBLISH
X-WR-CALNAME:Dancing Pono (ダンシングポノ)
X-ORIGINAL-URL:https://dance.gdp22.com
X-WR-CALDESC:Dancing Pono (ダンシングポノ) のイベント
REFRESH-INTERVAL;VALUE=DURATION:PT1H
X-Robots-Tag:noindex
X-PUBLISHED-TTL:PT1H
BEGIN:VTIMEZONE
TZID:Asia/Tokyo
BEGIN:STANDARD
TZOFFSETFROM:+0900
TZOFFSETTO:+0900
TZNAME:JST
DTSTART:20230101T000000
END:STANDARD
END:VTIMEZONE
BEGIN:VEVENT
DTSTART;TZID=Asia/Tokyo:20240113T153000
DTEND;TZID=Asia/Tokyo:20240113T203000
DTSTAMP:20260421T095508
CREATED:20231227T011118Z
LAST-MODIFIED:20231227T011118Z
UID:10205817-1705159800-1705177800@dance.gdp22.com
SUMMARY:Salsa Fuego Party&#SOU\, 浜松 Vol.46
DESCRIPTION:お気に入りに追加 0 \nサルサ新年会！浜松フエゴ＠SOU\n2023年は各地から多くの方に浜松に来て頂いて、楽しい時間を一緒に作って頂き、本当にありがとうございました！\n（まだ今年はもう少しあります！）\n素敵な音楽を聞いて一緒に踊れば、\n笑顔で満たされ、\n繋がりの輪ができる。\nそんな楽しみが好きな人達との出会いって生きている中でも貴重だなと、\nご縁に感謝した1年でした！\n2024年もサルサ・バチャータなど、\n人との出会いを大切にし、\nラテンダンスを踊る楽しさを伝える活動をしていきたいと思います！\nまずはサルサ・バチャータ新年会\n一緒に楽しんで頂ける方お待ちしております！\nどなたもウエルカムです！\n今回は飲食持ち込みOKです！\nスタッフ側でドリンクやフードを多少ご用意致しますが、\n祝い酒、ドリンクやフードのお持ち込み頂けると嬉しいです！\nゲストですが、\n今回は浜松サルサの祖の1人である、\nギドー(義童)さんを、広島からお招きします！\nギドーさんをご存知ない方にご紹介をさせてください。\nギドーさんは、サルサ愛に溢れに溢れてサルサできている人\n2001年に浜松でレッスンを始め、\nその弟子たちを始め、多くの浜松サルサメンバーは、\nギドーさんのサルサ愛に影響、感銘を受けて育ってきました\n今回は、サルサを始めた頃の初心に戻る意味を込め、\nサルサ愛のシャワーを浜松に注いで頂きたいと思います！\nギドースタイルサルサレッスン＆パフォもございます\nギドーさんを知る人も、\n知らない人も、\nぜひギドーさんに会いに来てサルサ愛に触れていただきたいです！\nギドーさん応援メッセージもお待ちしております！\nそして静岡からは、イベントが華やかになる、Miko & Laschicasの登場です！\nご出産を経てMikoちゃん復活\n素敵なメンバーいっぱいのLaschicasのみなさんでパフォーマンスをします！\n熱い応援よろしくお願いします！\nMikoちゃんのレッスンもあります！\n更に名古屋からはDJ部長さんをお招きします！\n部長さんのDJはフエゴでは初めてですが、今からとても楽しみです♪\nまた他にもゲストを調整中です！\nイベント詳細は今後アップしていきます！\nイベント概要\n☆2024年1月13日(土)　Vol. 46\n　Open：15:30 End 20:30\n☆Charge：￥2\,000\n・ドリンク、食べ物の持ち込みOKです！\n☆新年会祝い酒持ち込み歓迎\n今回はBARは入りません。\nスタッフ側でドリンクやフードを多少ご用意致しますが、\n祝い酒、ドリンクやフードのお持ち込み大歓迎です！\n★DJ\n・Bucho (名古屋)\n・Aki (浜松)\n★パフォーマンス\n・ギドー(義童）\n★パーカッション\n・浜松のポンチョ・サンチェスことタニーさんのパーカションスペース！
URL:https://dance.gdp22.com/event/dance-58741/
LOCATION:浜松SOU\, 静岡県浜松市中区板屋町102-15 B1\, 浜松\, 430-0928\, 日本
CATEGORIES:クリスマスイベント・忘年会・カウントダウン・初踊り,サルサ,バチャータ,ソーシャル
ATTACH;FMTTYPE=image/jpeg:https://dance.gdp22.com/wp-content/uploads/410673657_7093645730715393_672350912750035823_n.jpg
END:VEVENT
END:VCALENDAR