BEGIN:VCALENDAR
VERSION:2.0
PRODID:-//Dancing Pono (ダンシングポノ) - ECPv6.15.12//NONSGML v1.0//EN
CALSCALE:GREGORIAN
METHOD:PUBLISH
X-WR-CALNAME:Dancing Pono (ダンシングポノ)
X-ORIGINAL-URL:https://dance.gdp22.com
X-WR-CALDESC:Dancing Pono (ダンシングポノ) のイベント
REFRESH-INTERVAL;VALUE=DURATION:PT1H
X-Robots-Tag:noindex
X-PUBLISHED-TTL:PT1H
BEGIN:VTIMEZONE
TZID:Asia/Tokyo
BEGIN:STANDARD
TZOFFSETFROM:+0900
TZOFFSETTO:+0900
TZNAME:JST
DTSTART:20250101T000000
END:STANDARD
END:VTIMEZONE
BEGIN:VEVENT
DTSTART;TZID=Asia/Tokyo:20260425T140000
DTEND;TZID=Asia/Tokyo:20260425T150000
DTSTAMP:20260423T224253
CREATED:20220624T022601Z
LAST-MODIFIED:20220729T025605Z
UID:10226451-1777125600-1777129200@dance.gdp22.com
SUMMARY:Salsa On1 Master Class By HIDE&PEKO
DESCRIPTION:お気に入りに追加 0Salsa On1 Master Class\n​スタジオとオンライン受講が選べる！\n​　毎週 土曜日　\n14:00 – 15:00 (1h) \n​講師：HIDE\, PEKO\n​@BUZZ  渋谷東口SQUARE \n受講生募集中！サルサ経験者向けのクラスです！ \n​​ご自宅で、オンラインでの受講も可能です。オンラインの方は割引がございます。 \n単発受講と得なチケット制とで選べます！
URL:https://dance.gdp22.com/event/salsa-on1-master-class-by-hidepeko/2026-04-25/
LOCATION:BUZZ  渋谷東口SQUARE\, 東京都渋谷区渋谷2-22-8 名取ビル1階\, 渋谷\, 150-0002\, 日本
CATEGORIES:サルサon1
ATTACH;FMTTYPE=image/png:https://dance.gdp22.com/wp-content/uploads/0f9f8fa4ea0751f6bcf2dcdf531f8488.png
END:VEVENT
BEGIN:VEVENT
DTSTART;TZID=Asia/Tokyo:20260425T150000
DTEND;TZID=Asia/Tokyo:20260425T160000
DTSTAMP:20260423T224253
CREATED:20220624T023026Z
LAST-MODIFIED:20220729T030143Z
UID:10227199-1777129200-1777132800@dance.gdp22.com
SUMMARY:Bachata Class By HIDE&PEKO
DESCRIPTION:お気に入りに追加 0Bachata Class\n​週末お昼間のレッスン\n​　毎週 土曜日　\n15:00 – 16:00 (1h) \n​講師：HIDE\, PEKO\n​@BUZZ 渋谷東急SQUEARE \n受講生募集中！バチャータ未経験者から、経験者まで受講可能です。 \n​\n​単発受講とお得なチケット制とで選べます！
URL:https://dance.gdp22.com/event/bachata-class-by-hidepeko/2026-04-25/
LOCATION:BUZZ  渋谷東口SQUARE\, 東京都渋谷区渋谷2-22-8 名取ビル1階\, 渋谷\, 150-0002\, 日本
CATEGORIES:バチャータ全般
ATTACH;FMTTYPE=image/png:https://dance.gdp22.com/wp-content/uploads/275982728_647826136279965_1388238450379262023_n.png
END:VEVENT
BEGIN:VEVENT
DTSTART;TZID=Asia/Tokyo:20260426T110000
DTEND;TZID=Asia/Tokyo:20260426T120000
DTSTAMP:20260423T224253
CREATED:20220624T022759Z
LAST-MODIFIED:20220729T025400Z
UID:10228504-1777201200-1777204800@dance.gdp22.com
SUMMARY:Salsa On2 Master Class By HIDE&PEKO
DESCRIPTION:お気に入りに追加 0Salsa On2 Master Class\n​スタジオとオンライン受講が選べる！\n​　毎週 日曜日　\n11:00 – 12:00 (1h) \n​講師：HIDE\, PEKO\n​@BUZZ  渋谷東口SQUARE \n受講生募集中！サルサ経験者向けのクラスです。 \n​ご自宅で、オンラインでの受講も可能です。オンラインの方は割引がございます。 \n単発受講と得なチケット制とで選べます！
URL:https://dance.gdp22.com/event/salsa-on2-master-class-by-hidepeko/2026-04-26/
LOCATION:BUZZ  渋谷東口SQUARE\, 東京都渋谷区渋谷2-22-8 名取ビル1階\, 渋谷\, 150-0002\, 日本
CATEGORIES:サルサon2
ATTACH;FMTTYPE=image/png:https://dance.gdp22.com/wp-content/uploads/0f9f8fa4ea0751f6bcf2dcdf531f8488-1.png
END:VEVENT
BEGIN:VEVENT
DTSTART;TZID=Asia/Tokyo:20260429T200000
DTEND;TZID=Asia/Tokyo:20260429T213000
DTSTAMP:20260423T224253
CREATED:20221114T031631Z
LAST-MODIFIED:20221114T031631Z
UID:10287094-1777492800-1777498200@dance.gdp22.com
SUMMARY:​AMELIA PEKO'S LADIES SHINE TEAM
DESCRIPTION:お気に入りに追加 0 \n\nPEKOプロデュースのレディースシャインチームです。振付ナンバーを題材にレッスンを進めて行きます。ただ振付けを覚えて踊るのではなく、何度もゆっくりと繰り返し説明・練習していきますので着実な技術の向上が見込めます！サルサに必要な幅広いダンステクニックが学べます。(毎回、振り付けの他に基礎練習があります。） \n\nサルサOn2 （NY） スタイルです。 \n​ \n１シーズンは約１年間となります。半年でパフォーマンスに向けて振り入れ・レッスンをし、残りの半年はパフォーマンスをしながら、更により良くするためのレッスンを行なっていきます。\n​（発表は動画又はイベントで行います。感染症の流行を鑑みながら、チームメンバーと相談して出演を決めていきます。） \n\n\n\n\n\n\n\n\n\n\n\n\n\nPEKO’S LADIES SHINE TEAM\n\n\n\n2022年 3月開始\n\n\n​  毎週水曜日   \n\n\n20:00 – 21:30（1\,5h） \n\n\n​@BUZZ 渋谷 東口 SQUARE\n​オンラインでの受講も可能です。 \n​（オンラインはリアルタイムでなくても1週間ご覧いただけます。お仕事などで見られなかった場合は、ご相談ください。） \n\n\n月謝 ¥12\,500- / 4回 \n\n\n​✴︎ 1ヶ月4回のレッスンではない月は1レッスン3125円で計算します。 \n​ \n​✴︎ 別途　振り付け料 ¥5\,000-​と衣装代がかかります。 \n​ \n​✴︎ オンライン受講者の料金は10\,000円 / 月４回です。
URL:https://dance.gdp22.com/event/amelia-pekos-ladies-shine-team/2026-04-29/
LOCATION:BUZZ  渋谷東口SQUARE\, 東京都渋谷区渋谷2-22-8 名取ビル1階\, 渋谷\, 150-0002\, 日本
CATEGORIES:サルサon2,サルサ
ATTACH;FMTTYPE=image/png:https://dance.gdp22.com/wp-content/uploads/IMG_8511_JPG.png
END:VEVENT
BEGIN:VEVENT
DTSTART;TZID=Asia/Tokyo:20260430T173000
DTEND;TZID=Asia/Tokyo:20260430T183000
DTSTAMP:20260423T224253
CREATED:20220624T021411Z
LAST-MODIFIED:20220801T081835Z
UID:10230437-1777570200-1777573800@dance.gdp22.com
SUMMARY:Salsa Kids Class By HIDE＆PEKO
DESCRIPTION:お気に入りに追加 0\nSalsa Kids Class\n\n\n\n​受講生随時募集中！\n\n​  毎週 木曜日  17:30 – 18:30（1h） \n\n\n​@Studio Mission 渋谷 \n\n\n​講師：HIDE\, PEKO\n\n\n月謝 ¥8\,000- / 4回 \n\n\n​初回は1000円で体験レッスンができます！\n\n\n​対象者：6才から12才までの男女 \n\n\n​＊月初めのレッスンで、その月の月謝のお支払いをお願いいたします。 \n\n\n＊受講者のご都合でお休みされる場合は、月謝の返還は致しかねます。（コロナウイルスが理由の場合も同等です。東京都からのジムなどの休業要請が出た場合は休講となります。その場合は開講できなかった分を返金致します。） \n\n\n​＊レッスンに集中して頂けるように、保護者のご見学はお断りしておりますので、ご了承ください。 \n\n\n子どもならではの柔軟な身体と吸収率を使って、楽しいだけではなく、しっかりと踊れるように指導いたします。​ \nサルサのジャンルは「Salsa On1 / LAスタイル」です。 \n​サルサのステップ、ムーブメント、ターン、ペアワークを振り付けを通じて全てのダンスジャンルの基礎となる技術を学んでいきます！
URL:https://dance.gdp22.com/event/dance-8554/2026-04-30/
LOCATION:渋谷studioMISSION\, 東京都渋谷区道玄坂2-10-12 新大宗ビル4号館 B2F 7F 8F 9F\, 渋谷\, 150-0043\, 日本
CATEGORIES:サルサon1
ATTACH;FMTTYPE=image/png:https://dance.gdp22.com/wp-content/uploads/Blessings-on-your-Babys-Baptism.png
END:VEVENT
BEGIN:VEVENT
DTSTART;TZID=Asia/Tokyo:20260503T153000
DTEND;TZID=Asia/Tokyo:20260503T170000
DTSTAMP:20260423T224253
CREATED:20220624T023356Z
LAST-MODIFIED:20220729T030228Z
UID:10231915-1777822200-1777827600@dance.gdp22.com
SUMMARY:U35 サルサ教室 By HIDE&PEKO
DESCRIPTION:お気に入りに追加 0U35 サルサ教室\n​月２回のスペシャルクラス\n　日曜日　\n15:30 – 17:00 (1.5h) \n​講師：HIDE\, PEKO\n​@BUZZ 渋谷東急SQUEARE \n受講生募集中！サルサ 未経験者から、経験者まで受講可能です。
URL:https://dance.gdp22.com/event/dance-8611/2026-05-03/
LOCATION:BUZZ  渋谷東口SQUARE\, 東京都渋谷区渋谷2-22-8 名取ビル1階\, 渋谷\, 150-0002\, 日本
CATEGORIES:サルサ全般
ATTACH;FMTTYPE=image/png:https://dance.gdp22.com/wp-content/uploads/e685f6c45783b01a986a141d50e8763c.png
END:VEVENT
END:VCALENDAR