BEGIN:VCALENDAR
VERSION:2.0
PRODID:-//Dancing Pono (ダンシングポノ) - ECPv6.15.12//NONSGML v1.0//EN
CALSCALE:GREGORIAN
METHOD:PUBLISH
X-WR-CALNAME:Dancing Pono (ダンシングポノ)
X-ORIGINAL-URL:https://dance.gdp22.com
X-WR-CALDESC:Dancing Pono (ダンシングポノ) のイベント
REFRESH-INTERVAL;VALUE=DURATION:PT1H
X-Robots-Tag:noindex
X-PUBLISHED-TTL:PT1H
BEGIN:VTIMEZONE
TZID:Asia/Tokyo
BEGIN:STANDARD
TZOFFSETFROM:+0900
TZOFFSETTO:+0900
TZNAME:JST
DTSTART:20230101T000000
END:STANDARD
END:VTIMEZONE
BEGIN:VEVENT
DTSTART;TZID=Asia/Tokyo:20240210T200000
DTEND;TZID=Asia/Tokyo:20240210T233000
DTSTAMP:20260421T230009
CREATED:20220330T002423Z
LAST-MODIFIED:20240117T225521Z
UID:10174270-1707595200-1707607800@dance.gdp22.com
SUMMARY:100回記念！コンセプトバチャサル
DESCRIPTION:お気に入りに追加 0100回記念！コンセプトバチャサル\nhttps://facebook.com/events/s/100%E5%9B%9E%E8%A8%98%E5%BF%B5concept-bachatasalsapepe/679095460972376/ \nhttps://facebook.com/events/s/100%E5%9B%9E%E8%A8%98%E5%BF%B5concept-bachatasalsapepe/679095460972376/ \n「100回記念！Concept ★ Bachata&Salsa!＠PePe」 Vol.100 2024/2/10(Sat) \n『Valentine Night!!』 \n今回のコンセプトは100回目の記念イベントとなります。\n今まで参加したことがある方も初めて参加される方もみんなお誘いの上、盛り上がりましょう！\nバレンタインカラーもしくはホワイトカラーでお越しください。 \nレッスンは今ホットなバチャータインストラクターTaku & Yoko！\nPFはDesiree Ladies Tokyo\,DATURA NOIRの女性チーム2組！\nサルサ50％、バチャータ50％（ただし場の状況により比率変動あり） \n＜スケジュール（場所：Studio PePe2）＞\n19：00～　　　　 Open\n19：10～20:10 Sensual Bachata Lesson（Taku & Yoko）\nAllレベル ￥1\,000\n20：10～　　　　 DJ Time (DJ Mami)\n22：00～　　　　 Performance（Desiree Ladies Tokyo\,DATURA NOIR）\n～23：30　　　　 Close \nDJ Time&Lesson :￥3\,000/1drink\nDJ Time　　　 :￥2\,000/1drink \n＜DJ ：Mami＞\nみんな大好きMamiちゃん登板！\n選曲の良さと会場の空気を読む抜群のセンスを兼ね備えた、サルサ、バチャータ何でも来いの頼れるバディ。\n自ら数々の人気イベントをオーガナイズし、その他のイベントでもひっぱりだこの人気DJ。\nその経験からどんな曲でも即座に対応のドラえもんポケットみたいな選曲リストで今回も会場を盛り上げます。 \n＜レッスン講師：Taku & Yoko＞\n2023年よりTaku & Yoko として東京、福岡を中心にペア活動開始。韓国や国内Festival等でもWSを担当 \nTaku\nBachata Sensualの創始者であるKorke & Judithのオフィシャルインストラクターコースを4回受講するほどのBachata Sensualオタク。最難関のレベル2取得後も知識とテクニックのアップデートを続けている\nLead＆Followのテクニックを論理立てて教えることが得意。心地よく柔らかい流れるようなリードが特徴\n音楽も好きでGuiterやBass、Guiraの演奏、Bachata Remix作成、DJもこなす\n2019年 Bachata Sensual Official Instructor Level Certificate 1 取得\n2021年　Bachata Sensual Official Instructor Level 2 Certificate 取得（2023年現在日本で1組のみ） \nYoko\n3歳からバレエを始め、牧阿佐美バレヱ団AMスチューデンツ25期生として活動し、牧阿佐美バレヱ団公演に多数出演\n退団後Jazz、Heeldance、Hiphop、Salsa、Zoukなど幅広くダンスを学び、Heeldancerとしても舞台・イベントに出演\n??2023 Open Latin Championship Solo Professional 1st ?（Yoko）\n??Japan Bachata Cup 2023\nSolo Ladies Pro Choreography 1st?\nSolo Battle Pro 1st?\nPair Sensual/ Modern Pro Improvisation 1st?(Taku & Yoko) \n＜パフォーマンス①：Desiree Ladies Tokyo>\nBachataインストラクターYouが運営するLadiesBachata Teamです。\n久しぶりのコンセプトへの出演とても楽しみにしています。どうぞよろしくお願いします。\nDLT新メンバーも随時募集していますのでお問い合わせ下さいませ♪ \nclass \n \n＜パフォーマンス②：DATURA NOIR(ダチュラ・ノワール)>\n闇夜に舞うダチュラ\nかつて様々な儀式に使用された、毒や催淫作用を持つ花。\n自ら強いパワーを放ち、周りのエネルギーを吸収しさらに魅力を増すNonni率いる女性シャインチームです。\n貴方を惑わし、心を奪います? \n＜イベント場所：六本木Studio pepe＞\n所在地：東京都港区六本木7-17-12 ビジネスアパートメンツB1(明治屋裏)\n最寄駅：日比谷線六本木駅より徒歩２分（メトロ日比谷線・都営地下鉄大江戸線）\nアクセス：地下鉄日比谷線六本木駅２番出口を出て、一つ目の角、サイゼリアを右折。\nさらにすぐ一つ目の角を右折し、その先のビル（向かって左）のB1F \n※Concept☆Bacha&Sal 次回予定日(2024/4/13(土))
URL:https://dance.gdp22.com/event/club-style-salsa-2022-05-14-2024-02-10/
LOCATION:六本木スタジオペペ\, 東京都港区六本木７丁目１７−１２ 六本木ビジネスアパートメンツ\, 六本木\, 106-0032\, 日本
CATEGORIES:サルサon1,センシュアルバチャータ,サルサon2
ATTACH;FMTTYPE=image/jpeg:https://dance.gdp22.com/wp-content/uploads/0210-1.jpg
END:VEVENT
BEGIN:VEVENT
DTSTART;TZID=Asia/Tokyo:20240113T200000
DTEND;TZID=Asia/Tokyo:20240113T233000
DTSTAMP:20260421T230009
CREATED:20220330T002423Z
LAST-MODIFIED:20240104T030304Z
UID:10174269-1705176000-1705188600@dance.gdp22.com
SUMMARY:Club Style Salsa Vol.153 in PePe
DESCRIPTION:お気に入りに追加 0Club Style Salsa Vol.153 in PePe\nhttps://www.facebook.com/events/624302199749492/ \n  \n今回は素敵なレッスンがあります♪\nOFAFO grp（オファーフォ グループ）主宰、RYU先生によるスペシャルレッスン!!!\nDJタイムはSALSA MAMBO CUBAN BACHATA MERENGUE etc. オールスタイル♪\nDJ yuu\,こぼりん\, nob の３名で盛り上げます!!!\n皆様のご来場を心よりお待ちしています♪\n■料金\n¥1\,800 /1drink Partyのみ\n¥2\,800 /1drink Party＋Lesson\n■タイムスケージュール\n18:50 Open\n19:00 レッスン（90分）\non2シャイン&ペアワーク\non1\,on2\,キューバンの違いも交えながら\n 綺麗で無駄のないベーシックの踏み方と腕の使い方\n ペアワークのターンを上手く回る（回す）コツ\n ソーシャルで1曲通してより楽しく、より気持ちよく踊るための3つのコツ\n※対象　初級以上（スタイルは問いません）\n20:30 DJタイム\n23:30 Close\n■レッスン\n◆RYU\nOFAFO grp（オファーフォ グループ）主宰。 SALSA ダンサー・インストラクター・コリオグラファー暦23年。\n世界最大のウエストコーストサルサコングレスではアジアで初めてベストダンサー賞受賞。\nラスベガスで開催されたワールドサルサチャンピオンシップでは唯一の日本代表として参加しファイナリストとなる。\n踊ること教えることを愛してやまない『理論』と『遊び』を兼ね備えた注目のサルサソーシャリスト。\n■DJ yuu\n■DJ こぼりん\n只今DJ修行中ですが、張り切りますのでぜひぜひ踊りに来てください！\n■DJ nob (Club Style Salsa)\n2002年にSalsaに出会い、ソーシャルダンスに明け暮れ、ダンスに飽き足らずDJ活動を経て2013年よりイベントClub Style Salsaを立ち上げる。2023年、現在ではpepeレギュラーイベントを通じて、スタイル問わずソーシャルダンサー、DJ、インストラクター、ミュージシャンと交流をかさね、サルサラバーのひとりとして精進中。\n●イベント場所：六本木Studio pepe2●\n所在地：東京都港区六本木7-17-12 ビジネスアパートメンツB1(明治屋裏)\n最寄駅：日比谷線六本木駅より徒歩2分\n（メトロ日比谷線・都営地下鉄大江戸線）\nアクセス：地下鉄日比谷線六本木駅2番出口を出て、一つ目の角、サイゼリアを右折。さらにすぐ一つ目の角を右折し、その先のビル（向かって左）のB1F\nイベント詳細はFacebookまたはGoogle「club style salsa」で検索。
URL:https://dance.gdp22.com/event/club-style-salsa-2022-05-14-2024-01-13/
LOCATION:六本木スタジオペペ\, 東京都港区六本木７丁目１７−１２ 六本木ビジネスアパートメンツ\, 六本木\, 106-0032\, 日本
CATEGORIES:サルサon1,センシュアルバチャータ,サルサon2
ATTACH;FMTTYPE=image/jpeg:https://dance.gdp22.com/wp-content/uploads/0113-1.jpg
END:VEVENT
END:VCALENDAR