BEGIN:VCALENDAR
VERSION:2.0
PRODID:-//Dancing Pono (ダンシングポノ) - ECPv6.15.12//NONSGML v1.0//EN
CALSCALE:GREGORIAN
METHOD:PUBLISH
X-WR-CALNAME:Dancing Pono (ダンシングポノ)
X-ORIGINAL-URL:https://dance.gdp22.com
X-WR-CALDESC:Dancing Pono (ダンシングポノ) のイベント
REFRESH-INTERVAL;VALUE=DURATION:PT1H
X-Robots-Tag:noindex
X-PUBLISHED-TTL:PT1H
BEGIN:VTIMEZONE
TZID:Asia/Tokyo
BEGIN:STANDARD
TZOFFSETFROM:+0900
TZOFFSETTO:+0900
TZNAME:JST
DTSTART:20250101T000000
END:STANDARD
END:VTIMEZONE
BEGIN:VEVENT
DTSTART;TZID=Asia/Tokyo:20260223T193000
DTEND;TZID=Asia/Tokyo:20260223T230000
DTSTAMP:20260422T084745
CREATED:20260225T083745Z
LAST-MODIFIED:20260225T083745Z
UID:10303716-1771875000-1771887600@dance.gdp22.com
SUMMARY:一曲入魂
DESCRIPTION:お気に入りに追加 0一曲入魂
URL:https://dance.gdp22.com/event/dance-124535/
LOCATION:小伝馬町スタジオJBA\, 東京都中央区日本橋大伝馬町１１−８ ＨＡＴビル B1F\, 小伝馬町\, 103-0011\, 日本
CATEGORIES:バチャータ全般,サルサ全般
END:VEVENT
END:VCALENDAR